{"text_format":"2","workbook":"xlsx","n_sheets":4,"sheets":["Input and Output","Calculation","Lin_parameters_wd","Lin_parameters_wknd"],"not_rendered":{"charts":1,"images":6,"macros":0,"external_links":0,"defined_names":0,"comments":0,"pivot_tables":0},"unopened":[],"bounds":{"document_bytes":16777216,"sheet_cells":100000,"run_cost":"one","rows_first":2000,"rows_last":500,"rows_between":2000,"halvings":0,"cell_chars":16384,"cell_head_chars":4096},"cells_cut":0,"cells_raw":0,"read":"whole","date_system":"1900"}

{"sheet":"Input and Output","index":0,"n_rows":400,"n_cols":6,"rows_kept":400,"cut":false,"hidden":false,"merged":[[32,1,32,2],[32,4,32,10],[6,1,6,8],[26,1,26,2],[7,1,24,8]]}
[]
[]
[]
[]
[]
[]
[null,"This tool was developed within Subtask A \"Integrated Energy System\" of IEA SHC Task 64 \"Solar Process Heat\". The underlying database and methodology is described in the Deliverable D.A1 \"Reference applications for renewable heat\". \nIt can be used to define an annual heat load profile with a daily resolution for industrial consumers. "]
[null,"How to use this tool? \nEnter all required information to the yellow marked cells. Choose from four possible clusters for working days (wd) and five possible clusters \nfor weekends and holidays (wknd). The respective location can be chosen by inserting an annual ambient temperature profile. The dependency of daily heat demand on ambient temperature is increasing from clusters 0 to 3 or 0 to 4 (see Figure 1)."]
{"$rows_empty":18}
[null,"Enter load profile parameters."]
[null,"wd cluster",2]
[null,"wknd cluster",3]
[null,"Qyear [MWh/a]",300]
[null,"Year",2016]
[]
[null,"Enter an annual ambient \ntemperature profile.",null,null,"Results"]
[null,"Day","Mean daily ambient temperature \nin °C",null,"Qnorm,day \nin -","Qday \nin MWh/d"]
[null,{"$f":"Calculation!A2","v":"2016-01-01"},4.5999999999999996,null,{"$f":"Calculation!K2","v":0.96481799206354169},{"$f":"Calculation!L2","v":1.0361573344246957}]
[null,{"$f":"Calculation!A3","v":"2016-01-02"},1.8,null,{"$f":"Calculation!K3","v":1.1756881350781208},{"$f":"Calculation!L3","v":1.2626193688115408}]
[null,{"$f":"Calculation!A4","v":"2016-01-03"},0.7,null,{"$f":"Calculation!K4","v":1.7047494869148603},{"$f":"Calculation!L4","v":1.8307999008659002}]
[null,{"$f":"Calculation!A5","v":"2016-01-04"},0.1,null,{"$f":"Calculation!K5","v":1.762340338835005},{"$f":"Calculation!L5","v":1.8926490621623187}]
[null,{"$f":"Calculation!A6","v":"2016-01-05"},3.8,null,{"$f":"Calculation!K6","v":1.4071967519941131},{"$f":"Calculation!L6","v":1.5112459008344059}]
[null,{"$f":"Calculation!A7","v":"2016-01-06"},1.8,null,{"$f":"Calculation!K7","v":1.5991662583945951},{"$f":"Calculation!L7","v":1.7174097718224668}]
[null,{"$f":"Calculation!A8","v":"2016-01-07"},3.1,null,{"$f":"Calculation!K8","v":1.4743860792342818},{"$f":"Calculation!L8","v":1.5834032556802271}]
[null,{"$f":"Calculation!A9","v":"2016-01-08"},4.3,null,{"$f":"Calculation!K9","v":0.9874112216722466},{"$f":"Calculation!L9","v":1.0604211238232861}]
[null,{"$f":"Calculation!A10","v":"2016-01-09"},1,null,{"$f":"Calculation!K10","v":1.2359367473680003},{"$f":"Calculation!L10","v":1.3273228072077818}]
[null,{"$f":"Calculation!A11","v":"2016-01-10"},5.6,null,{"$f":"Calculation!K11","v":1.2344241962336793},{"$f":"Calculation!L11","v":1.3256984169451509}]
[null,{"$f":"Calculation!A12","v":"2016-01-11"},4.5,null,{"$f":"Calculation!K12","v":1.3400074247539444},{"$f":"Calculation!L12","v":1.4390885459885845}]
[null,{"$f":"Calculation!A13","v":"2016-01-12"},4.8,null,{"$f":"Calculation!K13","v":1.3112119987938722},{"$f":"Calculation!L13","v":1.4081639653403755}]
[null,{"$f":"Calculation!A14","v":"2016-01-13"},3.8,null,{"$f":"Calculation!K14","v":1.4071967519941131},{"$f":"Calculation!L14","v":1.5112459008344059}]
[null,{"$f":"Calculation!A15","v":"2016-01-14"},2,null,{"$f":"Calculation!K15","v":1.5799693077545469},{"$f":"Calculation!L15","v":1.6967933847236607}]
[null,{"$f":"Calculation!A16","v":"2016-01-15"},1.5,null,{"$f":"Calculation!K16","v":1.1982813646868256},{"$f":"Calculation!L16","v":1.2868831582101312}]
[null,{"$f":"Calculation!A17","v":"2016-01-16"},0.4,null,{"$f":"Calculation!K17","v":1.2811232065854101},{"$f":"Calculation!L17","v":1.3758503860049629}]
[null,{"$f":"Calculation!A18","v":"2016-01-17"},-1.6,null,{"$f":"Calculation!K18","v":1.9255144192754146},{"$f":"Calculation!L18","v":2.0678883525021705}]
[null,{"$f":"Calculation!A19","v":"2016-01-18"},-5.3,null,{"$f":"Calculation!K19","v":2.2806580061163064},{"$f":"Calculation!L19","v":2.449291513830083}]
[null,{"$f":"Calculation!A20","v":"2016-01-19"},-7.3,null,{"$f":"Calculation!K20","v":2.4726275125167883},{"$f":"Calculation!L20","v":2.6554553848181439}]
[null,{"$f":"Calculation!A21","v":"2016-01-20"},-3.3,null,{"$f":"Calculation!K21","v":2.0886884997158242},{"$f":"Calculation!L21","v":2.2431276428420217}]
[null,{"$f":"Calculation!A22","v":"2016-01-21"},-4.2,null,{"$f":"Calculation!K22","v":2.1750747775960413},{"$f":"Calculation!L22","v":2.3359013847866494}]
[null,{"$f":"Calculation!A23","v":"2016-01-22"},-6.4,null,{"$f":"Calculation!K23","v":1.7932364110493877},{"$f":"Calculation!L23","v":1.9258296123730152}]
[null,{"$f":"Calculation!A24","v":"2016-01-23"},1,null,{"$f":"Calculation!K24","v":1.2359367473680003},{"$f":"Calculation!L24","v":1.3273228072077818}]
[null,{"$f":"Calculation!A25","v":"2016-01-24"},3.4,null,{"$f":"Calculation!K25","v":1.4455906532742095},{"$f":"Calculation!L25","v":1.5524786750320181}]
[null,{"$f":"Calculation!A26","v":"2016-01-25"},6.5,null,{"$f":"Calculation!K26","v":1.1480379183534626},{"$f":"Calculation!L26","v":1.2329246750005238}]
[null,{"$f":"Calculation!A27","v":"2016-01-26"},7.7,null,{"$f":"Calculation!K27","v":1.0328562145131732},{"$f":"Calculation!L27","v":1.1092263524076871}]
[null,{"$f":"Calculation!A28","v":"2016-01-27"},9.4,null,{"$f":"Calculation!K28","v":0.86968213407276351},{"$f":"Calculation!L28","v":0.93398706206783522}]
[null,{"$f":"Calculation!A29","v":"2016-01-28"},7.3,null,{"$f":"Calculation!K29","v":1.0712501157932697},{"$f":"Calculation!L29","v":1.1504591266052995}]
[null,{"$f":"Calculation!A30","v":"2016-01-29"},4.9000000000000004,null,{"$f":"Calculation!K30","v":0.94222476245483677},{"$f":"Calculation!L30","v":1.0118935450261051}]
[null,{"$f":"Calculation!A31","v":"2016-01-30"},6.1,null,{"$f":"Calculation!K31","v":0.85185184402001723},{"$f":"Calculation!L31","v":0.91483838743174284}]
[null,{"$f":"Calculation!A32","v":"2016-01-31"},3.9,null,{"$f":"Calculation!K32","v":1.3975982766740891},{"$f":"Calculation!L32","v":1.500937707285003}]
[null,{"$f":"Calculation!A33","v":"2016-02-01"},10.1,null,{"$f":"Calculation!K33","v":0.80249280683259494},{"$f":"Calculation!L33","v":0.86182970722201413}]
[null,{"$f":"Calculation!A34","v":"2016-02-02"},8.3000000000000007,null,{"$f":"Calculation!K34","v":0.97526536259302865},{"$f":"Calculation!L34","v":1.047377191111269}]
[null,{"$f":"Calculation!A35","v":"2016-02-03"},4.4000000000000004,null,{"$f":"Calculation!K35","v":1.3496059000739686},{"$f":"Calculation!L35","v":1.4493967395379879}]
[null,{"$f":"Calculation!A36","v":"2016-02-04"},2.7,null,{"$f":"Calculation!K36","v":1.5127799805143782},{"$f":"Calculation!L36","v":1.6246360298778393}]
[null,{"$f":"Calculation!A37","v":"2016-02-05"},4.4000000000000004,null,{"$f":"Calculation!K37","v":0.97988014513601152},{"$f":"Calculation!L37","v":1.0523331940237559}]
[null,{"$f":"Calculation!A38","v":"2016-02-06"},8.5,null,{"$f":"Calculation!K38","v":0.67110600715037805},{"$f":"Calculation!L38","v":0.7207280722430186}]
[null,{"$f":"Calculation!A39","v":"2016-02-07"},8.1999999999999993,null,{"$f":"Calculation!K39","v":0.98486383791305288},{"$f":"Calculation!L39","v":1.057685384660672}]
[null,{"$f":"Calculation!A40","v":"2016-02-08"},6.9,null,{"$f":"Calculation!K40","v":1.1096440170733661},{"$f":"Calculation!L40","v":1.1916919008029114}]
[null,{"$f":"Calculation!A41","v":"2016-02-09"},6.4,null,{"$f":"Calculation!K41","v":1.1576363936734866},{"$f":"Calculation!L41","v":1.2432328685499268}]
[null,{"$f":"Calculation!A42","v":"2016-02-10"},3.2,null,{"$f":"Calculation!K42","v":1.4647876039142578},{"$f":"Calculation!L42","v":1.5730950621308242}]
[null,{"$f":"Calculation!A43","v":"2016-02-11"},3.7,null,{"$f":"Calculation!K43","v":1.4167952273141373},{"$f":"Calculation!L43","v":1.5215540943838088}]
[null,{"$f":"Calculation!A44","v":"2016-02-12"},2.7,null,{"$f":"Calculation!K44","v":1.1079084462520059},{"$f":"Calculation!L44","v":1.1898280006157689}]
[null,{"$f":"Calculation!A45","v":"2016-02-13"},2,null,{"$f":"Calculation!K45","v":1.1606259820056508},{"$f":"Calculation!L45","v":1.2464435092124804}]
[null,{"$f":"Calculation!A46","v":"2016-02-14"},4,null,{"$f":"Calculation!K46","v":1.3879998013540651},{"$f":"Calculation!L46","v":1.4906295137355998}]
[null,{"$f":"Calculation!A47","v":"2016-02-15"},1.5,null,{"$f":"Calculation!K47","v":1.6279616843546676},{"$f":"Calculation!L47","v":1.7483343524706763}]
[null,{"$f":"Calculation!A48","v":"2016-02-16"},-1,null,{"$f":"Calculation!K48","v":1.8679235673552699},{"$f":"Calculation!L48","v":2.006039191205752}]
[null,{"$f":"Calculation!A49","v":"2016-02-17"},0.5,null,{"$f":"Calculation!K49","v":1.7239464375549085},{"$f":"Calculation!L49","v":1.8514162879647065}]
[null,{"$f":"Calculation!A50","v":"2016-02-18"},1.8,null,{"$f":"Calculation!K50","v":1.5991662583945951},{"$f":"Calculation!L50","v":1.7174097718224668}]
[null,{"$f":"Calculation!A51","v":"2016-02-19"},1,null,{"$f":"Calculation!K51","v":1.2359367473680003},{"$f":"Calculation!L51","v":1.3273228072077818}]
[null,{"$f":"Calculation!A52","v":"2016-02-20"},3.3,null,{"$f":"Calculation!K52","v":1.0627219870345963},{"$f":"Calculation!L52","v":1.141300421818588}]
[null,{"$f":"Calculation!A53","v":"2016-02-21"},10,null,{"$f":"Calculation!K53","v":0.81209128215261894},{"$f":"Calculation!L53","v":0.87213790077141717}]
[null,{"$f":"Calculation!A54","v":"2016-02-22"},7.8,null,{"$f":"Calculation!K54","v":1.0232577391931492},{"$f":"Calculation!L54","v":1.0989181588582841}]
[null,{"$f":"Calculation!A55","v":"2016-02-23"},3.9,null,{"$f":"Calculation!K55","v":1.3975982766740891},{"$f":"Calculation!L55","v":1.500937707285003}]
[null,{"$f":"Calculation!A56","v":"2016-02-24"},2.8,null,{"$f":"Calculation!K56","v":1.5031815051943542},{"$f":"Calculation!L56","v":1.6143278363284366}]
[null,{"$f":"Calculation!A57","v":"2016-02-25"},0.7,null,{"$f":"Calculation!K57","v":1.7047494869148603},{"$f":"Calculation!L57","v":1.8307999008659002}]
[null,{"$f":"Calculation!A58","v":"2016-02-26"},1.3,null,{"$f":"Calculation!K58","v":1.2133435177592955},{"$f":"Calculation!L58","v":1.3030590178091916}]
[null,{"$f":"Calculation!A59","v":"2016-02-27"},1.6,null,{"$f":"Calculation!K59","v":1.1907502881505905},{"$f":"Calculation!L59","v":1.2787952284106008}]
[null,{"$f":"Calculation!A60","v":"2016-02-28"},1.3,null,{"$f":"Calculation!K60","v":1.6471586349947156},{"$f":"Calculation!L60","v":1.7689507395694819}]
[null,{"$f":"Calculation!A61","v":"2016-02-29"},1.9,null,{"$f":"Calculation!K61","v":1.5895677830745711},{"$f":"Calculation!L61","v":1.7071015782730639}]
[null,{"$f":"Calculation!A62","v":"2016-03-01"},0.9,null,{"$f":"Calculation!K62","v":1.6855525362748121},{"$f":"Calculation!L62","v":1.8101835137670943}]
[null,{"$f":"Calculation!A63","v":"2016-03-02"},4,null,{"$f":"Calculation!K63","v":1.3879998013540651},{"$f":"Calculation!L63","v":1.4906295137355998}]
[null,{"$f":"Calculation!A64","v":"2016-03-03"},3.9,null,{"$f":"Calculation!K64","v":1.3975982766740891},{"$f":"Calculation!L64","v":1.500937707285003}]
[null,{"$f":"Calculation!A65","v":"2016-03-04"},3.4,null,{"$f":"Calculation!K65","v":1.0551909104983612},{"$f":"Calculation!L65","v":1.1332124920190578}]
[null,{"$f":"Calculation!A66","v":"2016-03-05"},4.8,null,{"$f":"Calculation!K66","v":0.94975583899107174},{"$f":"Calculation!L66","v":1.0199814748256353}]
[null,{"$f":"Calculation!A67","v":"2016-03-06"},2.9,null,{"$f":"Calculation!K67","v":1.49358302987433},{"$f":"Calculation!L67","v":1.6040196427790332}]
[null,{"$f":"Calculation!A68","v":"2016-03-07"},1.7,null,{"$f":"Calculation!K68","v":1.6087647337146194},{"$f":"Calculation!L68","v":1.7277179653718699}]
[null,{"$f":"Calculation!A69","v":"2016-03-08"},1.3,null,{"$f":"Calculation!K69","v":1.6471586349947156},{"$f":"Calculation!L69","v":1.7689507395694819}]
[null,{"$f":"Calculation!A70","v":"2016-03-09"},3.4,null,{"$f":"Calculation!K70","v":1.4455906532742095},{"$f":"Calculation!L70","v":1.5524786750320181}]
[null,{"$f":"Calculation!A71","v":"2016-03-10"},3.4,null,{"$f":"Calculation!K71","v":1.4455906532742095},{"$f":"Calculation!L71","v":1.5524786750320181}]
[null,{"$f":"Calculation!A72","v":"2016-03-11"},4.9000000000000004,null,{"$f":"Calculation!K72","v":0.94222476245483677},{"$f":"Calculation!L72","v":1.0118935450261051}]
[null,{"$f":"Calculation!A73","v":"2016-03-12"},3.4,null,{"$f":"Calculation!K73","v":1.0551909104983612},{"$f":"Calculation!L73","v":1.1332124920190578}]
[null,{"$f":"Calculation!A74","v":"2016-03-13"},3.4,null,{"$f":"Calculation!K74","v":1.4455906532742095},{"$f":"Calculation!L74","v":1.5524786750320181}]
[null,{"$f":"Calculation!A75","v":"2016-03-14"},4.5999999999999996,null,{"$f":"Calculation!K75","v":1.3304089494339204},{"$f":"Calculation!L75","v":1.4287803524391816}]
[null,{"$f":"Calculation!A76","v":"2016-03-15"},4.0999999999999996,null,{"$f":"Calculation!K76","v":1.3784013260340409},{"$f":"Calculation!L76","v":1.4803213201861969}]
[null,{"$f":"Calculation!A77","v":"2016-03-16"},4.9000000000000004,null,{"$f":"Calculation!K77","v":1.301613523473848},{"$f":"Calculation!L77","v":1.3978557717909723}]
[null,{"$f":"Calculation!A78","v":"2016-03-17"},6.6,null,{"$f":"Calculation!K78","v":1.1384394430334384},{"$f":"Calculation!L78","v":1.2226164814511205}]
[null,{"$f":"Calculation!A79","v":"2016-03-18"},3.4,null,{"$f":"Calculation!K79","v":1.0551909104983612},{"$f":"Calculation!L79","v":1.1332124920190578}]
[null,{"$f":"Calculation!A80","v":"2016-03-19"},4.9000000000000004,null,{"$f":"Calculation!K80","v":0.94222476245483677},{"$f":"Calculation!L80","v":1.0118935450261051}]
[null,{"$f":"Calculation!A81","v":"2016-03-20"},5.8,null,{"$f":"Calculation!K81","v":1.2152272455936313},{"$f":"Calculation!L81","v":1.305082029846345}]
[null,{"$f":"Calculation!A82","v":"2016-03-21"},6.3,null,{"$f":"Calculation!K82","v":1.1672348689935106},{"$f":"Calculation!L82","v":1.2535410620993297}]
[null,{"$f":"Calculation!A83","v":"2016-03-22"},6.2,null,{"$f":"Calculation!K83","v":1.1768333443135348},{"$f":"Calculation!L83","v":1.2638492556487328}]
[null,{"$f":"Calculation!A84","v":"2016-03-23"},6.5,null,{"$f":"Calculation!K84","v":1.1480379183534626},{"$f":"Calculation!L84","v":1.2329246750005238}]
[null,{"$f":"Calculation!A85","v":"2016-03-24"},6.3,null,{"$f":"Calculation!K85","v":1.1672348689935106},{"$f":"Calculation!L85","v":1.2535410620993297}]
[null,{"$f":"Calculation!A86","v":"2016-03-25"},6,null,{"$f":"Calculation!K86","v":0.85938292055625221},{"$f":"Calculation!L86","v":0.92292631723127305}]
[null,{"$f":"Calculation!A87","v":"2016-03-26"},9,null,{"$f":"Calculation!K87","v":0.63345062446920331},{"$f":"Calculation!L87","v":0.68028842324536776}]
[null,{"$f":"Calculation!A88","v":"2016-03-27"},8.6,null,{"$f":"Calculation!K88","v":0.94646993663295642},{"$f":"Calculation!L88","v":1.0164526104630598}]
[null,{"$f":"Calculation!A89","v":"2016-03-28"},7.5,null,{"$f":"Calculation!K89","v":1.0520531651532214},{"$f":"Calculation!L89","v":1.1298427395064932}]
[null,{"$f":"Calculation!A90","v":"2016-03-29"},7.2,null,{"$f":"Calculation!K90","v":1.0808485911132939},{"$f":"Calculation!L90","v":1.1607673201547024}]
[null,{"$f":"Calculation!A91","v":"2016-03-30"},8.6,null,{"$f":"Calculation!K91","v":0.94646993663295642},{"$f":"Calculation!L91","v":1.0164526104630598}]
[null,{"$f":"Calculation!A92","v":"2016-03-31"},6.1,null,{"$f":"Calculation!K92","v":1.186431819633559},{"$f":"Calculation!L92","v":1.274157449198136}]
[null,{"$f":"Calculation!A93","v":"2016-04-01"},7.6,null,{"$f":"Calculation!K93","v":0.73888569597649278},{"$f":"Calculation!L93","v":0.7935194404387903}]
[null,{"$f":"Calculation!A94","v":"2016-04-02"},10,null,{"$f":"Calculation!K94","v":0.5581398591068536},{"$f":"Calculation!L94","v":0.59940912525006584}]
[null,{"$f":"Calculation!A95","v":"2016-04-03"},14.1,null,{"$f":"Calculation!K95","v":0.41855379403163084},{"$f":"Calculation!L95","v":0.44950196524589225}]
[null,{"$f":"Calculation!A96","v":"2016-04-04"},14.9,null,{"$f":"Calculation!K96","v":0.34176599147143816},{"$f":"Calculation!L96","v":0.36703641685066801}]
[null,{"$f":"Calculation!A97","v":"2016-04-05"},12.4,null,{"$f":"Calculation!K97","v":0.58172787447204066},{"$f":"Calculation!L97","v":0.62474125558574412}]
[null,{"$f":"Calculation!A98","v":"2016-04-06"},11.1,null,{"$f":"Calculation!K98","v":0.70650805363235403},{"$f":"Calculation!L98","v":0.7587477717279838}]
[null,{"$f":"Calculation!A99","v":"2016-04-07"},9,null,{"$f":"Calculation!K99","v":0.90807603535285997},{"$f":"Calculation!L99","v":0.97521983626544761}]
[null,{"$f":"Calculation!A100","v":"2016-04-08"},7.6,null,{"$f":"Calculation!K100","v":0.73888569597649278},{"$f":"Calculation!L100","v":0.7935194404387903}]
[null,{"$f":"Calculation!A101","v":"2016-04-09"},9.5,null,{"$f":"Calculation!K101","v":0.59579524178802845},{"$f":"Calculation!L101","v":0.6398487742477168}]
[null,{"$f":"Calculation!A102","v":"2016-04-10"},11.9,null,{"$f":"Calculation!K102","v":0.62972025107216112},{"$f":"Calculation!L102","v":0.67628222333275934}]
[null,{"$f":"Calculation!A103","v":"2016-04-11"},9.9,null,{"$f":"Calculation!K103","v":0.82168975747264306},{"$f":"Calculation!L103","v":0.88244609432082011}]
[null,{"$f":"Calculation!A104","v":"2016-04-12"},10.7,null,{"$f":"Calculation!K104","v":0.74490195491245026},{"$f":"Calculation!L104","v":0.79998054592559575}]
[null,{"$f":"Calculation!A105","v":"2016-04-13"},10,null,{"$f":"Calculation!K105","v":0.81209128215261894},{"$f":"Calculation!L105","v":0.87213790077141717}]
[null,{"$f":"Calculation!A106","v":"2016-04-14"},11.5,null,{"$f":"Calculation!K106","v":0.66811415235225757},{"$f":"Calculation!L106","v":0.71751499753037162}]
[null,{"$f":"Calculation!A107","v":"2016-04-15"},11.4,null,{"$f":"Calculation!K107","v":0.45270478759956412},{"$f":"Calculation!L107","v":0.48617810805664347}]
[null,{"$f":"Calculation!A108","v":"2016-04-16"},10.9,null,{"$f":"Calculation!K108","v":0.49036017028073897},{"$f":"Calculation!L108","v":0.52661775705429437}]
[null,{"$f":"Calculation!A109","v":"2016-04-17"},8,null,{"$f":"Calculation!K109","v":1.004060788553101},{"$f":"Calculation!L109","v":1.0783017717594781}]
[null,{"$f":"Calculation!A110","v":"2016-04-18"},8.1,null,{"$f":"Calculation!K110","v":0.99446231323307688},{"$f":"Calculation!L110","v":1.0679935782100749}]
[null,{"$f":"Calculation!A111","v":"2016-04-19"},10,null,{"$f":"Calculation!K111","v":0.81209128215261894},{"$f":"Calculation!L111","v":0.87213790077141717}]
[null,{"$f":"Calculation!A112","v":"2016-04-20"},8.6,null,{"$f":"Calculation!K112","v":0.94646993663295642},{"$f":"Calculation!L112","v":1.0164526104630598}]
[null,{"$f":"Calculation!A113","v":"2016-04-21"},11.7,null,{"$f":"Calculation!K113","v":0.64891720171220935},{"$f":"Calculation!L113","v":0.69689861043156542}]
[null,{"$f":"Calculation!A114","v":"2016-04-22"},10.3,null,{"$f":"Calculation!K114","v":0.53554662949814869},{"$f":"Calculation!L114","v":0.57514533585147531}]
[null,{"$f":"Calculation!A115","v":"2016-04-23"},6.1,null,{"$f":"Calculation!K115","v":0.85185184402001723},{"$f":"Calculation!L115","v":0.91483838743174284}]
[null,{"$f":"Calculation!A116","v":"2016-04-24"},3.4,null,{"$f":"Calculation!K116","v":1.4455906532742095},{"$f":"Calculation!L116","v":1.5524786750320181}]
[null,{"$f":"Calculation!A117","v":"2016-04-25"},4.3,null,{"$f":"Calculation!K117","v":1.3592043753939926},{"$f":"Calculation!L117","v":1.4597049330873906}]
[null,{"$f":"Calculation!A118","v":"2016-04-26"},4.5999999999999996,null,{"$f":"Calculation!K118","v":1.3304089494339204},{"$f":"Calculation!L118","v":1.4287803524391816}]
[null,{"$f":"Calculation!A119","v":"2016-04-27"},4.5999999999999996,null,{"$f":"Calculation!K119","v":1.3304089494339204},{"$f":"Calculation!L119","v":1.4287803524391816}]
[null,{"$f":"Calculation!A120","v":"2016-04-28"},5.9,null,{"$f":"Calculation!K120","v":1.205628770273607},{"$f":"Calculation!L120","v":1.2947738362969419}]
[null,{"$f":"Calculation!A121","v":"2016-04-29"},7.6,null,{"$f":"Calculation!K121","v":0.73888569597649278},{"$f":"Calculation!L121","v":0.7935194404387903}]
[null,{"$f":"Calculation!A122","v":"2016-04-30"},8.9,null,{"$f":"Calculation!K122","v":0.64098170100543816},{"$f":"Calculation!L122","v":0.68837635304489786}]
[null,{"$f":"Calculation!A123","v":"2016-05-01"},11.7,null,{"$f":"Calculation!K123","v":0.64891720171220935},{"$f":"Calculation!L123","v":0.69689861043156542}]
[null,{"$f":"Calculation!A124","v":"2016-05-02"},14.3,null,{"$f":"Calculation!K124","v":0.39935684339158262},{"$f":"Calculation!L124","v":0.42888557814708617}]
[null,{"$f":"Calculation!A125","v":"2016-05-03"},10,null,{"$f":"Calculation!K125","v":0.81209128215261894},{"$f":"Calculation!L125","v":0.87213790077141717}]
[null,{"$f":"Calculation!A126","v":"2016-05-04"},9.6,null,{"$f":"Calculation!K126","v":0.8504851834327154},{"$f":"Calculation!L126","v":0.91337067496902935}]
[null,{"$f":"Calculation!A127","v":"2016-05-05"},12.6,null,{"$f":"Calculation!K127","v":0.56253092383199244},{"$f":"Calculation!L127","v":0.60412486848693803}]
[null,{"$f":"Calculation!A128","v":"2016-05-06"},17.899999999999999,null,{"$f":"Calculation!K128","v":0.12050137169309494},{"$f":"Calculation!L128","v":0.12941133054638734}]
[null,{"$f":"Calculation!A129","v":"2016-05-07"},19.5,null,{"$f":"Calculation!K129","v":0.10488185307920453},{"$f":"Calculation!L129","v":0.11263689339337485}]
[null,{"$f":"Calculation!A130","v":"2016-05-08"},19.2,null,{"$f":"Calculation!K130","v":0.16207078936113556},{"$f":"Calculation!L130","v":0.17405442111767835}]
[null,{"$f":"Calculation!A131","v":"2016-05-09"},19.600000000000001,null,{"$f":"Calculation!K131","v":0.15696820760257252},{"$f":"Calculation!L131","v":0.16857455076168631}]
[null,{"$f":"Calculation!A132","v":"2016-05-10"},19.899999999999999,null,{"$f":"Calculation!K132","v":0.15314127128365029},{"$f":"Calculation!L132","v":0.16446464799469238}]
[null,{"$f":"Calculation!A133","v":"2016-05-11"},19.399999999999999,null,{"$f":"Calculation!K133","v":0.15951949848185404},{"$f":"Calculation!L133","v":0.17131448593968235}]
[null,{"$f":"Calculation!A134","v":"2016-05-12"},19.8,null,{"$f":"Calculation!K134","v":0.154416916723291},{"$f":"Calculation!L134","v":0.16583461558369031}]
[null,{"$f":"Calculation!A135","v":"2016-05-13"},17.899999999999999,null,{"$f":"Calculation!K135","v":0.12050137169309494},{"$f":"Calculation!L135","v":0.12941133054638734}]
[null,{"$f":"Calculation!A136","v":"2016-05-14"},9.3000000000000007,null,{"$f":"Calculation!K136","v":0.61085739486049828},{"$f":"Calculation!L136","v":0.65602463384677712}]
[null,{"$f":"Calculation!A137","v":"2016-05-15"},8,null,{"$f":"Calculation!K137","v":1.004060788553101},{"$f":"Calculation!L137","v":1.0783017717594781}]
[null,{"$f":"Calculation!A138","v":"2016-05-16"},9.3000000000000007,null,{"$f":"Calculation!K138","v":0.87928060939278763},{"$f":"Calculation!L138","v":0.94429525561723837}]
[null,{"$f":"Calculation!A139","v":"2016-05-17"},11.5,null,{"$f":"Calculation!K139","v":0.66811415235225757},{"$f":"Calculation!L139","v":0.71751499753037162}]
[null,{"$f":"Calculation!A140","v":"2016-05-18"},14.1,null,{"$f":"Calculation!K140","v":0.41855379403163084},{"$f":"Calculation!L140","v":0.44950196524589225}]
[null,{"$f":"Calculation!A141","v":"2016-05-19"},13.6,null,{"$f":"Calculation!K141","v":0.46654617063175152},{"$f":"Calculation!L141","v":0.5010429329929077}]
[null,{"$f":"Calculation!A142","v":"2016-05-20"},14.6,null,{"$f":"Calculation!K142","v":0.21171033844004539},{"$f":"Calculation!L142","v":0.22736435447167788}]
[null,{"$f":"Calculation!A143","v":"2016-05-21"},17.5,null,{"$f":"Calculation!K143","v":0.12440625134656755},{"$f":"Calculation!L143","v":0.1336049398346405}]
[null,{"$f":"Calculation!A144","v":"2016-05-22"},20,null,{"$f":"Calculation!K144","v":0.15186562584400948},{"$f":"Calculation!L144","v":0.1630946804056943}]
[null,{"$f":"Calculation!A145","v":"2016-05-23"},15.5,null,{"$f":"Calculation!K145","v":0.28417513955129348},{"$f":"Calculation!L145","v":0.30518725555424964}]
[null,{"$f":"Calculation!A146","v":"2016-05-24"},11.1,null,{"$f":"Calculation!K146","v":0.70650805363235403},{"$f":"Calculation!L146","v":0.7587477717279838}]
[null,{"$f":"Calculation!A147","v":"2016-05-25"},12.7,null,{"$f":"Calculation!K147","v":0.55293244851196843},{"$f":"Calculation!L147","v":0.59381667493753509}]
[null,{"$f":"Calculation!A148","v":"2016-05-26"},16.3,null,{"$f":"Calculation!K148","v":0.20738733699110057},{"$f":"Calculation!L148","v":0.2227217071590252}]
[null,{"$f":"Calculation!A149","v":"2016-05-27"},17.2,null,{"$f":"Calculation!K149","v":0.127334911086672},{"$f":"Calculation!L149","v":0.13675014680083034}]
[null,{"$f":"Calculation!A150","v":"2016-05-28"},18.8,null,{"$f":"Calculation!K150","v":0.11171539247278156},{"$f":"Calculation!L150","v":0.1199757096478178}]
[null,{"$f":"Calculation!A151","v":"2016-05-29"},19.100000000000001,null,{"$f":"Calculation!K151","v":0.16334643480077626},{"$f":"Calculation!L151","v":0.17542438870667629}]
[null,{"$f":"Calculation!A152","v":"2016-05-30"},18.3,null,{"$f":"Calculation!K152","v":0.17355159831790232},{"$f":"Calculation!L152","v":0.18638412941866034}]
[null,{"$f":"Calculation!A153","v":"2016-05-31"},18.8,null,{"$f":"Calculation!K153","v":0.16717337111969854},{"$f":"Calculation!L153","v":0.17953429147367031}]
[null,{"$f":"Calculation!A154","v":"2016-06-01"},17,null,{"$f":"Calculation!K154","v":0.19013498903323212},{"$f":"Calculation!L154","v":0.20419370807563436}]
[null,{"$f":"Calculation!A155","v":"2016-06-02"},17.899999999999999,null,{"$f":"Calculation!K155","v":0.17865418007646536},{"$f":"Calculation!L155","v":0.19186399977465235}]
[null,{"$f":"Calculation!A156","v":"2016-06-03"},18.8,null,{"$f":"Calculation!K156","v":0.11171539247278156},{"$f":"Calculation!L156","v":0.1199757096478178}]
[null,{"$f":"Calculation!A157","v":"2016-06-04"},20.8,null,{"$f":"Calculation!K157","v":9.2190994205418569E-2},{"$f":"Calculation!L157","v":9.9007663206552174E-2}]
[null,{"$f":"Calculation!A158","v":"2016-06-05"},21.2,null,{"$f":"Calculation!K158","v":0.13655788056832047},{"$f":"Calculation!L158","v":0.14665506933771832}]
[null,{"$f":"Calculation!A159","v":"2016-06-06"},22.5,null,{"$f":"Calculation!K159","v":0.11997448985299064},{"$f":"Calculation!L159","v":0.12884549068074427}]
[null,{"$f":"Calculation!A160","v":"2016-06-07"},22.3,null,{"$f":"Calculation!K160","v":0.12252578073227216},{"$f":"Calculation!L160","v":0.13158542585874031}]
[null,{"$f":"Calculation!A161","v":"2016-06-08"},20,null,{"$f":"Calculation!K161","v":0.15186562584400948},{"$f":"Calculation!L161","v":0.1630946804056943}]
[null,{"$f":"Calculation!A162","v":"2016-06-09"},15.2,null,{"$f":"Calculation!K162","v":0.31297056551136593},{"$f":"Calculation!L162","v":0.33611183620245899}]
[null,{"$f":"Calculation!A163","v":"2016-06-10"},17.3,null,{"$f":"Calculation!K163","v":0.12635869117330384},{"$f":"Calculation!L163","v":0.13570174447876704}]
[null,{"$f":"Calculation!A164","v":"2016-06-11"},17.8,null,{"$f":"Calculation!K164","v":0.12147759160646307},{"$f":"Calculation!L164","v":0.13045973286845061}]
[null,{"$f":"Calculation!A165","v":"2016-06-12"},16.7,null,{"$f":"Calculation!K165","v":0.1939619253521544},{"$f":"Calculation!L165","v":0.20830361084262836}]
[null,{"$f":"Calculation!A166","v":"2016-06-13"},15.7,null,{"$f":"Calculation!K166","v":0.26497818891124547},{"$f":"Calculation!L166","v":0.28457086845544383}]
[null,{"$f":"Calculation!A167","v":"2016-06-14"},16.399999999999999,null,{"$f":"Calculation!K167","v":0.19778886167107668},{"$f":"Calculation!L167","v":0.21241351360962238}]
[null,{"$f":"Calculation!A168","v":"2016-06-15"},15.5,null,{"$f":"Calculation!K168","v":0.28417513955129348},{"$f":"Calculation!L168","v":0.30518725555424964}]
[null,{"$f":"Calculation!A169","v":"2016-06-16"},14.8,null,{"$f":"Calculation!K169","v":0.35136446679146216},{"$f":"Calculation!L169","v":0.377344610400071}]
[null,{"$f":"Calculation!A170","v":"2016-06-17"},16,null,{"$f":"Calculation!K170","v":0.1390495500470898},{"$f":"Calculation!L170","v":0.14933097466558973}]
[null,{"$f":"Calculation!A171","v":"2016-06-18"},16.399999999999999,null,{"$f":"Calculation!K171","v":0.13514467039361722},{"$f":"Calculation!L171","v":0.1451373653773366}]
[null,{"$f":"Calculation!A172","v":"2016-06-19"},14.9,null,{"$f":"Calculation!K172","v":0.34176599147143816},{"$f":"Calculation!L172","v":0.36703641685066801}]
[null,{"$f":"Calculation!A173","v":"2016-06-20"},15.7,null,{"$f":"Calculation!K173","v":0.26497818891124547},{"$f":"Calculation!L173","v":0.28457086845544383}]
[null,{"$f":"Calculation!A174","v":"2016-06-21"},19.100000000000001,null,{"$f":"Calculation!K174","v":0.16334643480077626},{"$f":"Calculation!L174","v":0.17542438870667629}]
[null,{"$f":"Calculation!A175","v":"2016-06-22"},22.2,null,{"$f":"Calculation!K175","v":0.12380142617191292},{"$f":"Calculation!L175","v":0.1329553934477383}]
[null,{"$f":"Calculation!A176","v":"2016-06-23"},26.3,null,{"$f":"Calculation!K176","v":7.1499963146641976E-2},{"$f":"Calculation!L176","v":7.6786722298820234E-2}]
[null,{"$f":"Calculation!A177","v":"2016-06-24"},24.4,null,{"$f":"Calculation!K177","v":5.7047077324165169E-2},{"$f":"Calculation!L177","v":6.1265179612274047E-2}]
[null,{"$f":"Calculation!A178","v":"2016-06-25"},19.2,null,{"$f":"Calculation!K178","v":0.10781051281930898},{"$f":"Calculation!L178","v":0.11578210035956468}]
[null,{"$f":"Calculation!A179","v":"2016-06-26"},17.600000000000001,null,{"$f":"Calculation!K179","v":0.18248111639538758},{"$f":"Calculation!L179","v":0.19597390254164632}]
[null,{"$f":"Calculation!A180","v":"2016-06-27"},16.5,null,{"$f":"Calculation!K180","v":0.19651321623143589},{"$f":"Calculation!L180","v":0.21104354602062436}]
[null,{"$f":"Calculation!A181","v":"2016-06-28"},18.600000000000001,null,{"$f":"Calculation!K181","v":0.16972466199898004},{"$f":"Calculation!L181","v":0.18227422665166632}]
[null,{"$f":"Calculation!A182","v":"2016-06-29"},20.5,null,{"$f":"Calculation!K182","v":0.14548739864580573},{"$f":"Calculation!L182","v":0.1562448424607043}]
[null,{"$f":"Calculation!A183","v":"2016-06-30"},19.100000000000001,null,{"$f":"Calculation!K183","v":0.16334643480077626},{"$f":"Calculation!L183","v":0.17542438870667629}]
[null,{"$f":"Calculation!A184","v":"2016-07-01"},21,null,{"$f":"Calculation!K184","v":9.0238554378682279E-2},{"$f":"Calculation!L184","v":9.6910858562425622E-2}]
[null,{"$f":"Calculation!A185","v":"2016-07-02"},16.600000000000001,null,{"$f":"Calculation!K185","v":0.13319223056688087},{"$f":"Calculation!L185","v":0.14304056073321}]
[null,{"$f":"Calculation!A186","v":"2016-07-03"},15.2,null,{"$f":"Calculation!K186","v":0.31297056551136593},{"$f":"Calculation!L186","v":0.33611183620245899}]
[null,{"$f":"Calculation!A187","v":"2016-07-04"},17.600000000000001,null,{"$f":"Calculation!K187","v":0.18248111639538758},{"$f":"Calculation!L187","v":0.19597390254164632}]
[null,{"$f":"Calculation!A188","v":"2016-07-05"},18.399999999999999,null,{"$f":"Calculation!K188","v":0.17227595287826158},{"$f":"Calculation!L188","v":0.18501416182966235}]
[null,{"$f":"Calculation!A189","v":"2016-07-06"},16.600000000000001,null,{"$f":"Calculation!K189","v":0.19523757079179513},{"$f":"Calculation!L189","v":0.20967357843162635}]
[null,{"$f":"Calculation!A190","v":"2016-07-07"},18.399999999999999,null,{"$f":"Calculation!K190","v":0.17227595287826158},{"$f":"Calculation!L190","v":0.18501416182966235}]
[null,{"$f":"Calculation!A191","v":"2016-07-08"},20.6,null,{"$f":"Calculation!K191","v":9.414343403215486E-2},{"$f":"Calculation!L191","v":0.10110446785067873}]
[null,{"$f":"Calculation!A192","v":"2016-07-09"},20.9,null,{"$f":"Calculation!K192","v":9.1214774292050438E-2},{"$f":"Calculation!L192","v":9.7959260884488905E-2}]
[null,{"$f":"Calculation!A193","v":"2016-07-10"},24,null,{"$f":"Calculation!K193","v":0.10083980825837935},{"$f":"Calculation!L193","v":0.10829597684577429}]
[null,{"$f":"Calculation!A194","v":"2016-07-11"},23.3,null,{"$f":"Calculation!K194","v":0.10976932633586461},{"$f":"Calculation!L194","v":0.11788574996876029}]
[null,{"$f":"Calculation!A195","v":"2016-07-12"},20.7,null,{"$f":"Calculation!K195","v":0.14293610776652421},{"$f":"Calculation!L195","v":0.1535049072827083}]
[null,{"$f":"Calculation!A196","v":"2016-07-13"},17,null,{"$f":"Calculation!K196","v":0.19013498903323212},{"$f":"Calculation!L196","v":0.20419370807563436}]
[null,{"$f":"Calculation!A197","v":"2016-07-14"},15.1,null,{"$f":"Calculation!K197","v":0.32256904083138993},{"$f":"Calculation!L197","v":0.34642002975186187}]
[null,{"$f":"Calculation!A198","v":"2016-07-15"},15.9,null,{"$f":"Calculation!K198","v":0.14002576996045796},{"$f":"Calculation!L198","v":0.150379376987653}]
[null,{"$f":"Calculation!A199","v":"2016-07-16"},18.3,null,{"$f":"Calculation!K199","v":0.11659649203962233},{"$f":"Calculation!L199","v":0.12521772125813421}]
[null,{"$f":"Calculation!A200","v":"2016-07-17"},20.8,null,{"$f":"Calculation!K200","v":0.14166046232688345},{"$f":"Calculation!L200","v":0.15213493969371028}]
[null,{"$f":"Calculation!A201","v":"2016-07-18"},21.7,null,{"$f":"Calculation!K201","v":0.13017965337011672},{"$f":"Calculation!L201","v":0.13980523139272832}]
[null,{"$f":"Calculation!A202","v":"2016-07-19"},23.9,null,{"$f":"Calculation!K202","v":0.10211545369802011},{"$f":"Calculation!L202","v":0.10966594443477229}]
[null,{"$f":"Calculation!A203","v":"2016-07-20"},26.3,null,{"$f":"Calculation!K203","v":7.1499963146641976E-2},{"$f":"Calculation!L203","v":7.6786722298820234E-2}]
[null,{"$f":"Calculation!A204","v":"2016-07-21"},21.8,null,{"$f":"Calculation!K204","v":0.12890400793047591},{"$f":"Calculation!L204","v":0.13843526380373028}]
[null,{"$f":"Calculation!A205","v":"2016-07-22"},21.5,null,{"$f":"Calculation!K205","v":8.535745481184151E-2},{"$f":"Calculation!L205","v":9.1668846952109195E-2}]
[null,{"$f":"Calculation!A206","v":"2016-07-23"},19,null,{"$f":"Calculation!K206","v":0.10976295264604527},{"$f":"Calculation!L206","v":0.11787890500369122}]
[null,{"$f":"Calculation!A207","v":"2016-07-24"},22.6,null,{"$f":"Calculation!K207","v":0.11869884441334988},{"$f":"Calculation!L207","v":0.12747552309174628}]
[null,{"$f":"Calculation!A208","v":"2016-07-25"},22.9,null,{"$f":"Calculation!K208","v":0.11487190809442765},{"$f":"Calculation!L208","v":0.1233656203247523}]
[null,{"$f":"Calculation!A209","v":"2016-07-26"},21.9,null,{"$f":"Calculation!K209","v":0.1276283624908352},{"$f":"Calculation!L209","v":0.13706529621473232}]
[null,{"$f":"Calculation!A210","v":"2016-07-27"},21,null,{"$f":"Calculation!K210","v":0.13910917144760199},{"$f":"Calculation!L210","v":0.14939500451571433}]
[null,{"$f":"Calculation!A211","v":"2016-07-28"},19.3,null,{"$f":"Calculation!K211","v":0.16079514392149477},{"$f":"Calculation!L211","v":0.17268445352868031}]
[null,{"$f":"Calculation!A212","v":"2016-07-29"},18.600000000000001,null,{"$f":"Calculation!K212","v":0.11366783229951788},{"$f":"Calculation!L212","v":0.12207251429194436}]
[null,{"$f":"Calculation!A213","v":"2016-07-30"},20.2,null,{"$f":"Calculation!K213","v":9.804831368562747E-2},{"$f":"Calculation!L213","v":0.10529807713893186}]
[null,{"$f":"Calculation!A214","v":"2016-07-31"},17.5,null,{"$f":"Calculation!K214","v":0.18375676183502834},{"$f":"Calculation!L214","v":0.19734387013064433}]
[null,{"$f":"Calculation!A215","v":"2016-08-01"},16.899999999999999,null,{"$f":"Calculation!K215","v":0.1914106344728729},{"$f":"Calculation!L215","v":0.20556367566463238}]
[null,{"$f":"Calculation!A216","v":"2016-08-02"},15.9,null,{"$f":"Calculation!K216","v":0.24578123827119702},{"$f":"Calculation!L216","v":0.26395448135663746}]
[null,{"$f":"Calculation!A217","v":"2016-08-03"},17.899999999999999,null,{"$f":"Calculation!K217","v":0.17865418007646536},{"$f":"Calculation!L217","v":0.19186399977465235}]
[null,{"$f":"Calculation!A218","v":"2016-08-04"},18,null,{"$f":"Calculation!K218","v":0.17737853463682457},{"$f":"Calculation!L218","v":0.19049403218565433}]
[null,{"$f":"Calculation!A219","v":"2016-08-05"},18,null,{"$f":"Calculation!K219","v":0.11952515177972678},{"$f":"Calculation!L219","v":0.12836292822432407}]
[null,{"$f":"Calculation!A220","v":"2016-08-06"},18.3,null,{"$f":"Calculation!K220","v":0.11659649203962233},{"$f":"Calculation!L220","v":0.12521772125813421}]
[null,{"$f":"Calculation!A221","v":"2016-08-07"},20.9,null,{"$f":"Calculation!K221","v":0.14038481688724275},{"$f":"Calculation!L221","v":0.15076497210471235}]
[null,{"$f":"Calculation!A222","v":"2016-08-08"},21,null,{"$f":"Calculation!K222","v":0.13910917144760199},{"$f":"Calculation!L222","v":0.14939500451571433}]
[null,{"$f":"Calculation!A223","v":"2016-08-09"},16.7,null,{"$f":"Calculation!K223","v":0.1939619253521544},{"$f":"Calculation!L223","v":0.20830361084262836}]
[null,{"$f":"Calculation!A224","v":"2016-08-10"},13.4,null,{"$f":"Calculation!K224","v":0.48574312127179953},{"$f":"Calculation!L224","v":0.52165932009171356}]
[null,{"$f":"Calculation!A225","v":"2016-08-11"},12.6,null,{"$f":"Calculation!K225","v":0.56253092383199244},{"$f":"Calculation!L225","v":0.60412486848693803}]
[null,{"$f":"Calculation!A226","v":"2016-08-12"},16,null,{"$f":"Calculation!K226","v":0.1390495500470898},{"$f":"Calculation!L226","v":0.14933097466558973}]
[null,{"$f":"Calculation!A227","v":"2016-08-13"},21,null,{"$f":"Calculation!K227","v":9.0238554378682279E-2},{"$f":"Calculation!L227","v":9.6910858562425622E-2}]
[null,{"$f":"Calculation!A228","v":"2016-08-14"},19.100000000000001,null,{"$f":"Calculation!K228","v":0.16334643480077626},{"$f":"Calculation!L228","v":0.17542438870667629}]
[null,{"$f":"Calculation!A229","v":"2016-08-15"},17.899999999999999,null,{"$f":"Calculation!K229","v":0.17865418007646536},{"$f":"Calculation!L229","v":0.19186399977465235}]
[null,{"$f":"Calculation!A230","v":"2016-08-16"},18.100000000000001,null,{"$f":"Calculation!K230","v":0.17610288919718381},{"$f":"Calculation!L230","v":0.18912406459665632}]
[null,{"$f":"Calculation!A231","v":"2016-08-17"},17.600000000000001,null,{"$f":"Calculation!K231","v":0.18248111639538758},{"$f":"Calculation!L231","v":0.19597390254164632}]
[null,{"$f":"Calculation!A232","v":"2016-08-18"},18.399999999999999,null,{"$f":"Calculation!K232","v":0.17227595287826158},{"$f":"Calculation!L232","v":0.18501416182966235}]
[null,{"$f":"Calculation!A233","v":"2016-08-19"},20,null,{"$f":"Calculation!K233","v":0.10000075351236376},{"$f":"Calculation!L233","v":0.10739488178305841}]
[null,{"$f":"Calculation!A234","v":"2016-08-20"},19.2,null,{"$f":"Calculation!K234","v":0.10781051281930898},{"$f":"Calculation!L234","v":0.11578210035956468}]
[null,{"$f":"Calculation!A235","v":"2016-08-21"},17.600000000000001,null,{"$f":"Calculation!K235","v":0.18248111639538758},{"$f":"Calculation!L235","v":0.19597390254164632}]
[null,{"$f":"Calculation!A236","v":"2016-08-22"},17.399999999999999,null,{"$f":"Calculation!K236","v":0.18503240727466913},{"$f":"Calculation!L236","v":0.19871383771964235}]
[null,{"$f":"Calculation!A237","v":"2016-08-23"},21.7,null,{"$f":"Calculation!K237","v":0.13017965337011672},{"$f":"Calculation!L237","v":0.13980523139272832}]
[null,{"$f":"Calculation!A238","v":"2016-08-24"},24.3,null,{"$f":"Calculation!K238","v":9.7012871939457068E-2},{"$f":"Calculation!L238","v":0.10418607407878026}]
[null,{"$f":"Calculation!A239","v":"2016-08-25"},25.1,null,{"$f":"Calculation!K239","v":8.6807708422331042E-2},{"$f":"Calculation!L239","v":9.3226333366796268E-2}]
[null,{"$f":"Calculation!A240","v":"2016-08-26"},25.7,null,{"$f":"Calculation!K240","v":4.4356218450379181E-2},{"$f":"Calculation!L240","v":4.7635949425451352E-2}]
[null,{"$f":"Calculation!A241","v":"2016-08-27"},26.9,null,{"$f":"Calculation!K241","v":3.2641579489961381E-2},{"$f":"Calculation!L241","v":3.5055121560691974E-2}]
[null,{"$f":"Calculation!A242","v":"2016-08-28"},23.3,null,{"$f":"Calculation!K242","v":0.10976932633586461},{"$f":"Calculation!L242","v":0.11788574996876029}]
[null,{"$f":"Calculation!A243","v":"2016-08-29"},18.600000000000001,null,{"$f":"Calculation!K243","v":0.16972466199898004},{"$f":"Calculation!L243","v":0.18227422665166632}]
[null,{"$f":"Calculation!A244","v":"2016-08-30"},18.2,null,{"$f":"Calculation!K244","v":0.17482724375754308},{"$f":"Calculation!L244","v":0.18775409700765835}]
[null,{"$f":"Calculation!A245","v":"2016-08-31"},19.600000000000001,null,{"$f":"Calculation!K245","v":0.15696820760257252},{"$f":"Calculation!L245","v":0.16857455076168631}]
[null,{"$f":"Calculation!A246","v":"2016-09-01"},20.9,null,{"$f":"Calculation!K246","v":0.14038481688724275},{"$f":"Calculation!L246","v":0.15076497210471235}]
[null,{"$f":"Calculation!A247","v":"2016-09-02"},20.7,null,{"$f":"Calculation!K247","v":9.3167214118786729E-2},{"$f":"Calculation!L247","v":0.10005606552861547}]
[null,{"$f":"Calculation!A248","v":"2016-09-03"},21.6,null,{"$f":"Calculation!K248","v":8.4381234898473351E-2},{"$f":"Calculation!L248","v":9.0620444630045899E-2}]
[null,{"$f":"Calculation!A249","v":"2016-09-04"},17.8,null,{"$f":"Calculation!K249","v":0.17992982551610609},{"$f":"Calculation!L249","v":0.19323396736365034}]
[null,{"$f":"Calculation!A250","v":"2016-09-05"},17,null,{"$f":"Calculation!K250","v":0.19013498903323212},{"$f":"Calculation!L250","v":0.20419370807563436}]
[null,{"$f":"Calculation!A251","v":"2016-09-06"},17.899999999999999,null,{"$f":"Calculation!K251","v":0.17865418007646536},{"$f":"Calculation!L251","v":0.19186399977465235}]
[null,{"$f":"Calculation!A252","v":"2016-09-07"},19.399999999999999,null,{"$f":"Calculation!K252","v":0.15951949848185404},{"$f":"Calculation!L252","v":0.17131448593968235}]
[null,{"$f":"Calculation!A253","v":"2016-09-08"},22.1,null,{"$f":"Calculation!K253","v":0.12507707161155368},{"$f":"Calculation!L253","v":0.13432536103673631}]
[null,{"$f":"Calculation!A254","v":"2016-09-09"},20.399999999999999,null,{"$f":"Calculation!K254","v":9.6095873858891179E-2},{"$f":"Calculation!L254","v":0.1032012724948053}]
[null,{"$f":"Calculation!A255","v":"2016-09-10"},21.8,null,{"$f":"Calculation!K255","v":8.242879507173706E-2},{"$f":"Calculation!L255","v":8.8523639985919361E-2}]
[null,{"$f":"Calculation!A256","v":"2016-09-11"},21.6,null,{"$f":"Calculation!K256","v":0.13145529880975743},{"$f":"Calculation!L256","v":0.14117519898172631}]
[null,{"$f":"Calculation!A257","v":"2016-09-12"},23.3,null,{"$f":"Calculation!K257","v":0.10976932633586461},{"$f":"Calculation!L257","v":0.11788574996876029}]
[null,{"$f":"Calculation!A258","v":"2016-09-13"},24.9,null,{"$f":"Calculation!K258","v":8.9358999301612563E-2},{"$f":"Calculation!L258","v":9.5966268544792288E-2}]
[null,{"$f":"Calculation!A259","v":"2016-09-14"},24.2,null,{"$f":"Calculation!K259","v":9.8288517379097828E-2},{"$f":"Calculation!L259","v":0.10555604166777828}]
[null,{"$f":"Calculation!A260","v":"2016-09-15"},23.6,null,{"$f":"Calculation!K260","v":0.10594239001694233},{"$f":"Calculation!L260","v":0.11377584720176626}]
[null,{"$f":"Calculation!A261","v":"2016-09-16"},20.3,null,{"$f":"Calculation!K261","v":9.707209377225931E-2},{"$f":"Calculation!L261","v":0.10424967481686856}]
[null,{"$f":"Calculation!A262","v":"2016-09-17"},16,null,{"$f":"Calculation!K262","v":0.1390495500470898},{"$f":"Calculation!L262","v":0.14933097466558973}]
[null,{"$f":"Calculation!A263","v":"2016-09-18"},16.7,null,{"$f":"Calculation!K263","v":0.1939619253521544},{"$f":"Calculation!L263","v":0.20830361084262836}]
[null,{"$f":"Calculation!A264","v":"2016-09-19"},13.5,null,{"$f":"Calculation!K264","v":0.47614464595177552},{"$f":"Calculation!L264","v":0.51135112654231063}]
[null,{"$f":"Calculation!A265","v":"2016-09-20"},15.1,null,{"$f":"Calculation!K265","v":0.32256904083138993},{"$f":"Calculation!L265","v":0.34642002975186187}]
[null,{"$f":"Calculation!A266","v":"2016-09-21"},14.6,null,{"$f":"Calculation!K266","v":0.37056141743151039},{"$f":"Calculation!L266","v":0.39796099749887709}]
[null,{"$f":"Calculation!A267","v":"2016-09-22"},14.6,null,{"$f":"Calculation!K267","v":0.37056141743151039},{"$f":"Calculation!L267","v":0.39796099749887709}]
[null,{"$f":"Calculation!A268","v":"2016-09-23"},15.7,null,{"$f":"Calculation!K268","v":0.14197820978719425},{"$f":"Calculation!L268","v":0.15247618163177956}]
[null,{"$f":"Calculation!A269","v":"2016-09-24"},15.7,null,{"$f":"Calculation!K269","v":0.14197820978719425},{"$f":"Calculation!L269","v":0.15247618163177956}]
[null,{"$f":"Calculation!A270","v":"2016-09-25"},16.7,null,{"$f":"Calculation!K270","v":0.1939619253521544},{"$f":"Calculation!L270","v":0.20830361084262836}]
[null,{"$f":"Calculation!A271","v":"2016-09-26"},16.600000000000001,null,{"$f":"Calculation!K271","v":0.19523757079179513},{"$f":"Calculation!L271","v":0.20967357843162635}]
[null,{"$f":"Calculation!A272","v":"2016-09-27"},16.600000000000001,null,{"$f":"Calculation!K272","v":0.19523757079179513},{"$f":"Calculation!L272","v":0.20967357843162635}]
[null,{"$f":"Calculation!A273","v":"2016-09-28"},16.3,null,{"$f":"Calculation!K273","v":0.20738733699110057},{"$f":"Calculation!L273","v":0.2227217071590252}]
[null,{"$f":"Calculation!A274","v":"2016-09-29"},18.8,null,{"$f":"Calculation!K274","v":0.16717337111969854},{"$f":"Calculation!L274","v":0.17953429147367031}]
[null,{"$f":"Calculation!A275","v":"2016-09-30"},15.2,null,{"$f":"Calculation!K275","v":0.16652387922263556},{"$f":"Calculation!L275","v":0.1788367756744968}]
[null,{"$f":"Calculation!A276","v":"2016-10-01"},12.4,null,{"$f":"Calculation!K276","v":0.37739402223721452},{"$f":"Calculation!L276","v":0.40529881006134172}]
[null,{"$f":"Calculation!A277","v":"2016-10-02"},12.8,null,{"$f":"Calculation!K277","v":0.54333397319194421},{"$f":"Calculation!L277","v":0.58350848138813194}]
[null,{"$f":"Calculation!A278","v":"2016-10-03"},11.5,null,{"$f":"Calculation!K278","v":0.66811415235225757},{"$f":"Calculation!L278","v":0.71751499753037162}]
[null,{"$f":"Calculation!A279","v":"2016-10-04"},12.5,null,{"$f":"Calculation!K279","v":0.57212939915201644},{"$f":"Calculation!L279","v":0.61443306203634096}]
[null,{"$f":"Calculation!A280","v":"2016-10-05"},9.1,null,{"$f":"Calculation!K280","v":0.89847756003283596},{"$f":"Calculation!L280","v":0.96491164271604468}]
[null,{"$f":"Calculation!A281","v":"2016-10-06"},8.6999999999999993,null,{"$f":"Calculation!K281","v":0.93687146131293231},{"$f":"Calculation!L281","v":1.0061444169136569}]
[null,{"$f":"Calculation!A282","v":"2016-10-07"},10.9,null,{"$f":"Calculation!K282","v":0.49036017028073897},{"$f":"Calculation!L282","v":0.52661775705429437}]
[null,{"$f":"Calculation!A283","v":"2016-10-08"},8.6999999999999993,null,{"$f":"Calculation!K283","v":0.65604385407790822},{"$f":"Calculation!L283","v":0.70455221264395829}]
[null,{"$f":"Calculation!A284","v":"2016-10-09"},7.9,null,{"$f":"Calculation!K284","v":1.0136592638731252},{"$f":"Calculation!L284","v":1.0886099653088812}]
[null,{"$f":"Calculation!A285","v":"2016-10-10"},7.7,null,{"$f":"Calculation!K285","v":1.0328562145131732},{"$f":"Calculation!L285","v":1.1092263524076871}]
[null,{"$f":"Calculation!A286","v":"2016-10-11"},7.4,null,{"$f":"Calculation!K286","v":1.0616516404732455},{"$f":"Calculation!L286","v":1.1401509330558961}]
[null,{"$f":"Calculation!A287","v":"2016-10-12"},7.7,null,{"$f":"Calculation!K287","v":1.0328562145131732},{"$f":"Calculation!L287","v":1.1092263524076871}]
[null,{"$f":"Calculation!A288","v":"2016-10-13"},8.1999999999999993,null,{"$f":"Calculation!K288","v":0.98486383791305288},{"$f":"Calculation!L288","v":1.057685384660672}]
[null,{"$f":"Calculation!A289","v":"2016-10-14"},9.8000000000000007,null,{"$f":"Calculation!K289","v":0.57320201217932354},{"$f":"Calculation!L289","v":0.61558498484912627}]
[null,{"$f":"Calculation!A290","v":"2016-10-15"},10.3,null,{"$f":"Calculation!K290","v":0.53554662949814869},{"$f":"Calculation!L290","v":0.57514533585147531}]
[null,{"$f":"Calculation!A291","v":"2016-10-16"},10,null,{"$f":"Calculation!K291","v":0.81209128215261894},{"$f":"Calculation!L291","v":0.87213790077141717}]
[null,{"$f":"Calculation!A292","v":"2016-10-17"},11,null,{"$f":"Calculation!K292","v":0.71610652895237803},{"$f":"Calculation!L292","v":0.76905596527738673}]
[null,{"$f":"Calculation!A293","v":"2016-10-18"},11.9,null,{"$f":"Calculation!K293","v":0.62972025107216112},{"$f":"Calculation!L293","v":0.67628222333275934}]
[null,{"$f":"Calculation!A294","v":"2016-10-19"},7.7,null,{"$f":"Calculation!K294","v":1.0328562145131732},{"$f":"Calculation!L294","v":1.1092263524076871}]
[null,{"$f":"Calculation!A295","v":"2016-10-20"},7.1,null,{"$f":"Calculation!K295","v":1.0904470664333179},{"$f":"Calculation!L295","v":1.1710755137041056}]
[null,{"$f":"Calculation!A296","v":"2016-10-21"},6.7,null,{"$f":"Calculation!K296","v":0.80666538480260741},{"$f":"Calculation!L296","v":0.86631080863456189}]
[null,{"$f":"Calculation!A297","v":"2016-10-22"},6.7,null,{"$f":"Calculation!K297","v":0.80666538480260741},{"$f":"Calculation!L297","v":0.86631080863456189}]
[null,{"$f":"Calculation!A298","v":"2016-10-23"},6.7,null,{"$f":"Calculation!K298","v":1.1288409677134141},{"$f":"Calculation!L298","v":1.2123082879017175}]
[null,{"$f":"Calculation!A299","v":"2016-10-24"},7.6,null,{"$f":"Calculation!K299","v":1.0424546898331974},{"$f":"Calculation!L299","v":1.1195345459570902}]
[null,{"$f":"Calculation!A300","v":"2016-10-25"},9.1999999999999993,null,{"$f":"Calculation!K300","v":0.88887908471281185},{"$f":"Calculation!L300","v":0.95460344916664164}]
[null,{"$f":"Calculation!A301","v":"2016-10-26"},9,null,{"$f":"Calculation!K301","v":0.90807603535285997},{"$f":"Calculation!L301","v":0.97521983626544761}]
[null,{"$f":"Calculation!A302","v":"2016-10-27"},9.3000000000000007,null,{"$f":"Calculation!K302","v":0.87928060939278763},{"$f":"Calculation!L302","v":0.94429525561723837}]
[null,{"$f":"Calculation!A303","v":"2016-10-28"},11,null,{"$f":"Calculation!K303","v":0.482829093744504},{"$f":"Calculation!L303","v":0.51852982725476426}]
[null,{"$f":"Calculation!A304","v":"2016-10-29"},9.8000000000000007,null,{"$f":"Calculation!K304","v":0.57320201217932354},{"$f":"Calculation!L304","v":0.61558498484912627}]
[null,{"$f":"Calculation!A305","v":"2016-10-30"},8.6,null,{"$f":"Calculation!K305","v":0.94646993663295642},{"$f":"Calculation!L305","v":1.0164526104630598}]
[null,{"$f":"Calculation!A306","v":"2016-10-31"},9.8000000000000007,null,{"$f":"Calculation!K306","v":0.83128823279266717},{"$f":"Calculation!L306","v":0.89275428787022326}]
[null,{"$f":"Calculation!A307","v":"2016-11-01"},7.6,null,{"$f":"Calculation!K307","v":1.0424546898331974},{"$f":"Calculation!L307","v":1.1195345459570902}]
[null,{"$f":"Calculation!A308","v":"2016-11-02"},6.9,null,{"$f":"Calculation!K308","v":1.1096440170733661},{"$f":"Calculation!L308","v":1.1916919008029114}]
[null,{"$f":"Calculation!A309","v":"2016-11-03"},6.3,null,{"$f":"Calculation!K309","v":1.1672348689935106},{"$f":"Calculation!L309","v":1.2535410620993297}]
[null,{"$f":"Calculation!A310","v":"2016-11-04"},5.4,null,{"$f":"Calculation!K310","v":0.90456937977366192},{"$f":"Calculation!L310","v":0.97145389602845422}]
[null,{"$f":"Calculation!A311","v":"2016-11-05"},6.5,null,{"$f":"Calculation!K311","v":0.82172753787507735},{"$f":"Calculation!L311","v":0.88248666823362221}]
[null,{"$f":"Calculation!A312","v":"2016-11-06"},4.9000000000000004,null,{"$f":"Calculation!K312","v":1.301613523473848},{"$f":"Calculation!L312","v":1.3978557717909723}]
[null,{"$f":"Calculation!A313","v":"2016-11-07"},3.7,null,{"$f":"Calculation!K313","v":1.4167952273141373},{"$f":"Calculation!L313","v":1.5215540943838088}]
[null,{"$f":"Calculation!A314","v":"2016-11-08"},2.5,null,{"$f":"Calculation!K314","v":1.5319769311544265},{"$f":"Calculation!L314","v":1.6452524169766456}]
[null,{"$f":"Calculation!A315","v":"2016-11-09"},1.7,null,{"$f":"Calculation!K315","v":1.6087647337146194},{"$f":"Calculation!L315","v":1.7277179653718699}]
[null,{"$f":"Calculation!A316","v":"2016-11-10"},2.9,null,{"$f":"Calculation!K316","v":1.49358302987433},{"$f":"Calculation!L316","v":1.6040196427790332}]
[null,{"$f":"Calculation!A317","v":"2016-11-11"},2.7,null,{"$f":"Calculation!K317","v":1.1079084462520059},{"$f":"Calculation!L317","v":1.1898280006157689}]
[null,{"$f":"Calculation!A318","v":"2016-11-12"},-0.1,null,{"$f":"Calculation!K318","v":1.3187785892665849},{"$f":"Calculation!L318","v":1.4162900350026137}]
[null,{"$f":"Calculation!A319","v":"2016-11-13"},0.2,null,{"$f":"Calculation!K319","v":1.7527418635149807},{"$f":"Calculation!L319","v":1.8823408686129157}]
[null,{"$f":"Calculation!A320","v":"2016-11-14"},-0.4,null,{"$f":"Calculation!K320","v":1.8103327154351254},{"$f":"Calculation!L320","v":1.9441900299093338}]
[null,{"$f":"Calculation!A321","v":"2016-11-15"},1.7,null,{"$f":"Calculation!K321","v":1.6087647337146194},{"$f":"Calculation!L321","v":1.7277179653718699}]
[null,{"$f":"Calculation!A322","v":"2016-11-16"},7.1,null,{"$f":"Calculation!K322","v":1.0904470664333179},{"$f":"Calculation!L322","v":1.1710755137041056}]
[null,{"$f":"Calculation!A323","v":"2016-11-17"},9.4,null,{"$f":"Calculation!K323","v":0.86968213407276351},{"$f":"Calculation!L323","v":0.93398706206783522}]
[null,{"$f":"Calculation!A324","v":"2016-11-18"},8.1999999999999993,null,{"$f":"Calculation!K324","v":0.69369923675908307},{"$f":"Calculation!L324","v":0.74499186164160924}]
[null,{"$f":"Calculation!A325","v":"2016-11-19"},5.4,null,{"$f":"Calculation!K325","v":0.90456937977366192},{"$f":"Calculation!L325","v":0.97145389602845422}]
[null,{"$f":"Calculation!A326","v":"2016-11-20"},8.8000000000000007,null,{"$f":"Calculation!K326","v":0.92727298599290808},{"$f":"Calculation!L326","v":0.99583622336425348}]
[null,{"$f":"Calculation!A327","v":"2016-11-21"},11.6,null,{"$f":"Calculation!K327","v":0.65851567703223335},{"$f":"Calculation!L327","v":0.70720680398096847}]
[null,{"$f":"Calculation!A328","v":"2016-11-22"},9.9,null,{"$f":"Calculation!K328","v":0.82168975747264306},{"$f":"Calculation!L328","v":0.88244609432082011}]
[null,{"$f":"Calculation!A329","v":"2016-11-23"},8.6999999999999993,null,{"$f":"Calculation!K329","v":0.93687146131293231},{"$f":"Calculation!L329","v":1.0061444169136569}]
[null,{"$f":"Calculation!A330","v":"2016-11-24"},8.6999999999999993,null,{"$f":"Calculation!K330","v":0.93687146131293231},{"$f":"Calculation!L330","v":1.0061444169136569}]
[null,{"$f":"Calculation!A331","v":"2016-11-25"},4,null,{"$f":"Calculation!K331","v":1.0100044512809514},{"$f":"Calculation!L331","v":1.0846849132218765}]
[null,{"$f":"Calculation!A332","v":"2016-11-26"},1,null,{"$f":"Calculation!K332","v":1.2359367473680003},{"$f":"Calculation!L332","v":1.3273228072077818}]
[null,{"$f":"Calculation!A333","v":"2016-11-27"},2.6,null,{"$f":"Calculation!K333","v":1.5223784558344025},{"$f":"Calculation!L333","v":1.6349442234272424}]
[null,{"$f":"Calculation!A334","v":"2016-11-28"},-0.9,null,{"$f":"Calculation!K334","v":1.8583250920352459},{"$f":"Calculation!L334","v":1.9957309976563491}]
[null,{"$f":"Calculation!A335","v":"2016-11-29"},-3.2,null,{"$f":"Calculation!K335","v":2.0790900243957999},{"$f":"Calculation!L335","v":2.2328194492926188}]
[null,{"$f":"Calculation!A336","v":"2016-11-30"},-1.3,null,{"$f":"Calculation!K336","v":1.8967189933153423},{"$f":"Calculation!L336","v":2.0369637718539613}]
[null,{"$f":"Calculation!A337","v":"2016-12-01"},5,null,{"$f":"Calculation!K337","v":1.292015048153824},{"$f":"Calculation!L337","v":1.3875475782415692}]
[null,{"$f":"Calculation!A338","v":"2016-12-02"},4.5999999999999996,null,{"$f":"Calculation!K338","v":0.96481799206354169},{"$f":"Calculation!L338","v":1.0361573344246957}]
[null,{"$f":"Calculation!A339","v":"2016-12-03"},-3.1,null,{"$f":"Calculation!K339","v":1.5447108853536338},{"$f":"Calculation!L339","v":1.6589279289885193}]
[null,{"$f":"Calculation!A340","v":"2016-12-04"},-4.5,null,{"$f":"Calculation!K340","v":2.2038702035561135},{"$f":"Calculation!L340","v":2.3668259654348587}]
[null,{"$f":"Calculation!A341","v":"2016-12-05"},-3.9,null,{"$f":"Calculation!K341","v":2.1462793516359691},{"$f":"Calculation!L341","v":2.3049768041384402}]
[null,{"$f":"Calculation!A342","v":"2016-12-06"},-3,null,{"$f":"Calculation!K342","v":2.0598930737557519},{"$f":"Calculation!L342","v":2.2122030621938129}]
[null,{"$f":"Calculation!A343","v":"2016-12-07"},-1.5,null,{"$f":"Calculation!K343","v":1.9159159439553903},{"$f":"Calculation!L343","v":2.0575801589527671}]
[null,{"$f":"Calculation!A344","v":"2016-12-08"},0.1,null,{"$f":"Calculation!K344","v":1.762340338835005},{"$f":"Calculation!L344","v":1.8926490621623187}]
[null,{"$f":"Calculation!A345","v":"2016-12-09"},3.1,null,{"$f":"Calculation!K345","v":1.0777841401070662},{"$f":"Calculation!L345","v":1.1574762814176485}]
[null,{"$f":"Calculation!A346","v":"2016-12-10"},5.4,null,{"$f":"Calculation!K346","v":0.90456937977366192},{"$f":"Calculation!L346","v":0.97145389602845422}]
[null,{"$f":"Calculation!A347","v":"2016-12-11"},6.9,null,{"$f":"Calculation!K347","v":1.1096440170733661},{"$f":"Calculation!L347","v":1.1916919008029114}]
[null,{"$f":"Calculation!A348","v":"2016-12-12"},7,null,{"$f":"Calculation!K348","v":1.1000455417533419},{"$f":"Calculation!L348","v":1.1813837072535085}]
[null,{"$f":"Calculation!A349","v":"2016-12-13"},4.4000000000000004,null,{"$f":"Calculation!K349","v":1.3496059000739686},{"$f":"Calculation!L349","v":1.4493967395379879}]
[null,{"$f":"Calculation!A350","v":"2016-12-14"},5,null,{"$f":"Calculation!K350","v":1.292015048153824},{"$f":"Calculation!L350","v":1.3875475782415692}]
[null,{"$f":"Calculation!A351","v":"2016-12-15"},5.4,null,{"$f":"Calculation!K351","v":1.2536211468737275},{"$f":"Calculation!L351","v":1.3463148040439572}]
[null,{"$f":"Calculation!A352","v":"2016-12-16"},2.5,null,{"$f":"Calculation!K352","v":1.1229705993244758},{"$f":"Calculation!L352","v":1.2060038602148293}]
[null,{"$f":"Calculation!A353","v":"2016-12-17"},0.4,null,{"$f":"Calculation!K353","v":1.2811232065854101},{"$f":"Calculation!L353","v":1.3758503860049629}]
[null,{"$f":"Calculation!A354","v":"2016-12-18"},3.2,null,{"$f":"Calculation!K354","v":1.4647876039142578},{"$f":"Calculation!L354","v":1.5730950621308242}]
[null,{"$f":"Calculation!A355","v":"2016-12-19"},3.1,null,{"$f":"Calculation!K355","v":1.4743860792342818},{"$f":"Calculation!L355","v":1.5834032556802271}]
[null,{"$f":"Calculation!A356","v":"2016-12-20"},-0.9,null,{"$f":"Calculation!K356","v":1.8583250920352459},{"$f":"Calculation!L356","v":1.9957309976563491}]
[null,{"$f":"Calculation!A357","v":"2016-12-21"},-0.6,null,{"$f":"Calculation!K357","v":1.8295296660751736},{"$f":"Calculation!L357","v":1.9648064170081398}]
[null,{"$f":"Calculation!A358","v":"2016-12-22"},0.5,null,{"$f":"Calculation!K358","v":1.7239464375549085},{"$f":"Calculation!L358","v":1.8514162879647065}]
[null,{"$f":"Calculation!A359","v":"2016-12-23"},2.2999999999999998,null,{"$f":"Calculation!K359","v":1.1380327523969458},{"$f":"Calculation!L359","v":1.2221797198138897}]
[null,{"$f":"Calculation!A360","v":"2016-12-24"},5.3,null,{"$f":"Calculation!K360","v":0.91210045630989689},{"$f":"Calculation!L360","v":0.97954182582798432}]
[null,{"$f":"Calculation!A361","v":"2016-12-25"},7.1,null,{"$f":"Calculation!K361","v":1.0904470664333179},{"$f":"Calculation!L361","v":1.1710755137041056}]
[null,{"$f":"Calculation!A362","v":"2016-12-26"},7,null,{"$f":"Calculation!K362","v":1.1000455417533419},{"$f":"Calculation!L362","v":1.1813837072535085}]
[null,{"$f":"Calculation!A363","v":"2016-12-27"},6,null,{"$f":"Calculation!K363","v":1.196030294953583},{"$f":"Calculation!L363","v":1.2844656427475389}]
[null,{"$f":"Calculation!A364","v":"2016-12-28"},5.3,null,{"$f":"Calculation!K364","v":1.2632196221937517},{"$f":"Calculation!L364","v":1.3566229975933601}]
[null,{"$f":"Calculation!A365","v":"2016-12-29"},1.8,null,{"$f":"Calculation!K365","v":1.5991662583945951},{"$f":"Calculation!L365","v":1.7174097718224668}]
[null,{"$f":"Calculation!A366","v":"2016-12-30"},-1,null,{"$f":"Calculation!K366","v":1.3865582780926997},{"$f":"Calculation!L366","v":1.4890814031983854}]
[null,{"$f":"IF((MOD(C31,4)=0)-(MOD(C31,100)=0)+(MOD(C31,400)=0)=0,#N/A,Calculation!A367)","v":"2016-12-31"},-3.4,null,{"$f":"IF((MOD(C31,4)=0)-(MOD(C31,100)=0)+(MOD(C31,400)=0)=0,#N/A,Calculation!K367)","v":1.5673041149623388},{"$f":"IF((MOD(C31,4)=0)-(MOD(C31,100)=0)+(MOD(C31,400)=0)=0,#N/A,Calculation!L367)","v":1.6831917183871099}]

{"sheet":"Calculation","index":1,"n_rows":367,"n_cols":12,"rows_kept":367,"cut":false,"hidden":false,"merged":[]}
["Date","Mean daily ambient Temperature in °C","Weekday","b_h","m_h","b_w","m_w","t_hl","b","m","Qnorm,day in -","Qday in MWh/d"]
[{"$f":"DATE('Input and Output'!$C$31,1,1)","v":"2016-01-01"},{"$f":"'Input and Output'!C35","v":4.5999999999999996},{"$f":"WEEKDAY(A2)","v":6},{"$f":"IF($C2<6,Lin_parameters_wd!B$9,Lin_parameters_wknd!B$10)","v":1.31124751273035},{"$f":"IF($C2<6,Lin_parameters_wd!C$9,Lin_parameters_wknd!C$10)","v":-7.5310765362349638E-2},{"$f":"IF($C2<6,Lin_parameters_wd!D$9,Lin_parameters_wknd!D$10)","v":0.29524473618599389},{"$f":"IF($C2<6,Lin_parameters_wd!E$9,Lin_parameters_wknd!E$10)","v":-9.762199133681506E-3},{"$f":"IF($C2<6,Lin_parameters_wd!F$9,Lin_parameters_wknd!F$10)","v":15.5},{"$f":"IF($B2<$H2,$D2,$F2)","v":1.31124751273035},{"$f":"IF($B2<$H2,$E2,$G2)","v":-7.5310765362349638E-2},{"$f":"MAX($I2+$J2*$B2,0)","v":0.96481799206354169},{"$f":"$K2*'Input and Output'!$C$30/SUM($K$2:$K$366)","v":1.0361573344246957}]
[{"$f":"A2+1","v":"2016-01-02"},{"$f":"'Input and Output'!C36","v":1.8},7,{"$f":"IF($C3<6,Lin_parameters_wd!B$9,Lin_parameters_wknd!B$10)","v":1.31124751273035},{"$f":"IF($C3<6,Lin_parameters_wd!C$9,Lin_parameters_wknd!C$10)","v":-7.5310765362349638E-2},{"$f":"IF($C3<6,Lin_parameters_wd!D$9,Lin_parameters_wknd!D$10)","v":0.29524473618599389},{"$f":"IF($C3<6,Lin_parameters_wd!E$9,Lin_parameters_wknd!E$10)","v":-9.762199133681506E-3},{"$f":"IF($C3<6,Lin_parameters_wd!F$9,Lin_parameters_wknd!F$10)","v":15.5},{"$f":"IF($B3<$H3,$D3,$F3)","v":1.31124751273035},{"$f":"IF($B3<$H3,$E3,$G3)","v":-7.5310765362349638E-2},{"$f":"MAX($I3+$J3*$B3,0)","v":1.1756881350781208},{"$f":"$K3*'Input and Output'!$C$30/SUM($K$2:$K$366)","v":1.2626193688115408}]
[{"$f":"A3+1","v":"2016-01-03"},{"$f":"'Input and Output'!C37","v":0.7},1,{"$f":"IF($C4<6,Lin_parameters_wd!B$9,Lin_parameters_wknd!B$10)","v":1.771938814155029},{"$f":"IF($C4<6,Lin_parameters_wd!C$9,Lin_parameters_wknd!C$10)","v":-9.5984753200240996E-2},{"$f":"IF($C4<6,Lin_parameters_wd!D$9,Lin_parameters_wknd!D$10)","v":0.40699471377216029},{"$f":"IF($C4<6,Lin_parameters_wd!E$9,Lin_parameters_wknd!E$10)","v":-1.2756454396407539E-2},{"$f":"IF($C4<6,Lin_parameters_wd!F$9,Lin_parameters_wknd!F$10)","v":16.399999999999999},1.771938814155029,-9.5984753200240996E-2,1.7047494869148603,{"$f":"$K4*'Input and Output'!$C$30/SUM($K$2:$K$366)","v":1.8307999008659002}]
["2016-01-04",{"$f":"'Input and Output'!C38","v":0.1},2,{"$f":"IF($C5<6,Lin_parameters_wd!B$9,Lin_parameters_wknd!B$10)","v":1.771938814155029},{"$f":"IF($C5<6,Lin_parameters_wd!C$9,Lin_parameters_wknd!C$10)","v":-9.5984753200240996E-2},{"$f":"IF($C5<6,Lin_parameters_wd!D$9,Lin_parameters_wknd!D$10)","v":0.40699471377216029},{"$f":"IF($C5<6,Lin_parameters_wd!E$9,Lin_parameters_wknd!E$10)","v":-1.2756454396407539E-2},{"$f":"IF($C5<6,Lin_parameters_wd!F$9,Lin_parameters_wknd!F$10)","v":16.399999999999999},1.771938814155029,-9.5984753200240996E-2,1.762340338835005,{"$f":"$K5*'Input and Output'!$C$30/SUM($K$2:$K$366)","v":1.8926490621623187}]
["2016-01-05",{"$f":"'Input and Output'!C39","v":3.8},3,{"$f":"IF($C6<6,Lin_parameters_wd!B$9,Lin_parameters_wknd!B$10)","v":1.771938814155029},{"$f":"IF($C6<6,Lin_parameters_wd!C$9,Lin_parameters_wknd!C$10)","v":-9.5984753200240996E-2},{"$f":"IF($C6<6,Lin_parameters_wd!D$9,Lin_parameters_wknd!D$10)","v":0.40699471377216029},{"$f":"IF($C6<6,Lin_parameters_wd!E$9,Lin_parameters_wknd!E$10)","v":-1.2756454396407539E-2},{"$f":"IF($C6<6,Lin_parameters_wd!F$9,Lin_parameters_wknd!F$10)","v":16.399999999999999},1.771938814155029,-9.5984753200240996E-2,1.4071967519941131,{"$f":"$K6*'Input and Output'!$C$30/SUM($K$2:$K$366)","v":1.5112459008344059}]
["2016-01-06",{"$f":"'Input and Output'!C40","v":1.8},4,{"$f":"IF($C7<6,Lin_parameters_wd!B$9,Lin_parameters_wknd!B$10)","v":1.771938814155029},{"$f":"IF($C7<6,Lin_parameters_wd!C$9,Lin_parameters_wknd!C$10)","v":-9.5984753200240996E-2},{"$f":"IF($C7<6,Lin_parameters_wd!D$9,Lin_parameters_wknd!D$10)","v":0.40699471377216029},{"$f":"IF($C7<6,Lin_parameters_wd!E$9,Lin_parameters_wknd!E$10)","v":-1.2756454396407539E-2},{"$f":"IF($C7<6,Lin_parameters_wd!F$9,Lin_parameters_wknd!F$10)","v":16.399999999999999},1.771938814155029,-9.5984753200240996E-2,1.5991662583945951,{"$f":"$K7*'Input and Output'!$C$30/SUM($K$2:$K$366)","v":1.7174097718224668}]
["2016-01-07",{"$f":"'Input and Output'!C41","v":3.1},5,{"$f":"IF($C8<6,Lin_parameters_wd!B$9,Lin_parameters_wknd!B$10)","v":1.771938814155029},{"$f":"IF($C8<6,Lin_parameters_wd!C$9,Lin_parameters_wknd!C$10)","v":-9.5984753200240996E-2},{"$f":"IF($C8<6,Lin_parameters_wd!D$9,Lin_parameters_wknd!D$10)","v":0.40699471377216029},{"$f":"IF($C8<6,Lin_parameters_wd!E$9,Lin_parameters_wknd!E$10)","v":-1.2756454396407539E-2},{"$f":"IF($C8<6,Lin_parameters_wd!F$9,Lin_parameters_wknd!F$10)","v":16.399999999999999},1.771938814155029,-9.5984753200240996E-2,1.4743860792342818,{"$f":"$K8*'Input and Output'!$C$30/SUM($K$2:$K$366)","v":1.5834032556802271}]
["2016-01-08",{"$f":"'Input and Output'!C42","v":4.3},6,{"$f":"IF($C9<6,Lin_parameters_wd!B$9,Lin_parameters_wknd!B$10)","v":1.31124751273035},{"$f":"IF($C9<6,Lin_parameters_wd!C$9,Lin_parameters_wknd!C$10)","v":-7.5310765362349638E-2},{"$f":"IF($C9<6,Lin_parameters_wd!D$9,Lin_parameters_wknd!D$10)","v":0.29524473618599389},{"$f":"IF($C9<6,Lin_parameters_wd!E$9,Lin_parameters_wknd!E$10)","v":-9.762199133681506E-3},{"$f":"IF($C9<6,Lin_parameters_wd!F$9,Lin_parameters_wknd!F$10)","v":15.5},1.31124751273035,-7.5310765362349638E-2,0.9874112216722466,{"$f":"$K9*'Input and Output'!$C$30/SUM($K$2:$K$366)","v":1.0604211238232861}]
["2016-01-09",{"$f":"'Input and Output'!C43","v":1},7,{"$f":"IF($C10<6,Lin_parameters_wd!B$9,Lin_parameters_wknd!B$10)","v":1.31124751273035},{"$f":"IF($C10<6,Lin_parameters_wd!C$9,Lin_parameters_wknd!C$10)","v":-7.5310765362349638E-2},{"$f":"IF($C10<6,Lin_parameters_wd!D$9,Lin_parameters_wknd!D$10)","v":0.29524473618599389},{"$f":"IF($C10<6,Lin_parameters_wd!E$9,Lin_parameters_wknd!E$10)","v":-9.762199133681506E-3},{"$f":"IF($C10<6,Lin_parameters_wd!F$9,Lin_parameters_wknd!F$10)","v":15.5},1.31124751273035,-7.5310765362349638E-2,1.2359367473680003,{"$f":"$K10*'Input and Output'!$C$30/SUM($K$2:$K$366)","v":1.3273228072077818}]
["2016-01-10",{"$f":"'Input and Output'!C44","v":5.6},1,{"$f":"IF($C11<6,Lin_parameters_wd!B$9,Lin_parameters_wknd!B$10)","v":1.771938814155029},{"$f":"IF($C11<6,Lin_parameters_wd!C$9,Lin_parameters_wknd!C$10)","v":-9.5984753200240996E-2},{"$f":"IF($C11<6,Lin_parameters_wd!D$9,Lin_parameters_wknd!D$10)","v":0.40699471377216029},{"$f":"IF($C11<6,Lin_parameters_wd!E$9,Lin_parameters_wknd!E$10)","v":-1.2756454396407539E-2},{"$f":"IF($C11<6,Lin_parameters_wd!F$9,Lin_parameters_wknd!F$10)","v":16.399999999999999},1.771938814155029,-9.5984753200240996E-2,1.2344241962336793,{"$f":"$K11*'Input and Output'!$C$30/SUM($K$2:$K$366)","v":1.3256984169451509}]
["2016-01-11",{"$f":"'Input and Output'!C45","v":4.5},2,{"$f":"IF($C12<6,Lin_parameters_wd!B$9,Lin_parameters_wknd!B$10)","v":1.771938814155029},{"$f":"IF($C12<6,Lin_parameters_wd!C$9,Lin_parameters_wknd!C$10)","v":-9.5984753200240996E-2},{"$f":"IF($C12<6,Lin_parameters_wd!D$9,Lin_parameters_wknd!D$10)","v":0.40699471377216029},{"$f":"IF($C12<6,Lin_parameters_wd!E$9,Lin_parameters_wknd!E$10)","v":-1.2756454396407539E-2},{"$f":"IF($C12<6,Lin_parameters_wd!F$9,Lin_parameters_wknd!F$10)","v":16.399999999999999},1.771938814155029,-9.5984753200240996E-2,1.3400074247539444,{"$f":"$K12*'Input and Output'!$C$30/SUM($K$2:$K$366)","v":1.4390885459885845}]
["2016-01-12",{"$f":"'Input and Output'!C46","v":4.8},3,{"$f":"IF($C13<6,Lin_parameters_wd!B$9,Lin_parameters_wknd!B$10)","v":1.771938814155029},{"$f":"IF($C13<6,Lin_parameters_wd!C$9,Lin_parameters_wknd!C$10)","v":-9.5984753200240996E-2},{"$f":"IF($C13<6,Lin_parameters_wd!D$9,Lin_parameters_wknd!D$10)","v":0.40699471377216029},{"$f":"IF($C13<6,Lin_parameters_wd!E$9,Lin_parameters_wknd!E$10)","v":-1.2756454396407539E-2},{"$f":"IF($C13<6,Lin_parameters_wd!F$9,Lin_parameters_wknd!F$10)","v":16.399999999999999},1.771938814155029,-9.5984753200240996E-2,1.3112119987938722,{"$f":"$K13*'Input and Output'!$C$30/SUM($K$2:$K$366)","v":1.4081639653403755}]
["2016-01-13",{"$f":"'Input and Output'!C47","v":3.8},4,{"$f":"IF($C14<6,Lin_parameters_wd!B$9,Lin_parameters_wknd!B$10)","v":1.771938814155029},{"$f":"IF($C14<6,Lin_parameters_wd!C$9,Lin_parameters_wknd!C$10)","v":-9.5984753200240996E-2},{"$f":"IF($C14<6,Lin_parameters_wd!D$9,Lin_parameters_wknd!D$10)","v":0.40699471377216029},{"$f":"IF($C14<6,Lin_parameters_wd!E$9,Lin_parameters_wknd!E$10)","v":-1.2756454396407539E-2},{"$f":"IF($C14<6,Lin_parameters_wd!F$9,Lin_parameters_wknd!F$10)","v":16.399999999999999},1.771938814155029,-9.5984753200240996E-2,1.4071967519941131,{"$f":"$K14*'Input and Output'!$C$30/SUM($K$2:$K$366)","v":1.5112459008344059}]
["2016-01-14",{"$f":"'Input and Output'!C48","v":2},5,{"$f":"IF($C15<6,Lin_parameters_wd!B$9,Lin_parameters_wknd!B$10)","v":1.771938814155029},{"$f":"IF($C15<6,Lin_parameters_wd!C$9,Lin_parameters_wknd!C$10)","v":-9.5984753200240996E-2},{"$f":"IF($C15<6,Lin_parameters_wd!D$9,Lin_parameters_wknd!D$10)","v":0.40699471377216029},{"$f":"IF($C15<6,Lin_parameters_wd!E$9,Lin_parameters_wknd!E$10)","v":-1.2756454396407539E-2},{"$f":"IF($C15<6,Lin_parameters_wd!F$9,Lin_parameters_wknd!F$10)","v":16.399999999999999},1.771938814155029,-9.5984753200240996E-2,1.5799693077545469,{"$f":"$K15*'Input and Output'!$C$30/SUM($K$2:$K$366)","v":1.6967933847236607}]
["2016-01-15",{"$f":"'Input and Output'!C49","v":1.5},6,{"$f":"IF($C16<6,Lin_parameters_wd!B$9,Lin_parameters_wknd!B$10)","v":1.31124751273035},{"$f":"IF($C16<6,Lin_parameters_wd!C$9,Lin_parameters_wknd!C$10)","v":-7.5310765362349638E-2},{"$f":"IF($C16<6,Lin_parameters_wd!D$9,Lin_parameters_wknd!D$10)","v":0.29524473618599389},{"$f":"IF($C16<6,Lin_parameters_wd!E$9,Lin_parameters_wknd!E$10)","v":-9.762199133681506E-3},{"$f":"IF($C16<6,Lin_parameters_wd!F$9,Lin_parameters_wknd!F$10)","v":15.5},1.31124751273035,-7.5310765362349638E-2,1.1982813646868256,{"$f":"$K16*'Input and Output'!$C$30/SUM($K$2:$K$366)","v":1.2868831582101312}]
["2016-01-16",{"$f":"'Input and Output'!C50","v":0.4},7,{"$f":"IF($C17<6,Lin_parameters_wd!B$9,Lin_parameters_wknd!B$10)","v":1.31124751273035},{"$f":"IF($C17<6,Lin_parameters_wd!C$9,Lin_parameters_wknd!C$10)","v":-7.5310765362349638E-2},{"$f":"IF($C17<6,Lin_parameters_wd!D$9,Lin_parameters_wknd!D$10)","v":0.29524473618599389},{"$f":"IF($C17<6,Lin_parameters_wd!E$9,Lin_parameters_wknd!E$10)","v":-9.762199133681506E-3},{"$f":"IF($C17<6,Lin_parameters_wd!F$9,Lin_parameters_wknd!F$10)","v":15.5},1.31124751273035,-7.5310765362349638E-2,1.2811232065854101,{"$f":"$K17*'Input and Output'!$C$30/SUM($K$2:$K$366)","v":1.3758503860049629}]
["2016-01-17",{"$f":"'Input and Output'!C51","v":-1.6},1,{"$f":"IF($C18<6,Lin_parameters_wd!B$9,Lin_parameters_wknd!B$10)","v":1.771938814155029},{"$f":"IF($C18<6,Lin_parameters_wd!C$9,Lin_parameters_wknd!C$10)","v":-9.5984753200240996E-2},{"$f":"IF($C18<6,Lin_parameters_wd!D$9,Lin_parameters_wknd!D$10)","v":0.40699471377216029},{"$f":"IF($C18<6,Lin_parameters_wd!E$9,Lin_parameters_wknd!E$10)","v":-1.2756454396407539E-2},{"$f":"IF($C18<6,Lin_parameters_wd!F$9,Lin_parameters_wknd!F$10)","v":16.399999999999999},1.771938814155029,-9.5984753200240996E-2,1.9255144192754146,{"$f":"$K18*'Input and Output'!$C$30/SUM($K$2:$K$366)","v":2.0678883525021705}]
["2016-01-18",{"$f":"'Input and Output'!C52","v":-5.3},2,{"$f":"IF($C19<6,Lin_parameters_wd!B$9,Lin_parameters_wknd!B$10)","v":1.771938814155029},{"$f":"IF($C19<6,Lin_parameters_wd!C$9,Lin_parameters_wknd!C$10)","v":-9.5984753200240996E-2},{"$f":"IF($C19<6,Lin_parameters_wd!D$9,Lin_parameters_wknd!D$10)","v":0.40699471377216029},{"$f":"IF($C19<6,Lin_parameters_wd!E$9,Lin_parameters_wknd!E$10)","v":-1.2756454396407539E-2},{"$f":"IF($C19<6,Lin_parameters_wd!F$9,Lin_parameters_wknd!F$10)","v":16.399999999999999},1.771938814155029,-9.5984753200240996E-2,2.2806580061163064,{"$f":"$K19*'Input and Output'!$C$30/SUM($K$2:$K$366)","v":2.449291513830083}]
["2016-01-19",{"$f":"'Input and Output'!C53","v":-7.3},3,{"$f":"IF($C20<6,Lin_parameters_wd!B$9,Lin_parameters_wknd!B$10)","v":1.771938814155029},{"$f":"IF($C20<6,Lin_parameters_wd!C$9,Lin_parameters_wknd!C$10)","v":-9.5984753200240996E-2},{"$f":"IF($C20<6,Lin_parameters_wd!D$9,Lin_parameters_wknd!D$10)","v":0.40699471377216029},{"$f":"IF($C20<6,Lin_parameters_wd!E$9,Lin_parameters_wknd!E$10)","v":-1.2756454396407539E-2},{"$f":"IF($C20<6,Lin_parameters_wd!F$9,Lin_parameters_wknd!F$10)","v":16.399999999999999},1.771938814155029,-9.5984753200240996E-2,2.4726275125167883,{"$f":"$K20*'Input and Output'!$C$30/SUM($K$2:$K$366)","v":2.6554553848181439}]
["2016-01-20",{"$f":"'Input and Output'!C54","v":-3.3},4,{"$f":"IF($C21<6,Lin_parameters_wd!B$9,Lin_parameters_wknd!B$10)","v":1.771938814155029},{"$f":"IF($C21<6,Lin_parameters_wd!C$9,Lin_parameters_wknd!C$10)","v":-9.5984753200240996E-2},{"$f":"IF($C21<6,Lin_parameters_wd!D$9,Lin_parameters_wknd!D$10)","v":0.40699471377216029},{"$f":"IF($C21<6,Lin_parameters_wd!E$9,Lin_parameters_wknd!E$10)","v":-1.2756454396407539E-2},{"$f":"IF($C21<6,Lin_parameters_wd!F$9,Lin_parameters_wknd!F$10)","v":16.399999999999999},1.771938814155029,-9.5984753200240996E-2,2.0886884997158242,{"$f":"$K21*'Input and Output'!$C$30/SUM($K$2:$K$366)","v":2.2431276428420217}]
["2016-01-21",{"$f":"'Input and Output'!C55","v":-4.2},5,{"$f":"IF($C22<6,Lin_parameters_wd!B$9,Lin_parameters_wknd!B$10)","v":1.771938814155029},{"$f":"IF($C22<6,Lin_parameters_wd!C$9,Lin_parameters_wknd!C$10)","v":-9.5984753200240996E-2},{"$f":"IF($C22<6,Lin_parameters_wd!D$9,Lin_parameters_wknd!D$10)","v":0.40699471377216029},{"$f":"IF($C22<6,Lin_parameters_wd!E$9,Lin_parameters_wknd!E$10)","v":-1.2756454396407539E-2},{"$f":"IF($C22<6,Lin_parameters_wd!F$9,Lin_parameters_wknd!F$10)","v":16.399999999999999},1.771938814155029,-9.5984753200240996E-2,2.1750747775960413,{"$f":"$K22*'Input and Output'!$C$30/SUM($K$2:$K$366)","v":2.3359013847866494}]
["2016-01-22",{"$f":"'Input and Output'!C56","v":-6.4},6,{"$f":"IF($C23<6,Lin_parameters_wd!B$9,Lin_parameters_wknd!B$10)","v":1.31124751273035},{"$f":"IF($C23<6,Lin_parameters_wd!C$9,Lin_parameters_wknd!C$10)","v":-7.5310765362349638E-2},{"$f":"IF($C23<6,Lin_parameters_wd!D$9,Lin_parameters_wknd!D$10)","v":0.29524473618599389},{"$f":"IF($C23<6,Lin_parameters_wd!E$9,Lin_parameters_wknd!E$10)","v":-9.762199133681506E-3},{"$f":"IF($C23<6,Lin_parameters_wd!F$9,Lin_parameters_wknd!F$10)","v":15.5},1.31124751273035,-7.5310765362349638E-2,1.7932364110493877,{"$f":"$K23*'Input and Output'!$C$30/SUM($K$2:$K$366)","v":1.9258296123730152}]
["2016-01-23",{"$f":"'Input and Output'!C57","v":1},7,{"$f":"IF($C24<6,Lin_parameters_wd!B$9,Lin_parameters_wknd!B$10)","v":1.31124751273035},{"$f":"IF($C24<6,Lin_parameters_wd!C$9,Lin_parameters_wknd!C$10)","v":-7.5310765362349638E-2},{"$f":"IF($C24<6,Lin_parameters_wd!D$9,Lin_parameters_wknd!D$10)","v":0.29524473618599389},{"$f":"IF($C24<6,Lin_parameters_wd!E$9,Lin_parameters_wknd!E$10)","v":-9.762199133681506E-3},{"$f":"IF($C24<6,Lin_parameters_wd!F$9,Lin_parameters_wknd!F$10)","v":15.5},1.31124751273035,-7.5310765362349638E-2,1.2359367473680003,{"$f":"$K24*'Input and Output'!$C$30/SUM($K$2:$K$366)","v":1.3273228072077818}]
["2016-01-24",{"$f":"'Input and Output'!C58","v":3.4},1,{"$f":"IF($C25<6,Lin_parameters_wd!B$9,Lin_parameters_wknd!B$10)","v":1.771938814155029},{"$f":"IF($C25<6,Lin_parameters_wd!C$9,Lin_parameters_wknd!C$10)","v":-9.5984753200240996E-2},{"$f":"IF($C25<6,Lin_parameters_wd!D$9,Lin_parameters_wknd!D$10)","v":0.40699471377216029},{"$f":"IF($C25<6,Lin_parameters_wd!E$9,Lin_parameters_wknd!E$10)","v":-1.2756454396407539E-2},{"$f":"IF($C25<6,Lin_parameters_wd!F$9,Lin_parameters_wknd!F$10)","v":16.399999999999999},1.771938814155029,-9.5984753200240996E-2,1.4455906532742095,{"$f":"$K25*'Input and Output'!$C$30/SUM($K$2:$K$366)","v":1.5524786750320181}]
["2016-01-25",{"$f":"'Input and Output'!C59","v":6.5},2,{"$f":"IF($C26<6,Lin_parameters_wd!B$9,Lin_parameters_wknd!B$10)","v":1.771938814155029},{"$f":"IF($C26<6,Lin_parameters_wd!C$9,Lin_parameters_wknd!C$10)","v":-9.5984753200240996E-2},{"$f":"IF($C26<6,Lin_parameters_wd!D$9,Lin_parameters_wknd!D$10)","v":0.40699471377216029},{"$f":"IF($C26<6,Lin_parameters_wd!E$9,Lin_parameters_wknd!E$10)","v":-1.2756454396407539E-2},{"$f":"IF($C26<6,Lin_parameters_wd!F$9,Lin_parameters_wknd!F$10)","v":16.399999999999999},1.771938814155029,-9.5984753200240996E-2,1.1480379183534626,{"$f":"$K26*'Input and Output'!$C$30/SUM($K$2:$K$366)","v":1.2329246750005238}]
["2016-01-26",{"$f":"'Input and Output'!C60","v":7.7},3,{"$f":"IF($C27<6,Lin_parameters_wd!B$9,Lin_parameters_wknd!B$10)","v":1.771938814155029},{"$f":"IF($C27<6,Lin_parameters_wd!C$9,Lin_parameters_wknd!C$10)","v":-9.5984753200240996E-2},{"$f":"IF($C27<6,Lin_parameters_wd!D$9,Lin_parameters_wknd!D$10)","v":0.40699471377216029},{"$f":"IF($C27<6,Lin_parameters_wd!E$9,Lin_parameters_wknd!E$10)","v":-1.2756454396407539E-2},{"$f":"IF($C27<6,Lin_parameters_wd!F$9,Lin_parameters_wknd!F$10)","v":16.399999999999999},1.771938814155029,-9.5984753200240996E-2,1.0328562145131732,{"$f":"$K27*'Input and Output'!$C$30/SUM($K$2:$K$366)","v":1.1092263524076871}]
["2016-01-27",{"$f":"'Input and Output'!C61","v":9.4},4,{"$f":"IF($C28<6,Lin_parameters_wd!B$9,Lin_parameters_wknd!B$10)","v":1.771938814155029},{"$f":"IF($C28<6,Lin_parameters_wd!C$9,Lin_parameters_wknd!C$10)","v":-9.5984753200240996E-2},{"$f":"IF($C28<6,Lin_parameters_wd!D$9,Lin_parameters_wknd!D$10)","v":0.40699471377216029},{"$f":"IF($C28<6,Lin_parameters_wd!E$9,Lin_parameters_wknd!E$10)","v":-1.2756454396407539E-2},{"$f":"IF($C28<6,Lin_parameters_wd!F$9,Lin_parameters_wknd!F$10)","v":16.399999999999999},1.771938814155029,-9.5984753200240996E-2,0.86968213407276351,{"$f":"$K28*'Input and Output'!$C$30/SUM($K$2:$K$366)","v":0.93398706206783522}]
["2016-01-28",{"$f":"'Input and Output'!C62","v":7.3},5,{"$f":"IF($C29<6,Lin_parameters_wd!B$9,Lin_parameters_wknd!B$10)","v":1.771938814155029},{"$f":"IF($C29<6,Lin_parameters_wd!C$9,Lin_parameters_wknd!C$10)","v":-9.5984753200240996E-2},{"$f":"IF($C29<6,Lin_parameters_wd!D$9,Lin_parameters_wknd!D$10)","v":0.40699471377216029},{"$f":"IF($C29<6,Lin_parameters_wd!E$9,Lin_parameters_wknd!E$10)","v":-1.2756454396407539E-2},{"$f":"IF($C29<6,Lin_parameters_wd!F$9,Lin_parameters_wknd!F$10)","v":16.399999999999999},1.771938814155029,-9.5984753200240996E-2,1.0712501157932697,{"$f":"$K29*'Input and Output'!$C$30/SUM($K$2:$K$366)","v":1.1504591266052995}]
["2016-01-29",{"$f":"'Input and Output'!C63","v":4.9000000000000004},6,{"$f":"IF($C30<6,Lin_parameters_wd!B$9,Lin_parameters_wknd!B$10)","v":1.31124751273035},{"$f":"IF($C30<6,Lin_parameters_wd!C$9,Lin_parameters_wknd!C$10)","v":-7.5310765362349638E-2},{"$f":"IF($C30<6,Lin_parameters_wd!D$9,Lin_parameters_wknd!D$10)","v":0.29524473618599389},{"$f":"IF($C30<6,Lin_parameters_wd!E$9,Lin_parameters_wknd!E$10)","v":-9.762199133681506E-3},{"$f":"IF($C30<6,Lin_parameters_wd!F$9,Lin_parameters_wknd!F$10)","v":15.5},1.31124751273035,-7.5310765362349638E-2,0.94222476245483677,{"$f":"$K30*'Input and Output'!$C$30/SUM($K$2:$K$366)","v":1.0118935450261051}]
["2016-01-30",{"$f":"'Input and Output'!C64","v":6.1},7,{"$f":"IF($C31<6,Lin_parameters_wd!B$9,Lin_parameters_wknd!B$10)","v":1.31124751273035},{"$f":"IF($C31<6,Lin_parameters_wd!C$9,Lin_parameters_wknd!C$10)","v":-7.5310765362349638E-2},{"$f":"IF($C31<6,Lin_parameters_wd!D$9,Lin_parameters_wknd!D$10)","v":0.29524473618599389},{"$f":"IF($C31<6,Lin_parameters_wd!E$9,Lin_parameters_wknd!E$10)","v":-9.762199133681506E-3},{"$f":"IF($C31<6,Lin_parameters_wd!F$9,Lin_parameters_wknd!F$10)","v":15.5},1.31124751273035,-7.5310765362349638E-2,0.85185184402001723,{"$f":"$K31*'Input and Output'!$C$30/SUM($K$2:$K$366)","v":0.91483838743174284}]
["2016-01-31",{"$f":"'Input and Output'!C65","v":3.9},1,{"$f":"IF($C32<6,Lin_parameters_wd!B$9,Lin_parameters_wknd!B$10)","v":1.771938814155029},{"$f":"IF($C32<6,Lin_parameters_wd!C$9,Lin_parameters_wknd!C$10)","v":-9.5984753200240996E-2},{"$f":"IF($C32<6,Lin_parameters_wd!D$9,Lin_parameters_wknd!D$10)","v":0.40699471377216029},{"$f":"IF($C32<6,Lin_parameters_wd!E$9,Lin_parameters_wknd!E$10)","v":-1.2756454396407539E-2},{"$f":"IF($C32<6,Lin_parameters_wd!F$9,Lin_parameters_wknd!F$10)","v":16.399999999999999},1.771938814155029,-9.5984753200240996E-2,1.3975982766740891,{"$f":"$K32*'Input and Output'!$C$30/SUM($K$2:$K$366)","v":1.500937707285003}]
["2016-02-01",{"$f":"'Input and Output'!C66","v":10.1},2,{"$f":"IF($C33<6,Lin_parameters_wd!B$9,Lin_parameters_wknd!B$10)","v":1.771938814155029},{"$f":"IF($C33<6,Lin_parameters_wd!C$9,Lin_parameters_wknd!C$10)","v":-9.5984753200240996E-2},{"$f":"IF($C33<6,Lin_parameters_wd!D$9,Lin_parameters_wknd!D$10)","v":0.40699471377216029},{"$f":"IF($C33<6,Lin_parameters_wd!E$9,Lin_parameters_wknd!E$10)","v":-1.2756454396407539E-2},{"$f":"IF($C33<6,Lin_parameters_wd!F$9,Lin_parameters_wknd!F$10)","v":16.399999999999999},1.771938814155029,-9.5984753200240996E-2,0.80249280683259494,{"$f":"$K33*'Input and Output'!$C$30/SUM($K$2:$K$366)","v":0.86182970722201413}]
["2016-02-02",{"$f":"'Input and Output'!C67","v":8.3000000000000007},3,{"$f":"IF($C34<6,Lin_parameters_wd!B$9,Lin_parameters_wknd!B$10)","v":1.771938814155029},{"$f":"IF($C34<6,Lin_parameters_wd!C$9,Lin_parameters_wknd!C$10)","v":-9.5984753200240996E-2},{"$f":"IF($C34<6,Lin_parameters_wd!D$9,Lin_parameters_wknd!D$10)","v":0.40699471377216029},{"$f":"IF($C34<6,Lin_parameters_wd!E$9,Lin_parameters_wknd!E$10)","v":-1.2756454396407539E-2},{"$f":"IF($C34<6,Lin_parameters_wd!F$9,Lin_parameters_wknd!F$10)","v":16.399999999999999},1.771938814155029,-9.5984753200240996E-2,0.97526536259302865,{"$f":"$K34*'Input and Output'!$C$30/SUM($K$2:$K$366)","v":1.047377191111269}]
["2016-02-03",{"$f":"'Input and Output'!C68","v":4.4000000000000004},4,{"$f":"IF($C35<6,Lin_parameters_wd!B$9,Lin_parameters_wknd!B$10)","v":1.771938814155029},{"$f":"IF($C35<6,Lin_parameters_wd!C$9,Lin_parameters_wknd!C$10)","v":-9.5984753200240996E-2},{"$f":"IF($C35<6,Lin_parameters_wd!D$9,Lin_parameters_wknd!D$10)","v":0.40699471377216029},{"$f":"IF($C35<6,Lin_parameters_wd!E$9,Lin_parameters_wknd!E$10)","v":-1.2756454396407539E-2},{"$f":"IF($C35<6,Lin_parameters_wd!F$9,Lin_parameters_wknd!F$10)","v":16.399999999999999},1.771938814155029,-9.5984753200240996E-2,1.3496059000739686,{"$f":"$K35*'Input and Output'!$C$30/SUM($K$2:$K$366)","v":1.4493967395379879}]
["2016-02-04",{"$f":"'Input and Output'!C69","v":2.7},5,{"$f":"IF($C36<6,Lin_parameters_wd!B$9,Lin_parameters_wknd!B$10)","v":1.771938814155029},{"$f":"IF($C36<6,Lin_parameters_wd!C$9,Lin_parameters_wknd!C$10)","v":-9.5984753200240996E-2},{"$f":"IF($C36<6,Lin_parameters_wd!D$9,Lin_parameters_wknd!D$10)","v":0.40699471377216029},{"$f":"IF($C36<6,Lin_parameters_wd!E$9,Lin_parameters_wknd!E$10)","v":-1.2756454396407539E-2},{"$f":"IF($C36<6,Lin_parameters_wd!F$9,Lin_parameters_wknd!F$10)","v":16.399999999999999},1.771938814155029,-9.5984753200240996E-2,1.5127799805143782,{"$f":"$K36*'Input and Output'!$C$30/SUM($K$2:$K$366)","v":1.6246360298778393}]
["2016-02-05",{"$f":"'Input and Output'!C70","v":4.4000000000000004},6,{"$f":"IF($C37<6,Lin_parameters_wd!B$9,Lin_parameters_wknd!B$10)","v":1.31124751273035},{"$f":"IF($C37<6,Lin_parameters_wd!C$9,Lin_parameters_wknd!C$10)","v":-7.5310765362349638E-2},{"$f":"IF($C37<6,Lin_parameters_wd!D$9,Lin_parameters_wknd!D$10)","v":0.29524473618599389},{"$f":"IF($C37<6,Lin_parameters_wd!E$9,Lin_parameters_wknd!E$10)","v":-9.762199133681506E-3},{"$f":"IF($C37<6,Lin_parameters_wd!F$9,Lin_parameters_wknd!F$10)","v":15.5},1.31124751273035,-7.5310765362349638E-2,0.97988014513601152,{"$f":"$K37*'Input and Output'!$C$30/SUM($K$2:$K$366)","v":1.0523331940237559}]
["2016-02-06",{"$f":"'Input and Output'!C71","v":8.5},7,{"$f":"IF($C38<6,Lin_parameters_wd!B$9,Lin_parameters_wknd!B$10)","v":1.31124751273035},{"$f":"IF($C38<6,Lin_parameters_wd!C$9,Lin_parameters_wknd!C$10)","v":-7.5310765362349638E-2},{"$f":"IF($C38<6,Lin_parameters_wd!D$9,Lin_parameters_wknd!D$10)","v":0.29524473618599389},{"$f":"IF($C38<6,Lin_parameters_wd!E$9,Lin_parameters_wknd!E$10)","v":-9.762199133681506E-3},{"$f":"IF($C38<6,Lin_parameters_wd!F$9,Lin_parameters_wknd!F$10)","v":15.5},1.31124751273035,-7.5310765362349638E-2,0.67110600715037805,{"$f":"$K38*'Input and Output'!$C$30/SUM($K$2:$K$366)","v":0.7207280722430186}]
["2016-02-07",{"$f":"'Input and Output'!C72","v":8.1999999999999993},1,{"$f":"IF($C39<6,Lin_parameters_wd!B$9,Lin_parameters_wknd!B$10)","v":1.771938814155029},{"$f":"IF($C39<6,Lin_parameters_wd!C$9,Lin_parameters_wknd!C$10)","v":-9.5984753200240996E-2},{"$f":"IF($C39<6,Lin_parameters_wd!D$9,Lin_parameters_wknd!D$10)","v":0.40699471377216029},{"$f":"IF($C39<6,Lin_parameters_wd!E$9,Lin_parameters_wknd!E$10)","v":-1.2756454396407539E-2},{"$f":"IF($C39<6,Lin_parameters_wd!F$9,Lin_parameters_wknd!F$10)","v":16.399999999999999},1.771938814155029,-9.5984753200240996E-2,0.98486383791305288,{"$f":"$K39*'Input and Output'!$C$30/SUM($K$2:$K$366)","v":1.057685384660672}]
["2016-02-08",{"$f":"'Input and Output'!C73","v":6.9},2,{"$f":"IF($C40<6,Lin_parameters_wd!B$9,Lin_parameters_wknd!B$10)","v":1.771938814155029},{"$f":"IF($C40<6,Lin_parameters_wd!C$9,Lin_parameters_wknd!C$10)","v":-9.5984753200240996E-2},{"$f":"IF($C40<6,Lin_parameters_wd!D$9,Lin_parameters_wknd!D$10)","v":0.40699471377216029},{"$f":"IF($C40<6,Lin_parameters_wd!E$9,Lin_parameters_wknd!E$10)","v":-1.2756454396407539E-2},{"$f":"IF($C40<6,Lin_parameters_wd!F$9,Lin_parameters_wknd!F$10)","v":16.399999999999999},1.771938814155029,-9.5984753200240996E-2,1.1096440170733661,{"$f":"$K40*'Input and Output'!$C$30/SUM($K$2:$K$366)","v":1.1916919008029114}]
["2016-02-09",{"$f":"'Input and Output'!C74","v":6.4},3,{"$f":"IF($C41<6,Lin_parameters_wd!B$9,Lin_parameters_wknd!B$10)","v":1.771938814155029},{"$f":"IF($C41<6,Lin_parameters_wd!C$9,Lin_parameters_wknd!C$10)","v":-9.5984753200240996E-2},{"$f":"IF($C41<6,Lin_parameters_wd!D$9,Lin_parameters_wknd!D$10)","v":0.40699471377216029},{"$f":"IF($C41<6,Lin_parameters_wd!E$9,Lin_parameters_wknd!E$10)","v":-1.2756454396407539E-2},{"$f":"IF($C41<6,Lin_parameters_wd!F$9,Lin_parameters_wknd!F$10)","v":16.399999999999999},1.771938814155029,-9.5984753200240996E-2,1.1576363936734866,{"$f":"$K41*'Input and Output'!$C$30/SUM($K$2:$K$366)","v":1.2432328685499268}]
["2016-02-10",{"$f":"'Input and Output'!C75","v":3.2},4,{"$f":"IF($C42<6,Lin_parameters_wd!B$9,Lin_parameters_wknd!B$10)","v":1.771938814155029},{"$f":"IF($C42<6,Lin_parameters_wd!C$9,Lin_parameters_wknd!C$10)","v":-9.5984753200240996E-2},{"$f":"IF($C42<6,Lin_parameters_wd!D$9,Lin_parameters_wknd!D$10)","v":0.40699471377216029},{"$f":"IF($C42<6,Lin_parameters_wd!E$9,Lin_parameters_wknd!E$10)","v":-1.2756454396407539E-2},{"$f":"IF($C42<6,Lin_parameters_wd!F$9,Lin_parameters_wknd!F$10)","v":16.399999999999999},1.771938814155029,-9.5984753200240996E-2,1.4647876039142578,{"$f":"$K42*'Input and Output'!$C$30/SUM($K$2:$K$366)","v":1.5730950621308242}]
["2016-02-11",{"$f":"'Input and Output'!C76","v":3.7},5,{"$f":"IF($C43<6,Lin_parameters_wd!B$9,Lin_parameters_wknd!B$10)","v":1.771938814155029},{"$f":"IF($C43<6,Lin_parameters_wd!C$9,Lin_parameters_wknd!C$10)","v":-9.5984753200240996E-2},{"$f":"IF($C43<6,Lin_parameters_wd!D$9,Lin_parameters_wknd!D$10)","v":0.40699471377216029},{"$f":"IF($C43<6,Lin_parameters_wd!E$9,Lin_parameters_wknd!E$10)","v":-1.2756454396407539E-2},{"$f":"IF($C43<6,Lin_parameters_wd!F$9,Lin_parameters_wknd!F$10)","v":16.399999999999999},1.771938814155029,-9.5984753200240996E-2,1.4167952273141373,{"$f":"$K43*'Input and Output'!$C$30/SUM($K$2:$K$366)","v":1.5215540943838088}]
["2016-02-12",{"$f":"'Input and Output'!C77","v":2.7},6,{"$f":"IF($C44<6,Lin_parameters_wd!B$9,Lin_parameters_wknd!B$10)","v":1.31124751273035},{"$f":"IF($C44<6,Lin_parameters_wd!C$9,Lin_parameters_wknd!C$10)","v":-7.5310765362349638E-2},{"$f":"IF($C44<6,Lin_parameters_wd!D$9,Lin_parameters_wknd!D$10)","v":0.29524473618599389},{"$f":"IF($C44<6,Lin_parameters_wd!E$9,Lin_parameters_wknd!E$10)","v":-9.762199133681506E-3},{"$f":"IF($C44<6,Lin_parameters_wd!F$9,Lin_parameters_wknd!F$10)","v":15.5},1.31124751273035,-7.5310765362349638E-2,1.1079084462520059,{"$f":"$K44*'Input and Output'!$C$30/SUM($K$2:$K$366)","v":1.1898280006157689}]
["2016-02-13",{"$f":"'Input and Output'!C78","v":2},7,{"$f":"IF($C45<6,Lin_parameters_wd!B$9,Lin_parameters_wknd!B$10)","v":1.31124751273035},{"$f":"IF($C45<6,Lin_parameters_wd!C$9,Lin_parameters_wknd!C$10)","v":-7.5310765362349638E-2},{"$f":"IF($C45<6,Lin_parameters_wd!D$9,Lin_parameters_wknd!D$10)","v":0.29524473618599389},{"$f":"IF($C45<6,Lin_parameters_wd!E$9,Lin_parameters_wknd!E$10)","v":-9.762199133681506E-3},{"$f":"IF($C45<6,Lin_parameters_wd!F$9,Lin_parameters_wknd!F$10)","v":15.5},1.31124751273035,-7.5310765362349638E-2,1.1606259820056508,{"$f":"$K45*'Input and Output'!$C$30/SUM($K$2:$K$366)","v":1.2464435092124804}]
["2016-02-14",{"$f":"'Input and Output'!C79","v":4},1,{"$f":"IF($C46<6,Lin_parameters_wd!B$9,Lin_parameters_wknd!B$10)","v":1.771938814155029},{"$f":"IF($C46<6,Lin_parameters_wd!C$9,Lin_parameters_wknd!C$10)","v":-9.5984753200240996E-2},{"$f":"IF($C46<6,Lin_parameters_wd!D$9,Lin_parameters_wknd!D$10)","v":0.40699471377216029},{"$f":"IF($C46<6,Lin_parameters_wd!E$9,Lin_parameters_wknd!E$10)","v":-1.2756454396407539E-2},{"$f":"IF($C46<6,Lin_parameters_wd!F$9,Lin_parameters_wknd!F$10)","v":16.399999999999999},1.771938814155029,-9.5984753200240996E-2,1.3879998013540651,{"$f":"$K46*'Input and Output'!$C$30/SUM($K$2:$K$366)","v":1.4906295137355998}]
["2016-02-15",{"$f":"'Input and Output'!C80","v":1.5},2,{"$f":"IF($C47<6,Lin_parameters_wd!B$9,Lin_parameters_wknd!B$10)","v":1.771938814155029},{"$f":"IF($C47<6,Lin_parameters_wd!C$9,Lin_parameters_wknd!C$10)","v":-9.5984753200240996E-2},{"$f":"IF($C47<6,Lin_parameters_wd!D$9,Lin_parameters_wknd!D$10)","v":0.40699471377216029},{"$f":"IF($C47<6,Lin_parameters_wd!E$9,Lin_parameters_wknd!E$10)","v":-1.2756454396407539E-2},{"$f":"IF($C47<6,Lin_parameters_wd!F$9,Lin_parameters_wknd!F$10)","v":16.399999999999999},1.771938814155029,-9.5984753200240996E-2,1.6279616843546676,{"$f":"$K47*'Input and Output'!$C$30/SUM($K$2:$K$366)","v":1.7483343524706763}]
["2016-02-16",{"$f":"'Input and Output'!C81","v":-1},3,{"$f":"IF($C48<6,Lin_parameters_wd!B$9,Lin_parameters_wknd!B$10)","v":1.771938814155029},{"$f":"IF($C48<6,Lin_parameters_wd!C$9,Lin_parameters_wknd!C$10)","v":-9.5984753200240996E-2},{"$f":"IF($C48<6,Lin_parameters_wd!D$9,Lin_parameters_wknd!D$10)","v":0.40699471377216029},{"$f":"IF($C48<6,Lin_parameters_wd!E$9,Lin_parameters_wknd!E$10)","v":-1.2756454396407539E-2},{"$f":"IF($C48<6,Lin_parameters_wd!F$9,Lin_parameters_wknd!F$10)","v":16.399999999999999},1.771938814155029,-9.5984753200240996E-2,1.8679235673552699,{"$f":"$K48*'Input and Output'!$C$30/SUM($K$2:$K$366)","v":2.006039191205752}]
["2016-02-17",{"$f":"'Input and Output'!C82","v":0.5},4,{"$f":"IF($C49<6,Lin_parameters_wd!B$9,Lin_parameters_wknd!B$10)","v":1.771938814155029},{"$f":"IF($C49<6,Lin_parameters_wd!C$9,Lin_parameters_wknd!C$10)","v":-9.5984753200240996E-2},{"$f":"IF($C49<6,Lin_parameters_wd!D$9,Lin_parameters_wknd!D$10)","v":0.40699471377216029},{"$f":"IF($C49<6,Lin_parameters_wd!E$9,Lin_parameters_wknd!E$10)","v":-1.2756454396407539E-2},{"$f":"IF($C49<6,Lin_parameters_wd!F$9,Lin_parameters_wknd!F$10)","v":16.399999999999999},1.771938814155029,-9.5984753200240996E-2,1.7239464375549085,{"$f":"$K49*'Input and Output'!$C$30/SUM($K$2:$K$366)","v":1.8514162879647065}]
["2016-02-18",{"$f":"'Input and Output'!C83","v":1.8},5,{"$f":"IF($C50<6,Lin_parameters_wd!B$9,Lin_parameters_wknd!B$10)","v":1.771938814155029},{"$f":"IF($C50<6,Lin_parameters_wd!C$9,Lin_parameters_wknd!C$10)","v":-9.5984753200240996E-2},{"$f":"IF($C50<6,Lin_parameters_wd!D$9,Lin_parameters_wknd!D$10)","v":0.40699471377216029},{"$f":"IF($C50<6,Lin_parameters_wd!E$9,Lin_parameters_wknd!E$10)","v":-1.2756454396407539E-2},{"$f":"IF($C50<6,Lin_parameters_wd!F$9,Lin_parameters_wknd!F$10)","v":16.399999999999999},1.771938814155029,-9.5984753200240996E-2,1.5991662583945951,{"$f":"$K50*'Input and Output'!$C$30/SUM($K$2:$K$366)","v":1.7174097718224668}]
["2016-02-19",{"$f":"'Input and Output'!C84","v":1},6,{"$f":"IF($C51<6,Lin_parameters_wd!B$9,Lin_parameters_wknd!B$10)","v":1.31124751273035},{"$f":"IF($C51<6,Lin_parameters_wd!C$9,Lin_parameters_wknd!C$10)","v":-7.5310765362349638E-2},{"$f":"IF($C51<6,Lin_parameters_wd!D$9,Lin_parameters_wknd!D$10)","v":0.29524473618599389},{"$f":"IF($C51<6,Lin_parameters_wd!E$9,Lin_parameters_wknd!E$10)","v":-9.762199133681506E-3},{"$f":"IF($C51<6,Lin_parameters_wd!F$9,Lin_parameters_wknd!F$10)","v":15.5},1.31124751273035,-7.5310765362349638E-2,1.2359367473680003,{"$f":"$K51*'Input and Output'!$C$30/SUM($K$2:$K$366)","v":1.3273228072077818}]
["2016-02-20",{"$f":"'Input and Output'!C85","v":3.3},7,{"$f":"IF($C52<6,Lin_parameters_wd!B$9,Lin_parameters_wknd!B$10)","v":1.31124751273035},{"$f":"IF($C52<6,Lin_parameters_wd!C$9,Lin_parameters_wknd!C$10)","v":-7.5310765362349638E-2},{"$f":"IF($C52<6,Lin_parameters_wd!D$9,Lin_parameters_wknd!D$10)","v":0.29524473618599389},{"$f":"IF($C52<6,Lin_parameters_wd!E$9,Lin_parameters_wknd!E$10)","v":-9.762199133681506E-3},{"$f":"IF($C52<6,Lin_parameters_wd!F$9,Lin_parameters_wknd!F$10)","v":15.5},1.31124751273035,-7.5310765362349638E-2,1.0627219870345963,{"$f":"$K52*'Input and Output'!$C$30/SUM($K$2:$K$366)","v":1.141300421818588}]
["2016-02-21",{"$f":"'Input and Output'!C86","v":10},1,{"$f":"IF($C53<6,Lin_parameters_wd!B$9,Lin_parameters_wknd!B$10)","v":1.771938814155029},{"$f":"IF($C53<6,Lin_parameters_wd!C$9,Lin_parameters_wknd!C$10)","v":-9.5984753200240996E-2},{"$f":"IF($C53<6,Lin_parameters_wd!D$9,Lin_parameters_wknd!D$10)","v":0.40699471377216029},{"$f":"IF($C53<6,Lin_parameters_wd!E$9,Lin_parameters_wknd!E$10)","v":-1.2756454396407539E-2},{"$f":"IF($C53<6,Lin_parameters_wd!F$9,Lin_parameters_wknd!F$10)","v":16.399999999999999},1.771938814155029,-9.5984753200240996E-2,0.81209128215261894,{"$f":"$K53*'Input and Output'!$C$30/SUM($K$2:$K$366)","v":0.87213790077141717}]
["2016-02-22",{"$f":"'Input and Output'!C87","v":7.8},2,{"$f":"IF($C54<6,Lin_parameters_wd!B$9,Lin_parameters_wknd!B$10)","v":1.771938814155029},{"$f":"IF($C54<6,Lin_parameters_wd!C$9,Lin_parameters_wknd!C$10)","v":-9.5984753200240996E-2},{"$f":"IF($C54<6,Lin_parameters_wd!D$9,Lin_parameters_wknd!D$10)","v":0.40699471377216029},{"$f":"IF($C54<6,Lin_parameters_wd!E$9,Lin_parameters_wknd!E$10)","v":-1.2756454396407539E-2},{"$f":"IF($C54<6,Lin_parameters_wd!F$9,Lin_parameters_wknd!F$10)","v":16.399999999999999},1.771938814155029,-9.5984753200240996E-2,1.0232577391931492,{"$f":"$K54*'Input and Output'!$C$30/SUM($K$2:$K$366)","v":1.0989181588582841}]
["2016-02-23",{"$f":"'Input and Output'!C88","v":3.9},3,{"$f":"IF($C55<6,Lin_parameters_wd!B$9,Lin_parameters_wknd!B$10)","v":1.771938814155029},{"$f":"IF($C55<6,Lin_parameters_wd!C$9,Lin_parameters_wknd!C$10)","v":-9.5984753200240996E-2},{"$f":"IF($C55<6,Lin_parameters_wd!D$9,Lin_parameters_wknd!D$10)","v":0.40699471377216029},{"$f":"IF($C55<6,Lin_parameters_wd!E$9,Lin_parameters_wknd!E$10)","v":-1.2756454396407539E-2},{"$f":"IF($C55<6,Lin_parameters_wd!F$9,Lin_parameters_wknd!F$10)","v":16.399999999999999},1.771938814155029,-9.5984753200240996E-2,1.3975982766740891,{"$f":"$K55*'Input and Output'!$C$30/SUM($K$2:$K$366)","v":1.500937707285003}]
["2016-02-24",{"$f":"'Input and Output'!C89","v":2.8},4,{"$f":"IF($C56<6,Lin_parameters_wd!B$9,Lin_parameters_wknd!B$10)","v":1.771938814155029},{"$f":"IF($C56<6,Lin_parameters_wd!C$9,Lin_parameters_wknd!C$10)","v":-9.5984753200240996E-2},{"$f":"IF($C56<6,Lin_parameters_wd!D$9,Lin_parameters_wknd!D$10)","v":0.40699471377216029},{"$f":"IF($C56<6,Lin_parameters_wd!E$9,Lin_parameters_wknd!E$10)","v":-1.2756454396407539E-2},{"$f":"IF($C56<6,Lin_parameters_wd!F$9,Lin_parameters_wknd!F$10)","v":16.399999999999999},1.771938814155029,-9.5984753200240996E-2,1.5031815051943542,{"$f":"$K56*'Input and Output'!$C$30/SUM($K$2:$K$366)","v":1.6143278363284366}]
["2016-02-25",{"$f":"'Input and Output'!C90","v":0.7},5,{"$f":"IF($C57<6,Lin_parameters_wd!B$9,Lin_parameters_wknd!B$10)","v":1.771938814155029},{"$f":"IF($C57<6,Lin_parameters_wd!C$9,Lin_parameters_wknd!C$10)","v":-9.5984753200240996E-2},{"$f":"IF($C57<6,Lin_parameters_wd!D$9,Lin_parameters_wknd!D$10)","v":0.40699471377216029},{"$f":"IF($C57<6,Lin_parameters_wd!E$9,Lin_parameters_wknd!E$10)","v":-1.2756454396407539E-2},{"$f":"IF($C57<6,Lin_parameters_wd!F$9,Lin_parameters_wknd!F$10)","v":16.399999999999999},1.771938814155029,-9.5984753200240996E-2,1.7047494869148603,{"$f":"$K57*'Input and Output'!$C$30/SUM($K$2:$K$366)","v":1.8307999008659002}]
["2016-02-26",{"$f":"'Input and Output'!C91","v":1.3},6,{"$f":"IF($C58<6,Lin_parameters_wd!B$9,Lin_parameters_wknd!B$10)","v":1.31124751273035},{"$f":"IF($C58<6,Lin_parameters_wd!C$9,Lin_parameters_wknd!C$10)","v":-7.5310765362349638E-2},{"$f":"IF($C58<6,Lin_parameters_wd!D$9,Lin_parameters_wknd!D$10)","v":0.29524473618599389},{"$f":"IF($C58<6,Lin_parameters_wd!E$9,Lin_parameters_wknd!E$10)","v":-9.762199133681506E-3},{"$f":"IF($C58<6,Lin_parameters_wd!F$9,Lin_parameters_wknd!F$10)","v":15.5},1.31124751273035,-7.5310765362349638E-2,1.2133435177592955,{"$f":"$K58*'Input and Output'!$C$30/SUM($K$2:$K$366)","v":1.3030590178091916}]
["2016-02-27",{"$f":"'Input and Output'!C92","v":1.6},7,{"$f":"IF($C59<6,Lin_parameters_wd!B$9,Lin_parameters_wknd!B$10)","v":1.31124751273035},{"$f":"IF($C59<6,Lin_parameters_wd!C$9,Lin_parameters_wknd!C$10)","v":-7.5310765362349638E-2},{"$f":"IF($C59<6,Lin_parameters_wd!D$9,Lin_parameters_wknd!D$10)","v":0.29524473618599389},{"$f":"IF($C59<6,Lin_parameters_wd!E$9,Lin_parameters_wknd!E$10)","v":-9.762199133681506E-3},{"$f":"IF($C59<6,Lin_parameters_wd!F$9,Lin_parameters_wknd!F$10)","v":15.5},1.31124751273035,-7.5310765362349638E-2,1.1907502881505905,{"$f":"$K59*'Input and Output'!$C$30/SUM($K$2:$K$366)","v":1.2787952284106008}]
["2016-02-28",{"$f":"'Input and Output'!C93","v":1.3},1,{"$f":"IF($C60<6,Lin_parameters_wd!B$9,Lin_parameters_wknd!B$10)","v":1.771938814155029},{"$f":"IF($C60<6,Lin_parameters_wd!C$9,Lin_parameters_wknd!C$10)","v":-9.5984753200240996E-2},{"$f":"IF($C60<6,Lin_parameters_wd!D$9,Lin_parameters_wknd!D$10)","v":0.40699471377216029},{"$f":"IF($C60<6,Lin_parameters_wd!E$9,Lin_parameters_wknd!E$10)","v":-1.2756454396407539E-2},{"$f":"IF($C60<6,Lin_parameters_wd!F$9,Lin_parameters_wknd!F$10)","v":16.399999999999999},1.771938814155029,-9.5984753200240996E-2,1.6471586349947156,{"$f":"$K60*'Input and Output'!$C$30/SUM($K$2:$K$366)","v":1.7689507395694819}]
["2016-02-29",{"$f":"'Input and Output'!C94","v":1.9},2,{"$f":"IF($C61<6,Lin_parameters_wd!B$9,Lin_parameters_wknd!B$10)","v":1.771938814155029},{"$f":"IF($C61<6,Lin_parameters_wd!C$9,Lin_parameters_wknd!C$10)","v":-9.5984753200240996E-2},{"$f":"IF($C61<6,Lin_parameters_wd!D$9,Lin_parameters_wknd!D$10)","v":0.40699471377216029},{"$f":"IF($C61<6,Lin_parameters_wd!E$9,Lin_parameters_wknd!E$10)","v":-1.2756454396407539E-2},{"$f":"IF($C61<6,Lin_parameters_wd!F$9,Lin_parameters_wknd!F$10)","v":16.399999999999999},1.771938814155029,-9.5984753200240996E-2,1.5895677830745711,{"$f":"$K61*'Input and Output'!$C$30/SUM($K$2:$K$366)","v":1.7071015782730639}]
["2016-03-01",{"$f":"'Input and Output'!C95","v":0.9},3,{"$f":"IF($C62<6,Lin_parameters_wd!B$9,Lin_parameters_wknd!B$10)","v":1.771938814155029},{"$f":"IF($C62<6,Lin_parameters_wd!C$9,Lin_parameters_wknd!C$10)","v":-9.5984753200240996E-2},{"$f":"IF($C62<6,Lin_parameters_wd!D$9,Lin_parameters_wknd!D$10)","v":0.40699471377216029},{"$f":"IF($C62<6,Lin_parameters_wd!E$9,Lin_parameters_wknd!E$10)","v":-1.2756454396407539E-2},{"$f":"IF($C62<6,Lin_parameters_wd!F$9,Lin_parameters_wknd!F$10)","v":16.399999999999999},1.771938814155029,-9.5984753200240996E-2,1.6855525362748121,{"$f":"$K62*'Input and Output'!$C$30/SUM($K$2:$K$366)","v":1.8101835137670943}]
["2016-03-02",{"$f":"'Input and Output'!C96","v":4},4,{"$f":"IF($C63<6,Lin_parameters_wd!B$9,Lin_parameters_wknd!B$10)","v":1.771938814155029},{"$f":"IF($C63<6,Lin_parameters_wd!C$9,Lin_parameters_wknd!C$10)","v":-9.5984753200240996E-2},{"$f":"IF($C63<6,Lin_parameters_wd!D$9,Lin_parameters_wknd!D$10)","v":0.40699471377216029},{"$f":"IF($C63<6,Lin_parameters_wd!E$9,Lin_parameters_wknd!E$10)","v":-1.2756454396407539E-2},{"$f":"IF($C63<6,Lin_parameters_wd!F$9,Lin_parameters_wknd!F$10)","v":16.399999999999999},1.771938814155029,-9.5984753200240996E-2,1.3879998013540651,{"$f":"$K63*'Input and Output'!$C$30/SUM($K$2:$K$366)","v":1.4906295137355998}]
["2016-03-03",{"$f":"'Input and Output'!C97","v":3.9},5,{"$f":"IF($C64<6,Lin_parameters_wd!B$9,Lin_parameters_wknd!B$10)","v":1.771938814155029},{"$f":"IF($C64<6,Lin_parameters_wd!C$9,Lin_parameters_wknd!C$10)","v":-9.5984753200240996E-2},{"$f":"IF($C64<6,Lin_parameters_wd!D$9,Lin_parameters_wknd!D$10)","v":0.40699471377216029},{"$f":"IF($C64<6,Lin_parameters_wd!E$9,Lin_parameters_wknd!E$10)","v":-1.2756454396407539E-2},{"$f":"IF($C64<6,Lin_parameters_wd!F$9,Lin_parameters_wknd!F$10)","v":16.399999999999999},1.771938814155029,-9.5984753200240996E-2,1.3975982766740891,{"$f":"$K64*'Input and Output'!$C$30/SUM($K$2:$K$366)","v":1.500937707285003}]
["2016-03-04",{"$f":"'Input and Output'!C98","v":3.4},6,{"$f":"IF($C65<6,Lin_parameters_wd!B$9,Lin_parameters_wknd!B$10)","v":1.31124751273035},{"$f":"IF($C65<6,Lin_parameters_wd!C$9,Lin_parameters_wknd!C$10)","v":-7.5310765362349638E-2},{"$f":"IF($C65<6,Lin_parameters_wd!D$9,Lin_parameters_wknd!D$10)","v":0.29524473618599389},{"$f":"IF($C65<6,Lin_parameters_wd!E$9,Lin_parameters_wknd!E$10)","v":-9.762199133681506E-3},{"$f":"IF($C65<6,Lin_parameters_wd!F$9,Lin_parameters_wknd!F$10)","v":15.5},1.31124751273035,-7.5310765362349638E-2,1.0551909104983612,{"$f":"$K65*'Input and Output'!$C$30/SUM($K$2:$K$366)","v":1.1332124920190578}]
["2016-03-05",{"$f":"'Input and Output'!C99","v":4.8},{"$f":"WEEKDAY(A66)","v":7},{"$f":"IF($C66<6,Lin_parameters_wd!B$9,Lin_parameters_wknd!B$10)","v":1.31124751273035},{"$f":"IF($C66<6,Lin_parameters_wd!C$9,Lin_parameters_wknd!C$10)","v":-7.5310765362349638E-2},{"$f":"IF($C66<6,Lin_parameters_wd!D$9,Lin_parameters_wknd!D$10)","v":0.29524473618599389},{"$f":"IF($C66<6,Lin_parameters_wd!E$9,Lin_parameters_wknd!E$10)","v":-9.762199133681506E-3},{"$f":"IF($C66<6,Lin_parameters_wd!F$9,Lin_parameters_wknd!F$10)","v":15.5},1.31124751273035,-7.5310765362349638E-2,0.94975583899107174,{"$f":"$K66*'Input and Output'!$C$30/SUM($K$2:$K$366)","v":1.0199814748256353}]
["2016-03-06",{"$f":"'Input and Output'!C100","v":2.9},1,{"$f":"IF($C67<6,Lin_parameters_wd!B$9,Lin_parameters_wknd!B$10)","v":1.771938814155029},{"$f":"IF($C67<6,Lin_parameters_wd!C$9,Lin_parameters_wknd!C$10)","v":-9.5984753200240996E-2},{"$f":"IF($C67<6,Lin_parameters_wd!D$9,Lin_parameters_wknd!D$10)","v":0.40699471377216029},{"$f":"IF($C67<6,Lin_parameters_wd!E$9,Lin_parameters_wknd!E$10)","v":-1.2756454396407539E-2},{"$f":"IF($C67<6,Lin_parameters_wd!F$9,Lin_parameters_wknd!F$10)","v":16.399999999999999},{"$f":"IF($B67<$H67,$D67,$F67)","v":1.771938814155029},{"$f":"IF($B67<$H67,$E67,$G67)","v":-9.5984753200240996E-2},{"$f":"MAX($I67+$J67*$B67,0)","v":1.49358302987433},{"$f":"$K67*'Input and Output'!$C$30/SUM($K$2:$K$366)","v":1.6040196427790332}]
[{"$f":"A67+1","v":"2016-03-07"},{"$f":"'Input and Output'!C101","v":1.7},2,{"$f":"IF($C68<6,Lin_parameters_wd!B$9,Lin_parameters_wknd!B$10)","v":1.771938814155029},{"$f":"IF($C68<6,Lin_parameters_wd!C$9,Lin_parameters_wknd!C$10)","v":-9.5984753200240996E-2},{"$f":"IF($C68<6,Lin_parameters_wd!D$9,Lin_parameters_wknd!D$10)","v":0.40699471377216029},{"$f":"IF($C68<6,Lin_parameters_wd!E$9,Lin_parameters_wknd!E$10)","v":-1.2756454396407539E-2},{"$f":"IF($C68<6,Lin_parameters_wd!F$9,Lin_parameters_wknd!F$10)","v":16.399999999999999},1.771938814155029,-9.5984753200240996E-2,1.6087647337146194,{"$f":"$K68*'Input and Output'!$C$30/SUM($K$2:$K$366)","v":1.7277179653718699}]
["2016-03-08",{"$f":"'Input and Output'!C102","v":1.3},3,{"$f":"IF($C69<6,Lin_parameters_wd!B$9,Lin_parameters_wknd!B$10)","v":1.771938814155029},{"$f":"IF($C69<6,Lin_parameters_wd!C$9,Lin_parameters_wknd!C$10)","v":-9.5984753200240996E-2},{"$f":"IF($C69<6,Lin_parameters_wd!D$9,Lin_parameters_wknd!D$10)","v":0.40699471377216029},{"$f":"IF($C69<6,Lin_parameters_wd!E$9,Lin_parameters_wknd!E$10)","v":-1.2756454396407539E-2},{"$f":"IF($C69<6,Lin_parameters_wd!F$9,Lin_parameters_wknd!F$10)","v":16.399999999999999},1.771938814155029,-9.5984753200240996E-2,1.6471586349947156,{"$f":"$K69*'Input and Output'!$C$30/SUM($K$2:$K$366)","v":1.7689507395694819}]
["2016-03-09",{"$f":"'Input and Output'!C103","v":3.4},4,{"$f":"IF($C70<6,Lin_parameters_wd!B$9,Lin_parameters_wknd!B$10)","v":1.771938814155029},{"$f":"IF($C70<6,Lin_parameters_wd!C$9,Lin_parameters_wknd!C$10)","v":-9.5984753200240996E-2},{"$f":"IF($C70<6,Lin_parameters_wd!D$9,Lin_parameters_wknd!D$10)","v":0.40699471377216029},{"$f":"IF($C70<6,Lin_parameters_wd!E$9,Lin_parameters_wknd!E$10)","v":-1.2756454396407539E-2},{"$f":"IF($C70<6,Lin_parameters_wd!F$9,Lin_parameters_wknd!F$10)","v":16.399999999999999},1.771938814155029,-9.5984753200240996E-2,1.4455906532742095,{"$f":"$K70*'Input and Output'!$C$30/SUM($K$2:$K$366)","v":1.5524786750320181}]
["2016-03-10",{"$f":"'Input and Output'!C104","v":3.4},5,{"$f":"IF($C71<6,Lin_parameters_wd!B$9,Lin_parameters_wknd!B$10)","v":1.771938814155029},{"$f":"IF($C71<6,Lin_parameters_wd!C$9,Lin_parameters_wknd!C$10)","v":-9.5984753200240996E-2},{"$f":"IF($C71<6,Lin_parameters_wd!D$9,Lin_parameters_wknd!D$10)","v":0.40699471377216029},{"$f":"IF($C71<6,Lin_parameters_wd!E$9,Lin_parameters_wknd!E$10)","v":-1.2756454396407539E-2},{"$f":"IF($C71<6,Lin_parameters_wd!F$9,Lin_parameters_wknd!F$10)","v":16.399999999999999},1.771938814155029,-9.5984753200240996E-2,1.4455906532742095,{"$f":"$K71*'Input and Output'!$C$30/SUM($K$2:$K$366)","v":1.5524786750320181}]
["2016-03-11",{"$f":"'Input and Output'!C105","v":4.9000000000000004},6,{"$f":"IF($C72<6,Lin_parameters_wd!B$9,Lin_parameters_wknd!B$10)","v":1.31124751273035},{"$f":"IF($C72<6,Lin_parameters_wd!C$9,Lin_parameters_wknd!C$10)","v":-7.5310765362349638E-2},{"$f":"IF($C72<6,Lin_parameters_wd!D$9,Lin_parameters_wknd!D$10)","v":0.29524473618599389},{"$f":"IF($C72<6,Lin_parameters_wd!E$9,Lin_parameters_wknd!E$10)","v":-9.762199133681506E-3},{"$f":"IF($C72<6,Lin_parameters_wd!F$9,Lin_parameters_wknd!F$10)","v":15.5},1.31124751273035,-7.5310765362349638E-2,0.94222476245483677,{"$f":"$K72*'Input and Output'!$C$30/SUM($K$2:$K$366)","v":1.0118935450261051}]
["2016-03-12",{"$f":"'Input and Output'!C106","v":3.4},7,{"$f":"IF($C73<6,Lin_parameters_wd!B$9,Lin_parameters_wknd!B$10)","v":1.31124751273035},{"$f":"IF($C73<6,Lin_parameters_wd!C$9,Lin_parameters_wknd!C$10)","v":-7.5310765362349638E-2},{"$f":"IF($C73<6,Lin_parameters_wd!D$9,Lin_parameters_wknd!D$10)","v":0.29524473618599389},{"$f":"IF($C73<6,Lin_parameters_wd!E$9,Lin_parameters_wknd!E$10)","v":-9.762199133681506E-3},{"$f":"IF($C73<6,Lin_parameters_wd!F$9,Lin_parameters_wknd!F$10)","v":15.5},1.31124751273035,-7.5310765362349638E-2,1.0551909104983612,{"$f":"$K73*'Input and Output'!$C$30/SUM($K$2:$K$366)","v":1.1332124920190578}]
["2016-03-13",{"$f":"'Input and Output'!C107","v":3.4},1,{"$f":"IF($C74<6,Lin_parameters_wd!B$9,Lin_parameters_wknd!B$10)","v":1.771938814155029},{"$f":"IF($C74<6,Lin_parameters_wd!C$9,Lin_parameters_wknd!C$10)","v":-9.5984753200240996E-2},{"$f":"IF($C74<6,Lin_parameters_wd!D$9,Lin_parameters_wknd!D$10)","v":0.40699471377216029},{"$f":"IF($C74<6,Lin_parameters_wd!E$9,Lin_parameters_wknd!E$10)","v":-1.2756454396407539E-2},{"$f":"IF($C74<6,Lin_parameters_wd!F$9,Lin_parameters_wknd!F$10)","v":16.399999999999999},1.771938814155029,-9.5984753200240996E-2,1.4455906532742095,{"$f":"$K74*'Input and Output'!$C$30/SUM($K$2:$K$366)","v":1.5524786750320181}]
["2016-03-14",{"$f":"'Input and Output'!C108","v":4.5999999999999996},2,{"$f":"IF($C75<6,Lin_parameters_wd!B$9,Lin_parameters_wknd!B$10)","v":1.771938814155029},{"$f":"IF($C75<6,Lin_parameters_wd!C$9,Lin_parameters_wknd!C$10)","v":-9.5984753200240996E-2},{"$f":"IF($C75<6,Lin_parameters_wd!D$9,Lin_parameters_wknd!D$10)","v":0.40699471377216029},{"$f":"IF($C75<6,Lin_parameters_wd!E$9,Lin_parameters_wknd!E$10)","v":-1.2756454396407539E-2},{"$f":"IF($C75<6,Lin_parameters_wd!F$9,Lin_parameters_wknd!F$10)","v":16.399999999999999},1.771938814155029,-9.5984753200240996E-2,1.3304089494339204,{"$f":"$K75*'Input and Output'!$C$30/SUM($K$2:$K$366)","v":1.4287803524391816}]
["2016-03-15",{"$f":"'Input and Output'!C109","v":4.0999999999999996},3,{"$f":"IF($C76<6,Lin_parameters_wd!B$9,Lin_parameters_wknd!B$10)","v":1.771938814155029},{"$f":"IF($C76<6,Lin_parameters_wd!C$9,Lin_parameters_wknd!C$10)","v":-9.5984753200240996E-2},{"$f":"IF($C76<6,Lin_parameters_wd!D$9,Lin_parameters_wknd!D$10)","v":0.40699471377216029},{"$f":"IF($C76<6,Lin_parameters_wd!E$9,Lin_parameters_wknd!E$10)","v":-1.2756454396407539E-2},{"$f":"IF($C76<6,Lin_parameters_wd!F$9,Lin_parameters_wknd!F$10)","v":16.399999999999999},1.771938814155029,-9.5984753200240996E-2,1.3784013260340409,{"$f":"$K76*'Input and Output'!$C$30/SUM($K$2:$K$366)","v":1.4803213201861969}]
["2016-03-16",{"$f":"'Input and Output'!C110","v":4.9000000000000004},4,{"$f":"IF($C77<6,Lin_parameters_wd!B$9,Lin_parameters_wknd!B$10)","v":1.771938814155029},{"$f":"IF($C77<6,Lin_parameters_wd!C$9,Lin_parameters_wknd!C$10)","v":-9.5984753200240996E-2},{"$f":"IF($C77<6,Lin_parameters_wd!D$9,Lin_parameters_wknd!D$10)","v":0.40699471377216029},{"$f":"IF($C77<6,Lin_parameters_wd!E$9,Lin_parameters_wknd!E$10)","v":-1.2756454396407539E-2},{"$f":"IF($C77<6,Lin_parameters_wd!F$9,Lin_parameters_wknd!F$10)","v":16.399999999999999},1.771938814155029,-9.5984753200240996E-2,1.301613523473848,{"$f":"$K77*'Input and Output'!$C$30/SUM($K$2:$K$366)","v":1.3978557717909723}]
["2016-03-17",{"$f":"'Input and Output'!C111","v":6.6},5,{"$f":"IF($C78<6,Lin_parameters_wd!B$9,Lin_parameters_wknd!B$10)","v":1.771938814155029},{"$f":"IF($C78<6,Lin_parameters_wd!C$9,Lin_parameters_wknd!C$10)","v":-9.5984753200240996E-2},{"$f":"IF($C78<6,Lin_parameters_wd!D$9,Lin_parameters_wknd!D$10)","v":0.40699471377216029},{"$f":"IF($C78<6,Lin_parameters_wd!E$9,Lin_parameters_wknd!E$10)","v":-1.2756454396407539E-2},{"$f":"IF($C78<6,Lin_parameters_wd!F$9,Lin_parameters_wknd!F$10)","v":16.399999999999999},1.771938814155029,-9.5984753200240996E-2,1.1384394430334384,{"$f":"$K78*'Input and Output'!$C$30/SUM($K$2:$K$366)","v":1.2226164814511205}]
["2016-03-18",{"$f":"'Input and Output'!C112","v":3.4},6,{"$f":"IF($C79<6,Lin_parameters_wd!B$9,Lin_parameters_wknd!B$10)","v":1.31124751273035},{"$f":"IF($C79<6,Lin_parameters_wd!C$9,Lin_parameters_wknd!C$10)","v":-7.5310765362349638E-2},{"$f":"IF($C79<6,Lin_parameters_wd!D$9,Lin_parameters_wknd!D$10)","v":0.29524473618599389},{"$f":"IF($C79<6,Lin_parameters_wd!E$9,Lin_parameters_wknd!E$10)","v":-9.762199133681506E-3},{"$f":"IF($C79<6,Lin_parameters_wd!F$9,Lin_parameters_wknd!F$10)","v":15.5},1.31124751273035,-7.5310765362349638E-2,1.0551909104983612,{"$f":"$K79*'Input and Output'!$C$30/SUM($K$2:$K$366)","v":1.1332124920190578}]
["2016-03-19",{"$f":"'Input and Output'!C113","v":4.9000000000000004},7,{"$f":"IF($C80<6,Lin_parameters_wd!B$9,Lin_parameters_wknd!B$10)","v":1.31124751273035},{"$f":"IF($C80<6,Lin_parameters_wd!C$9,Lin_parameters_wknd!C$10)","v":-7.5310765362349638E-2},{"$f":"IF($C80<6,Lin_parameters_wd!D$9,Lin_parameters_wknd!D$10)","v":0.29524473618599389},{"$f":"IF($C80<6,Lin_parameters_wd!E$9,Lin_parameters_wknd!E$10)","v":-9.762199133681506E-3},{"$f":"IF($C80<6,Lin_parameters_wd!F$9,Lin_parameters_wknd!F$10)","v":15.5},1.31124751273035,-7.5310765362349638E-2,0.94222476245483677,{"$f":"$K80*'Input and Output'!$C$30/SUM($K$2:$K$366)","v":1.0118935450261051}]
["2016-03-20",{"$f":"'Input and Output'!C114","v":5.8},1,{"$f":"IF($C81<6,Lin_parameters_wd!B$9,Lin_parameters_wknd!B$10)","v":1.771938814155029},{"$f":"IF($C81<6,Lin_parameters_wd!C$9,Lin_parameters_wknd!C$10)","v":-9.5984753200240996E-2},{"$f":"IF($C81<6,Lin_parameters_wd!D$9,Lin_parameters_wknd!D$10)","v":0.40699471377216029},{"$f":"IF($C81<6,Lin_parameters_wd!E$9,Lin_parameters_wknd!E$10)","v":-1.2756454396407539E-2},{"$f":"IF($C81<6,Lin_parameters_wd!F$9,Lin_parameters_wknd!F$10)","v":16.399999999999999},1.771938814155029,-9.5984753200240996E-2,1.2152272455936313,{"$f":"$K81*'Input and Output'!$C$30/SUM($K$2:$K$366)","v":1.305082029846345}]
["2016-03-21",{"$f":"'Input and Output'!C115","v":6.3},2,{"$f":"IF($C82<6,Lin_parameters_wd!B$9,Lin_parameters_wknd!B$10)","v":1.771938814155029},{"$f":"IF($C82<6,Lin_parameters_wd!C$9,Lin_parameters_wknd!C$10)","v":-9.5984753200240996E-2},{"$f":"IF($C82<6,Lin_parameters_wd!D$9,Lin_parameters_wknd!D$10)","v":0.40699471377216029},{"$f":"IF($C82<6,Lin_parameters_wd!E$9,Lin_parameters_wknd!E$10)","v":-1.2756454396407539E-2},{"$f":"IF($C82<6,Lin_parameters_wd!F$9,Lin_parameters_wknd!F$10)","v":16.399999999999999},1.771938814155029,-9.5984753200240996E-2,1.1672348689935106,{"$f":"$K82*'Input and Output'!$C$30/SUM($K$2:$K$366)","v":1.2535410620993297}]
["2016-03-22",{"$f":"'Input and Output'!C116","v":6.2},3,{"$f":"IF($C83<6,Lin_parameters_wd!B$9,Lin_parameters_wknd!B$10)","v":1.771938814155029},{"$f":"IF($C83<6,Lin_parameters_wd!C$9,Lin_parameters_wknd!C$10)","v":-9.5984753200240996E-2},{"$f":"IF($C83<6,Lin_parameters_wd!D$9,Lin_parameters_wknd!D$10)","v":0.40699471377216029},{"$f":"IF($C83<6,Lin_parameters_wd!E$9,Lin_parameters_wknd!E$10)","v":-1.2756454396407539E-2},{"$f":"IF($C83<6,Lin_parameters_wd!F$9,Lin_parameters_wknd!F$10)","v":16.399999999999999},1.771938814155029,-9.5984753200240996E-2,1.1768333443135348,{"$f":"$K83*'Input and Output'!$C$30/SUM($K$2:$K$366)","v":1.2638492556487328}]
["2016-03-23",{"$f":"'Input and Output'!C117","v":6.5},4,{"$f":"IF($C84<6,Lin_parameters_wd!B$9,Lin_parameters_wknd!B$10)","v":1.771938814155029},{"$f":"IF($C84<6,Lin_parameters_wd!C$9,Lin_parameters_wknd!C$10)","v":-9.5984753200240996E-2},{"$f":"IF($C84<6,Lin_parameters_wd!D$9,Lin_parameters_wknd!D$10)","v":0.40699471377216029},{"$f":"IF($C84<6,Lin_parameters_wd!E$9,Lin_parameters_wknd!E$10)","v":-1.2756454396407539E-2},{"$f":"IF($C84<6,Lin_parameters_wd!F$9,Lin_parameters_wknd!F$10)","v":16.399999999999999},1.771938814155029,-9.5984753200240996E-2,1.1480379183534626,{"$f":"$K84*'Input and Output'!$C$30/SUM($K$2:$K$366)","v":1.2329246750005238}]
["2016-03-24",{"$f":"'Input and Output'!C118","v":6.3},5,{"$f":"IF($C85<6,Lin_parameters_wd!B$9,Lin_parameters_wknd!B$10)","v":1.771938814155029},{"$f":"IF($C85<6,Lin_parameters_wd!C$9,Lin_parameters_wknd!C$10)","v":-9.5984753200240996E-2},{"$f":"IF($C85<6,Lin_parameters_wd!D$9,Lin_parameters_wknd!D$10)","v":0.40699471377216029},{"$f":"IF($C85<6,Lin_parameters_wd!E$9,Lin_parameters_wknd!E$10)","v":-1.2756454396407539E-2},{"$f":"IF($C85<6,Lin_parameters_wd!F$9,Lin_parameters_wknd!F$10)","v":16.399999999999999},1.771938814155029,-9.5984753200240996E-2,1.1672348689935106,{"$f":"$K85*'Input and Output'!$C$30/SUM($K$2:$K$366)","v":1.2535410620993297}]
["2016-03-25",{"$f":"'Input and Output'!C119","v":6},6,{"$f":"IF($C86<6,Lin_parameters_wd!B$9,Lin_parameters_wknd!B$10)","v":1.31124751273035},{"$f":"IF($C86<6,Lin_parameters_wd!C$9,Lin_parameters_wknd!C$10)","v":-7.5310765362349638E-2},{"$f":"IF($C86<6,Lin_parameters_wd!D$9,Lin_parameters_wknd!D$10)","v":0.29524473618599389},{"$f":"IF($C86<6,Lin_parameters_wd!E$9,Lin_parameters_wknd!E$10)","v":-9.762199133681506E-3},{"$f":"IF($C86<6,Lin_parameters_wd!F$9,Lin_parameters_wknd!F$10)","v":15.5},1.31124751273035,-7.5310765362349638E-2,0.85938292055625221,{"$f":"$K86*'Input and Output'!$C$30/SUM($K$2:$K$366)","v":0.92292631723127305}]
["2016-03-26",{"$f":"'Input and Output'!C120","v":9},7,{"$f":"IF($C87<6,Lin_parameters_wd!B$9,Lin_parameters_wknd!B$10)","v":1.31124751273035},{"$f":"IF($C87<6,Lin_parameters_wd!C$9,Lin_parameters_wknd!C$10)","v":-7.5310765362349638E-2},{"$f":"IF($C87<6,Lin_parameters_wd!D$9,Lin_parameters_wknd!D$10)","v":0.29524473618599389},{"$f":"IF($C87<6,Lin_parameters_wd!E$9,Lin_parameters_wknd!E$10)","v":-9.762199133681506E-3},{"$f":"IF($C87<6,Lin_parameters_wd!F$9,Lin_parameters_wknd!F$10)","v":15.5},1.31124751273035,-7.5310765362349638E-2,0.63345062446920331,{"$f":"$K87*'Input and Output'!$C$30/SUM($K$2:$K$366)","v":0.68028842324536776}]
["2016-03-27",{"$f":"'Input and Output'!C121","v":8.6},1,{"$f":"IF($C88<6,Lin_parameters_wd!B$9,Lin_parameters_wknd!B$10)","v":1.771938814155029},{"$f":"IF($C88<6,Lin_parameters_wd!C$9,Lin_parameters_wknd!C$10)","v":-9.5984753200240996E-2},{"$f":"IF($C88<6,Lin_parameters_wd!D$9,Lin_parameters_wknd!D$10)","v":0.40699471377216029},{"$f":"IF($C88<6,Lin_parameters_wd!E$9,Lin_parameters_wknd!E$10)","v":-1.2756454396407539E-2},{"$f":"IF($C88<6,Lin_parameters_wd!F$9,Lin_parameters_wknd!F$10)","v":16.399999999999999},1.771938814155029,-9.5984753200240996E-2,0.94646993663295642,{"$f":"$K88*'Input and Output'!$C$30/SUM($K$2:$K$366)","v":1.0164526104630598}]
["2016-03-28",{"$f":"'Input and Output'!C122","v":7.5},2,{"$f":"IF($C89<6,Lin_parameters_wd!B$9,Lin_parameters_wknd!B$10)","v":1.771938814155029},{"$f":"IF($C89<6,Lin_parameters_wd!C$9,Lin_parameters_wknd!C$10)","v":-9.5984753200240996E-2},{"$f":"IF($C89<6,Lin_parameters_wd!D$9,Lin_parameters_wknd!D$10)","v":0.40699471377216029},{"$f":"IF($C89<6,Lin_parameters_wd!E$9,Lin_parameters_wknd!E$10)","v":-1.2756454396407539E-2},{"$f":"IF($C89<6,Lin_parameters_wd!F$9,Lin_parameters_wknd!F$10)","v":16.399999999999999},1.771938814155029,-9.5984753200240996E-2,1.0520531651532214,{"$f":"$K89*'Input and Output'!$C$30/SUM($K$2:$K$366)","v":1.1298427395064932}]
["2016-03-29",{"$f":"'Input and Output'!C123","v":7.2},3,{"$f":"IF($C90<6,Lin_parameters_wd!B$9,Lin_parameters_wknd!B$10)","v":1.771938814155029},{"$f":"IF($C90<6,Lin_parameters_wd!C$9,Lin_parameters_wknd!C$10)","v":-9.5984753200240996E-2},{"$f":"IF($C90<6,Lin_parameters_wd!D$9,Lin_parameters_wknd!D$10)","v":0.40699471377216029},{"$f":"IF($C90<6,Lin_parameters_wd!E$9,Lin_parameters_wknd!E$10)","v":-1.2756454396407539E-2},{"$f":"IF($C90<6,Lin_parameters_wd!F$9,Lin_parameters_wknd!F$10)","v":16.399999999999999},1.771938814155029,-9.5984753200240996E-2,1.0808485911132939,{"$f":"$K90*'Input and Output'!$C$30/SUM($K$2:$K$366)","v":1.1607673201547024}]
["2016-03-30",{"$f":"'Input and Output'!C124","v":8.6},4,{"$f":"IF($C91<6,Lin_parameters_wd!B$9,Lin_parameters_wknd!B$10)","v":1.771938814155029},{"$f":"IF($C91<6,Lin_parameters_wd!C$9,Lin_parameters_wknd!C$10)","v":-9.5984753200240996E-2},{"$f":"IF($C91<6,Lin_parameters_wd!D$9,Lin_parameters_wknd!D$10)","v":0.40699471377216029},{"$f":"IF($C91<6,Lin_parameters_wd!E$9,Lin_parameters_wknd!E$10)","v":-1.2756454396407539E-2},{"$f":"IF($C91<6,Lin_parameters_wd!F$9,Lin_parameters_wknd!F$10)","v":16.399999999999999},1.771938814155029,-9.5984753200240996E-2,0.94646993663295642,{"$f":"$K91*'Input and Output'!$C$30/SUM($K$2:$K$366)","v":1.0164526104630598}]
["2016-03-31",{"$f":"'Input and Output'!C125","v":6.1},5,{"$f":"IF($C92<6,Lin_parameters_wd!B$9,Lin_parameters_wknd!B$10)","v":1.771938814155029},{"$f":"IF($C92<6,Lin_parameters_wd!C$9,Lin_parameters_wknd!C$10)","v":-9.5984753200240996E-2},{"$f":"IF($C92<6,Lin_parameters_wd!D$9,Lin_parameters_wknd!D$10)","v":0.40699471377216029},{"$f":"IF($C92<6,Lin_parameters_wd!E$9,Lin_parameters_wknd!E$10)","v":-1.2756454396407539E-2},{"$f":"IF($C92<6,Lin_parameters_wd!F$9,Lin_parameters_wknd!F$10)","v":16.399999999999999},1.771938814155029,-9.5984753200240996E-2,1.186431819633559,{"$f":"$K92*'Input and Output'!$C$30/SUM($K$2:$K$366)","v":1.274157449198136}]
["2016-04-01",{"$f":"'Input and Output'!C126","v":7.6},6,{"$f":"IF($C93<6,Lin_parameters_wd!B$9,Lin_parameters_wknd!B$10)","v":1.31124751273035},{"$f":"IF($C93<6,Lin_parameters_wd!C$9,Lin_parameters_wknd!C$10)","v":-7.5310765362349638E-2},{"$f":"IF($C93<6,Lin_parameters_wd!D$9,Lin_parameters_wknd!D$10)","v":0.29524473618599389},{"$f":"IF($C93<6,Lin_parameters_wd!E$9,Lin_parameters_wknd!E$10)","v":-9.762199133681506E-3},{"$f":"IF($C93<6,Lin_parameters_wd!F$9,Lin_parameters_wknd!F$10)","v":15.5},1.31124751273035,-7.5310765362349638E-2,0.73888569597649278,{"$f":"$K93*'Input and Output'!$C$30/SUM($K$2:$K$366)","v":0.7935194404387903}]
["2016-04-02",{"$f":"'Input and Output'!C127","v":10},7,{"$f":"IF($C94<6,Lin_parameters_wd!B$9,Lin_parameters_wknd!B$10)","v":1.31124751273035},{"$f":"IF($C94<6,Lin_parameters_wd!C$9,Lin_parameters_wknd!C$10)","v":-7.5310765362349638E-2},{"$f":"IF($C94<6,Lin_parameters_wd!D$9,Lin_parameters_wknd!D$10)","v":0.29524473618599389},{"$f":"IF($C94<6,Lin_parameters_wd!E$9,Lin_parameters_wknd!E$10)","v":-9.762199133681506E-3},{"$f":"IF($C94<6,Lin_parameters_wd!F$9,Lin_parameters_wknd!F$10)","v":15.5},1.31124751273035,-7.5310765362349638E-2,0.5581398591068536,{"$f":"$K94*'Input and Output'!$C$30/SUM($K$2:$K$366)","v":0.59940912525006584}]
["2016-04-03",{"$f":"'Input and Output'!C128","v":14.1},1,{"$f":"IF($C95<6,Lin_parameters_wd!B$9,Lin_parameters_wknd!B$10)","v":1.771938814155029},{"$f":"IF($C95<6,Lin_parameters_wd!C$9,Lin_parameters_wknd!C$10)","v":-9.5984753200240996E-2},{"$f":"IF($C95<6,Lin_parameters_wd!D$9,Lin_parameters_wknd!D$10)","v":0.40699471377216029},{"$f":"IF($C95<6,Lin_parameters_wd!E$9,Lin_parameters_wknd!E$10)","v":-1.2756454396407539E-2},{"$f":"IF($C95<6,Lin_parameters_wd!F$9,Lin_parameters_wknd!F$10)","v":16.399999999999999},1.771938814155029,-9.5984753200240996E-2,0.41855379403163084,{"$f":"$K95*'Input and Output'!$C$30/SUM($K$2:$K$366)","v":0.44950196524589225}]
["2016-04-04",{"$f":"'Input and Output'!C129","v":14.9},2,{"$f":"IF($C96<6,Lin_parameters_wd!B$9,Lin_parameters_wknd!B$10)","v":1.771938814155029},{"$f":"IF($C96<6,Lin_parameters_wd!C$9,Lin_parameters_wknd!C$10)","v":-9.5984753200240996E-2},{"$f":"IF($C96<6,Lin_parameters_wd!D$9,Lin_parameters_wknd!D$10)","v":0.40699471377216029},{"$f":"IF($C96<6,Lin_parameters_wd!E$9,Lin_parameters_wknd!E$10)","v":-1.2756454396407539E-2},{"$f":"IF($C96<6,Lin_parameters_wd!F$9,Lin_parameters_wknd!F$10)","v":16.399999999999999},1.771938814155029,-9.5984753200240996E-2,0.34176599147143816,{"$f":"$K96*'Input and Output'!$C$30/SUM($K$2:$K$366)","v":0.36703641685066801}]
["2016-04-05",{"$f":"'Input and Output'!C130","v":12.4},3,{"$f":"IF($C97<6,Lin_parameters_wd!B$9,Lin_parameters_wknd!B$10)","v":1.771938814155029},{"$f":"IF($C97<6,Lin_parameters_wd!C$9,Lin_parameters_wknd!C$10)","v":-9.5984753200240996E-2},{"$f":"IF($C97<6,Lin_parameters_wd!D$9,Lin_parameters_wknd!D$10)","v":0.40699471377216029},{"$f":"IF($C97<6,Lin_parameters_wd!E$9,Lin_parameters_wknd!E$10)","v":-1.2756454396407539E-2},{"$f":"IF($C97<6,Lin_parameters_wd!F$9,Lin_parameters_wknd!F$10)","v":16.399999999999999},1.771938814155029,-9.5984753200240996E-2,0.58172787447204066,{"$f":"$K97*'Input and Output'!$C$30/SUM($K$2:$K$366)","v":0.62474125558574412}]
["2016-04-06",{"$f":"'Input and Output'!C131","v":11.1},4,{"$f":"IF($C98<6,Lin_parameters_wd!B$9,Lin_parameters_wknd!B$10)","v":1.771938814155029},{"$f":"IF($C98<6,Lin_parameters_wd!C$9,Lin_parameters_wknd!C$10)","v":-9.5984753200240996E-2},{"$f":"IF($C98<6,Lin_parameters_wd!D$9,Lin_parameters_wknd!D$10)","v":0.40699471377216029},{"$f":"IF($C98<6,Lin_parameters_wd!E$9,Lin_parameters_wknd!E$10)","v":-1.2756454396407539E-2},{"$f":"IF($C98<6,Lin_parameters_wd!F$9,Lin_parameters_wknd!F$10)","v":16.399999999999999},1.771938814155029,-9.5984753200240996E-2,0.70650805363235403,{"$f":"$K98*'Input and Output'!$C$30/SUM($K$2:$K$366)","v":0.7587477717279838}]
["2016-04-07",{"$f":"'Input and Output'!C132","v":9},5,{"$f":"IF($C99<6,Lin_parameters_wd!B$9,Lin_parameters_wknd!B$10)","v":1.771938814155029},{"$f":"IF($C99<6,Lin_parameters_wd!C$9,Lin_parameters_wknd!C$10)","v":-9.5984753200240996E-2},{"$f":"IF($C99<6,Lin_parameters_wd!D$9,Lin_parameters_wknd!D$10)","v":0.40699471377216029},{"$f":"IF($C99<6,Lin_parameters_wd!E$9,Lin_parameters_wknd!E$10)","v":-1.2756454396407539E-2},{"$f":"IF($C99<6,Lin_parameters_wd!F$9,Lin_parameters_wknd!F$10)","v":16.399999999999999},1.771938814155029,-9.5984753200240996E-2,0.90807603535285997,{"$f":"$K99*'Input and Output'!$C$30/SUM($K$2:$K$366)","v":0.97521983626544761}]
["2016-04-08",{"$f":"'Input and Output'!C133","v":7.6},6,{"$f":"IF($C100<6,Lin_parameters_wd!B$9,Lin_parameters_wknd!B$10)","v":1.31124751273035},{"$f":"IF($C100<6,Lin_parameters_wd!C$9,Lin_parameters_wknd!C$10)","v":-7.5310765362349638E-2},{"$f":"IF($C100<6,Lin_parameters_wd!D$9,Lin_parameters_wknd!D$10)","v":0.29524473618599389},{"$f":"IF($C100<6,Lin_parameters_wd!E$9,Lin_parameters_wknd!E$10)","v":-9.762199133681506E-3},{"$f":"IF($C100<6,Lin_parameters_wd!F$9,Lin_parameters_wknd!F$10)","v":15.5},1.31124751273035,-7.5310765362349638E-2,0.73888569597649278,{"$f":"$K100*'Input and Output'!$C$30/SUM($K$2:$K$366)","v":0.7935194404387903}]
["2016-04-09",{"$f":"'Input and Output'!C134","v":9.5},7,{"$f":"IF($C101<6,Lin_parameters_wd!B$9,Lin_parameters_wknd!B$10)","v":1.31124751273035},{"$f":"IF($C101<6,Lin_parameters_wd!C$9,Lin_parameters_wknd!C$10)","v":-7.5310765362349638E-2},{"$f":"IF($C101<6,Lin_parameters_wd!D$9,Lin_parameters_wknd!D$10)","v":0.29524473618599389},{"$f":"IF($C101<6,Lin_parameters_wd!E$9,Lin_parameters_wknd!E$10)","v":-9.762199133681506E-3},{"$f":"IF($C101<6,Lin_parameters_wd!F$9,Lin_parameters_wknd!F$10)","v":15.5},1.31124751273035,-7.5310765362349638E-2,0.59579524178802845,{"$f":"$K101*'Input and Output'!$C$30/SUM($K$2:$K$366)","v":0.6398487742477168}]
["2016-04-10",{"$f":"'Input and Output'!C135","v":11.9},1,{"$f":"IF($C102<6,Lin_parameters_wd!B$9,Lin_parameters_wknd!B$10)","v":1.771938814155029},{"$f":"IF($C102<6,Lin_parameters_wd!C$9,Lin_parameters_wknd!C$10)","v":-9.5984753200240996E-2},{"$f":"IF($C102<6,Lin_parameters_wd!D$9,Lin_parameters_wknd!D$10)","v":0.40699471377216029},{"$f":"IF($C102<6,Lin_parameters_wd!E$9,Lin_parameters_wknd!E$10)","v":-1.2756454396407539E-2},{"$f":"IF($C102<6,Lin_parameters_wd!F$9,Lin_parameters_wknd!F$10)","v":16.399999999999999},1.771938814155029,-9.5984753200240996E-2,0.62972025107216112,{"$f":"$K102*'Input and Output'!$C$30/SUM($K$2:$K$366)","v":0.67628222333275934}]
["2016-04-11",{"$f":"'Input and Output'!C136","v":9.9},2,{"$f":"IF($C103<6,Lin_parameters_wd!B$9,Lin_parameters_wknd!B$10)","v":1.771938814155029},{"$f":"IF($C103<6,Lin_parameters_wd!C$9,Lin_parameters_wknd!C$10)","v":-9.5984753200240996E-2},{"$f":"IF($C103<6,Lin_parameters_wd!D$9,Lin_parameters_wknd!D$10)","v":0.40699471377216029},{"$f":"IF($C103<6,Lin_parameters_wd!E$9,Lin_parameters_wknd!E$10)","v":-1.2756454396407539E-2},{"$f":"IF($C103<6,Lin_parameters_wd!F$9,Lin_parameters_wknd!F$10)","v":16.399999999999999},1.771938814155029,-9.5984753200240996E-2,0.82168975747264306,{"$f":"$K103*'Input and Output'!$C$30/SUM($K$2:$K$366)","v":0.88244609432082011}]
["2016-04-12",{"$f":"'Input and Output'!C137","v":10.7},3,{"$f":"IF($C104<6,Lin_parameters_wd!B$9,Lin_parameters_wknd!B$10)","v":1.771938814155029},{"$f":"IF($C104<6,Lin_parameters_wd!C$9,Lin_parameters_wknd!C$10)","v":-9.5984753200240996E-2},{"$f":"IF($C104<6,Lin_parameters_wd!D$9,Lin_parameters_wknd!D$10)","v":0.40699471377216029},{"$f":"IF($C104<6,Lin_parameters_wd!E$9,Lin_parameters_wknd!E$10)","v":-1.2756454396407539E-2},{"$f":"IF($C104<6,Lin_parameters_wd!F$9,Lin_parameters_wknd!F$10)","v":16.399999999999999},1.771938814155029,-9.5984753200240996E-2,0.74490195491245026,{"$f":"$K104*'Input and Output'!$C$30/SUM($K$2:$K$366)","v":0.79998054592559575}]
["2016-04-13",{"$f":"'Input and Output'!C138","v":10},4,{"$f":"IF($C105<6,Lin_parameters_wd!B$9,Lin_parameters_wknd!B$10)","v":1.771938814155029},{"$f":"IF($C105<6,Lin_parameters_wd!C$9,Lin_parameters_wknd!C$10)","v":-9.5984753200240996E-2},{"$f":"IF($C105<6,Lin_parameters_wd!D$9,Lin_parameters_wknd!D$10)","v":0.40699471377216029},{"$f":"IF($C105<6,Lin_parameters_wd!E$9,Lin_parameters_wknd!E$10)","v":-1.2756454396407539E-2},{"$f":"IF($C105<6,Lin_parameters_wd!F$9,Lin_parameters_wknd!F$10)","v":16.399999999999999},1.771938814155029,-9.5984753200240996E-2,0.81209128215261894,{"$f":"$K105*'Input and Output'!$C$30/SUM($K$2:$K$366)","v":0.87213790077141717}]
["2016-04-14",{"$f":"'Input and Output'!C139","v":11.5},5,{"$f":"IF($C106<6,Lin_parameters_wd!B$9,Lin_parameters_wknd!B$10)","v":1.771938814155029},{"$f":"IF($C106<6,Lin_parameters_wd!C$9,Lin_parameters_wknd!C$10)","v":-9.5984753200240996E-2},{"$f":"IF($C106<6,Lin_parameters_wd!D$9,Lin_parameters_wknd!D$10)","v":0.40699471377216029},{"$f":"IF($C106<6,Lin_parameters_wd!E$9,Lin_parameters_wknd!E$10)","v":-1.2756454396407539E-2},{"$f":"IF($C106<6,Lin_parameters_wd!F$9,Lin_parameters_wknd!F$10)","v":16.399999999999999},1.771938814155029,-9.5984753200240996E-2,0.66811415235225757,{"$f":"$K106*'Input and Output'!$C$30/SUM($K$2:$K$366)","v":0.71751499753037162}]
["2016-04-15",{"$f":"'Input and Output'!C140","v":11.4},6,{"$f":"IF($C107<6,Lin_parameters_wd!B$9,Lin_parameters_wknd!B$10)","v":1.31124751273035},{"$f":"IF($C107<6,Lin_parameters_wd!C$9,Lin_parameters_wknd!C$10)","v":-7.5310765362349638E-2},{"$f":"IF($C107<6,Lin_parameters_wd!D$9,Lin_parameters_wknd!D$10)","v":0.29524473618599389},{"$f":"IF($C107<6,Lin_parameters_wd!E$9,Lin_parameters_wknd!E$10)","v":-9.762199133681506E-3},{"$f":"IF($C107<6,Lin_parameters_wd!F$9,Lin_parameters_wknd!F$10)","v":15.5},1.31124751273035,-7.5310765362349638E-2,0.45270478759956412,{"$f":"$K107*'Input and Output'!$C$30/SUM($K$2:$K$366)","v":0.48617810805664347}]
["2016-04-16",{"$f":"'Input and Output'!C141","v":10.9},7,{"$f":"IF($C108<6,Lin_parameters_wd!B$9,Lin_parameters_wknd!B$10)","v":1.31124751273035},{"$f":"IF($C108<6,Lin_parameters_wd!C$9,Lin_parameters_wknd!C$10)","v":-7.5310765362349638E-2},{"$f":"IF($C108<6,Lin_parameters_wd!D$9,Lin_parameters_wknd!D$10)","v":0.29524473618599389},{"$f":"IF($C108<6,Lin_parameters_wd!E$9,Lin_parameters_wknd!E$10)","v":-9.762199133681506E-3},{"$f":"IF($C108<6,Lin_parameters_wd!F$9,Lin_parameters_wknd!F$10)","v":15.5},1.31124751273035,-7.5310765362349638E-2,0.49036017028073897,{"$f":"$K108*'Input and Output'!$C$30/SUM($K$2:$K$366)","v":0.52661775705429437}]
["2016-04-17",{"$f":"'Input and Output'!C142","v":8},1,{"$f":"IF($C109<6,Lin_parameters_wd!B$9,Lin_parameters_wknd!B$10)","v":1.771938814155029},{"$f":"IF($C109<6,Lin_parameters_wd!C$9,Lin_parameters_wknd!C$10)","v":-9.5984753200240996E-2},{"$f":"IF($C109<6,Lin_parameters_wd!D$9,Lin_parameters_wknd!D$10)","v":0.40699471377216029},{"$f":"IF($C109<6,Lin_parameters_wd!E$9,Lin_parameters_wknd!E$10)","v":-1.2756454396407539E-2},{"$f":"IF($C109<6,Lin_parameters_wd!F$9,Lin_parameters_wknd!F$10)","v":16.399999999999999},1.771938814155029,-9.5984753200240996E-2,1.004060788553101,{"$f":"$K109*'Input and Output'!$C$30/SUM($K$2:$K$366)","v":1.0783017717594781}]
["2016-04-18",{"$f":"'Input and Output'!C143","v":8.1},2,{"$f":"IF($C110<6,Lin_parameters_wd!B$9,Lin_parameters_wknd!B$10)","v":1.771938814155029},{"$f":"IF($C110<6,Lin_parameters_wd!C$9,Lin_parameters_wknd!C$10)","v":-9.5984753200240996E-2},{"$f":"IF($C110<6,Lin_parameters_wd!D$9,Lin_parameters_wknd!D$10)","v":0.40699471377216029},{"$f":"IF($C110<6,Lin_parameters_wd!E$9,Lin_parameters_wknd!E$10)","v":-1.2756454396407539E-2},{"$f":"IF($C110<6,Lin_parameters_wd!F$9,Lin_parameters_wknd!F$10)","v":16.399999999999999},1.771938814155029,-9.5984753200240996E-2,0.99446231323307688,{"$f":"$K110*'Input and Output'!$C$30/SUM($K$2:$K$366)","v":1.0679935782100749}]
["2016-04-19",{"$f":"'Input and Output'!C144","v":10},3,{"$f":"IF($C111<6,Lin_parameters_wd!B$9,Lin_parameters_wknd!B$10)","v":1.771938814155029},{"$f":"IF($C111<6,Lin_parameters_wd!C$9,Lin_parameters_wknd!C$10)","v":-9.5984753200240996E-2},{"$f":"IF($C111<6,Lin_parameters_wd!D$9,Lin_parameters_wknd!D$10)","v":0.40699471377216029},{"$f":"IF($C111<6,Lin_parameters_wd!E$9,Lin_parameters_wknd!E$10)","v":-1.2756454396407539E-2},{"$f":"IF($C111<6,Lin_parameters_wd!F$9,Lin_parameters_wknd!F$10)","v":16.399999999999999},1.771938814155029,-9.5984753200240996E-2,0.81209128215261894,{"$f":"$K111*'Input and Output'!$C$30/SUM($K$2:$K$366)","v":0.87213790077141717}]
["2016-04-20",{"$f":"'Input and Output'!C145","v":8.6},4,{"$f":"IF($C112<6,Lin_parameters_wd!B$9,Lin_parameters_wknd!B$10)","v":1.771938814155029},{"$f":"IF($C112<6,Lin_parameters_wd!C$9,Lin_parameters_wknd!C$10)","v":-9.5984753200240996E-2},{"$f":"IF($C112<6,Lin_parameters_wd!D$9,Lin_parameters_wknd!D$10)","v":0.40699471377216029},{"$f":"IF($C112<6,Lin_parameters_wd!E$9,Lin_parameters_wknd!E$10)","v":-1.2756454396407539E-2},{"$f":"IF($C112<6,Lin_parameters_wd!F$9,Lin_parameters_wknd!F$10)","v":16.399999999999999},1.771938814155029,-9.5984753200240996E-2,0.94646993663295642,{"$f":"$K112*'Input and Output'!$C$30/SUM($K$2:$K$366)","v":1.0164526104630598}]
["2016-04-21",{"$f":"'Input and Output'!C146","v":11.7},5,{"$f":"IF($C113<6,Lin_parameters_wd!B$9,Lin_parameters_wknd!B$10)","v":1.771938814155029},{"$f":"IF($C113<6,Lin_parameters_wd!C$9,Lin_parameters_wknd!C$10)","v":-9.5984753200240996E-2},{"$f":"IF($C113<6,Lin_parameters_wd!D$9,Lin_parameters_wknd!D$10)","v":0.40699471377216029},{"$f":"IF($C113<6,Lin_parameters_wd!E$9,Lin_parameters_wknd!E$10)","v":-1.2756454396407539E-2},{"$f":"IF($C113<6,Lin_parameters_wd!F$9,Lin_parameters_wknd!F$10)","v":16.399999999999999},1.771938814155029,-9.5984753200240996E-2,0.64891720171220935,{"$f":"$K113*'Input and Output'!$C$30/SUM($K$2:$K$366)","v":0.69689861043156542}]
["2016-04-22",{"$f":"'Input and Output'!C147","v":10.3},6,{"$f":"IF($C114<6,Lin_parameters_wd!B$9,Lin_parameters_wknd!B$10)","v":1.31124751273035},{"$f":"IF($C114<6,Lin_parameters_wd!C$9,Lin_parameters_wknd!C$10)","v":-7.5310765362349638E-2},{"$f":"IF($C114<6,Lin_parameters_wd!D$9,Lin_parameters_wknd!D$10)","v":0.29524473618599389},{"$f":"IF($C114<6,Lin_parameters_wd!E$9,Lin_parameters_wknd!E$10)","v":-9.762199133681506E-3},{"$f":"IF($C114<6,Lin_parameters_wd!F$9,Lin_parameters_wknd!F$10)","v":15.5},1.31124751273035,-7.5310765362349638E-2,0.53554662949814869,{"$f":"$K114*'Input and Output'!$C$30/SUM($K$2:$K$366)","v":0.57514533585147531}]
["2016-04-23",{"$f":"'Input and Output'!C148","v":6.1},7,{"$f":"IF($C115<6,Lin_parameters_wd!B$9,Lin_parameters_wknd!B$10)","v":1.31124751273035},{"$f":"IF($C115<6,Lin_parameters_wd!C$9,Lin_parameters_wknd!C$10)","v":-7.5310765362349638E-2},{"$f":"IF($C115<6,Lin_parameters_wd!D$9,Lin_parameters_wknd!D$10)","v":0.29524473618599389},{"$f":"IF($C115<6,Lin_parameters_wd!E$9,Lin_parameters_wknd!E$10)","v":-9.762199133681506E-3},{"$f":"IF($C115<6,Lin_parameters_wd!F$9,Lin_parameters_wknd!F$10)","v":15.5},1.31124751273035,-7.5310765362349638E-2,0.85185184402001723,{"$f":"$K115*'Input and Output'!$C$30/SUM($K$2:$K$366)","v":0.91483838743174284}]
["2016-04-24",{"$f":"'Input and Output'!C149","v":3.4},1,{"$f":"IF($C116<6,Lin_parameters_wd!B$9,Lin_parameters_wknd!B$10)","v":1.771938814155029},{"$f":"IF($C116<6,Lin_parameters_wd!C$9,Lin_parameters_wknd!C$10)","v":-9.5984753200240996E-2},{"$f":"IF($C116<6,Lin_parameters_wd!D$9,Lin_parameters_wknd!D$10)","v":0.40699471377216029},{"$f":"IF($C116<6,Lin_parameters_wd!E$9,Lin_parameters_wknd!E$10)","v":-1.2756454396407539E-2},{"$f":"IF($C116<6,Lin_parameters_wd!F$9,Lin_parameters_wknd!F$10)","v":16.399999999999999},1.771938814155029,-9.5984753200240996E-2,1.4455906532742095,{"$f":"$K116*'Input and Output'!$C$30/SUM($K$2:$K$366)","v":1.5524786750320181}]
["2016-04-25",{"$f":"'Input and Output'!C150","v":4.3},2,{"$f":"IF($C117<6,Lin_parameters_wd!B$9,Lin_parameters_wknd!B$10)","v":1.771938814155029},{"$f":"IF($C117<6,Lin_parameters_wd!C$9,Lin_parameters_wknd!C$10)","v":-9.5984753200240996E-2},{"$f":"IF($C117<6,Lin_parameters_wd!D$9,Lin_parameters_wknd!D$10)","v":0.40699471377216029},{"$f":"IF($C117<6,Lin_parameters_wd!E$9,Lin_parameters_wknd!E$10)","v":-1.2756454396407539E-2},{"$f":"IF($C117<6,Lin_parameters_wd!F$9,Lin_parameters_wknd!F$10)","v":16.399999999999999},1.771938814155029,-9.5984753200240996E-2,1.3592043753939926,{"$f":"$K117*'Input and Output'!$C$30/SUM($K$2:$K$366)","v":1.4597049330873906}]
["2016-04-26",{"$f":"'Input and Output'!C151","v":4.5999999999999996},3,{"$f":"IF($C118<6,Lin_parameters_wd!B$9,Lin_parameters_wknd!B$10)","v":1.771938814155029},{"$f":"IF($C118<6,Lin_parameters_wd!C$9,Lin_parameters_wknd!C$10)","v":-9.5984753200240996E-2},{"$f":"IF($C118<6,Lin_parameters_wd!D$9,Lin_parameters_wknd!D$10)","v":0.40699471377216029},{"$f":"IF($C118<6,Lin_parameters_wd!E$9,Lin_parameters_wknd!E$10)","v":-1.2756454396407539E-2},{"$f":"IF($C118<6,Lin_parameters_wd!F$9,Lin_parameters_wknd!F$10)","v":16.399999999999999},1.771938814155029,-9.5984753200240996E-2,1.3304089494339204,{"$f":"$K118*'Input and Output'!$C$30/SUM($K$2:$K$366)","v":1.4287803524391816}]
["2016-04-27",{"$f":"'Input and Output'!C152","v":4.5999999999999996},4,{"$f":"IF($C119<6,Lin_parameters_wd!B$9,Lin_parameters_wknd!B$10)","v":1.771938814155029},{"$f":"IF($C119<6,Lin_parameters_wd!C$9,Lin_parameters_wknd!C$10)","v":-9.5984753200240996E-2},{"$f":"IF($C119<6,Lin_parameters_wd!D$9,Lin_parameters_wknd!D$10)","v":0.40699471377216029},{"$f":"IF($C119<6,Lin_parameters_wd!E$9,Lin_parameters_wknd!E$10)","v":-1.2756454396407539E-2},{"$f":"IF($C119<6,Lin_parameters_wd!F$9,Lin_parameters_wknd!F$10)","v":16.399999999999999},1.771938814155029,-9.5984753200240996E-2,1.3304089494339204,{"$f":"$K119*'Input and Output'!$C$30/SUM($K$2:$K$366)","v":1.4287803524391816}]
["2016-04-28",{"$f":"'Input and Output'!C153","v":5.9},5,{"$f":"IF($C120<6,Lin_parameters_wd!B$9,Lin_parameters_wknd!B$10)","v":1.771938814155029},{"$f":"IF($C120<6,Lin_parameters_wd!C$9,Lin_parameters_wknd!C$10)","v":-9.5984753200240996E-2},{"$f":"IF($C120<6,Lin_parameters_wd!D$9,Lin_parameters_wknd!D$10)","v":0.40699471377216029},{"$f":"IF($C120<6,Lin_parameters_wd!E$9,Lin_parameters_wknd!E$10)","v":-1.2756454396407539E-2},{"$f":"IF($C120<6,Lin_parameters_wd!F$9,Lin_parameters_wknd!F$10)","v":16.399999999999999},1.771938814155029,-9.5984753200240996E-2,1.205628770273607,{"$f":"$K120*'Input and Output'!$C$30/SUM($K$2:$K$366)","v":1.2947738362969419}]
["2016-04-29",{"$f":"'Input and Output'!C154","v":7.6},6,{"$f":"IF($C121<6,Lin_parameters_wd!B$9,Lin_parameters_wknd!B$10)","v":1.31124751273035},{"$f":"IF($C121<6,Lin_parameters_wd!C$9,Lin_parameters_wknd!C$10)","v":-7.5310765362349638E-2},{"$f":"IF($C121<6,Lin_parameters_wd!D$9,Lin_parameters_wknd!D$10)","v":0.29524473618599389},{"$f":"IF($C121<6,Lin_parameters_wd!E$9,Lin_parameters_wknd!E$10)","v":-9.762199133681506E-3},{"$f":"IF($C121<6,Lin_parameters_wd!F$9,Lin_parameters_wknd!F$10)","v":15.5},1.31124751273035,-7.5310765362349638E-2,0.73888569597649278,{"$f":"$K121*'Input and Output'!$C$30/SUM($K$2:$K$366)","v":0.7935194404387903}]
["2016-04-30",{"$f":"'Input and Output'!C155","v":8.9},7,{"$f":"IF($C122<6,Lin_parameters_wd!B$9,Lin_parameters_wknd!B$10)","v":1.31124751273035},{"$f":"IF($C122<6,Lin_parameters_wd!C$9,Lin_parameters_wknd!C$10)","v":-7.5310765362349638E-2},{"$f":"IF($C122<6,Lin_parameters_wd!D$9,Lin_parameters_wknd!D$10)","v":0.29524473618599389},{"$f":"IF($C122<6,Lin_parameters_wd!E$9,Lin_parameters_wknd!E$10)","v":-9.762199133681506E-3},{"$f":"IF($C122<6,Lin_parameters_wd!F$9,Lin_parameters_wknd!F$10)","v":15.5},1.31124751273035,-7.5310765362349638E-2,0.64098170100543816,{"$f":"$K122*'Input and Output'!$C$30/SUM($K$2:$K$366)","v":0.68837635304489786}]
["2016-05-01",{"$f":"'Input and Output'!C156","v":11.7},1,{"$f":"IF($C123<6,Lin_parameters_wd!B$9,Lin_parameters_wknd!B$10)","v":1.771938814155029},{"$f":"IF($C123<6,Lin_parameters_wd!C$9,Lin_parameters_wknd!C$10)","v":-9.5984753200240996E-2},{"$f":"IF($C123<6,Lin_parameters_wd!D$9,Lin_parameters_wknd!D$10)","v":0.40699471377216029},{"$f":"IF($C123<6,Lin_parameters_wd!E$9,Lin_parameters_wknd!E$10)","v":-1.2756454396407539E-2},{"$f":"IF($C123<6,Lin_parameters_wd!F$9,Lin_parameters_wknd!F$10)","v":16.399999999999999},1.771938814155029,-9.5984753200240996E-2,0.64891720171220935,{"$f":"$K123*'Input and Output'!$C$30/SUM($K$2:$K$366)","v":0.69689861043156542}]
["2016-05-02",{"$f":"'Input and Output'!C157","v":14.3},2,{"$f":"IF($C124<6,Lin_parameters_wd!B$9,Lin_parameters_wknd!B$10)","v":1.771938814155029},{"$f":"IF($C124<6,Lin_parameters_wd!C$9,Lin_parameters_wknd!C$10)","v":-9.5984753200240996E-2},{"$f":"IF($C124<6,Lin_parameters_wd!D$9,Lin_parameters_wknd!D$10)","v":0.40699471377216029},{"$f":"IF($C124<6,Lin_parameters_wd!E$9,Lin_parameters_wknd!E$10)","v":-1.2756454396407539E-2},{"$f":"IF($C124<6,Lin_parameters_wd!F$9,Lin_parameters_wknd!F$10)","v":16.399999999999999},1.771938814155029,-9.5984753200240996E-2,0.39935684339158262,{"$f":"$K124*'Input and Output'!$C$30/SUM($K$2:$K$366)","v":0.42888557814708617}]
["2016-05-03",{"$f":"'Input and Output'!C158","v":10},3,{"$f":"IF($C125<6,Lin_parameters_wd!B$9,Lin_parameters_wknd!B$10)","v":1.771938814155029},{"$f":"IF($C125<6,Lin_parameters_wd!C$9,Lin_parameters_wknd!C$10)","v":-9.5984753200240996E-2},{"$f":"IF($C125<6,Lin_parameters_wd!D$9,Lin_parameters_wknd!D$10)","v":0.40699471377216029},{"$f":"IF($C125<6,Lin_parameters_wd!E$9,Lin_parameters_wknd!E$10)","v":-1.2756454396407539E-2},{"$f":"IF($C125<6,Lin_parameters_wd!F$9,Lin_parameters_wknd!F$10)","v":16.399999999999999},1.771938814155029,-9.5984753200240996E-2,0.81209128215261894,{"$f":"$K125*'Input and Output'!$C$30/SUM($K$2:$K$366)","v":0.87213790077141717}]
["2016-05-04",{"$f":"'Input and Output'!C159","v":9.6},4,{"$f":"IF($C126<6,Lin_parameters_wd!B$9,Lin_parameters_wknd!B$10)","v":1.771938814155029},{"$f":"IF($C126<6,Lin_parameters_wd!C$9,Lin_parameters_wknd!C$10)","v":-9.5984753200240996E-2},{"$f":"IF($C126<6,Lin_parameters_wd!D$9,Lin_parameters_wknd!D$10)","v":0.40699471377216029},{"$f":"IF($C126<6,Lin_parameters_wd!E$9,Lin_parameters_wknd!E$10)","v":-1.2756454396407539E-2},{"$f":"IF($C126<6,Lin_parameters_wd!F$9,Lin_parameters_wknd!F$10)","v":16.399999999999999},1.771938814155029,-9.5984753200240996E-2,0.8504851834327154,{"$f":"$K126*'Input and Output'!$C$30/SUM($K$2:$K$366)","v":0.91337067496902935}]
["2016-05-05",{"$f":"'Input and Output'!C160","v":12.6},5,{"$f":"IF($C127<6,Lin_parameters_wd!B$9,Lin_parameters_wknd!B$10)","v":1.771938814155029},{"$f":"IF($C127<6,Lin_parameters_wd!C$9,Lin_parameters_wknd!C$10)","v":-9.5984753200240996E-2},{"$f":"IF($C127<6,Lin_parameters_wd!D$9,Lin_parameters_wknd!D$10)","v":0.40699471377216029},{"$f":"IF($C127<6,Lin_parameters_wd!E$9,Lin_parameters_wknd!E$10)","v":-1.2756454396407539E-2},{"$f":"IF($C127<6,Lin_parameters_wd!F$9,Lin_parameters_wknd!F$10)","v":16.399999999999999},1.771938814155029,-9.5984753200240996E-2,0.56253092383199244,{"$f":"$K127*'Input and Output'!$C$30/SUM($K$2:$K$366)","v":0.60412486848693803}]
["2016-05-06",{"$f":"'Input and Output'!C161","v":17.899999999999999},6,{"$f":"IF($C128<6,Lin_parameters_wd!B$9,Lin_parameters_wknd!B$10)","v":1.31124751273035},{"$f":"IF($C128<6,Lin_parameters_wd!C$9,Lin_parameters_wknd!C$10)","v":-7.5310765362349638E-2},{"$f":"IF($C128<6,Lin_parameters_wd!D$9,Lin_parameters_wknd!D$10)","v":0.29524473618599389},{"$f":"IF($C128<6,Lin_parameters_wd!E$9,Lin_parameters_wknd!E$10)","v":-9.762199133681506E-3},{"$f":"IF($C128<6,Lin_parameters_wd!F$9,Lin_parameters_wknd!F$10)","v":15.5},0.29524473618599389,-9.762199133681506E-3,0.12050137169309494,{"$f":"$K128*'Input and Output'!$C$30/SUM($K$2:$K$366)","v":0.12941133054638734}]
["2016-05-07",{"$f":"'Input and Output'!C162","v":19.5},7,{"$f":"IF($C129<6,Lin_parameters_wd!B$9,Lin_parameters_wknd!B$10)","v":1.31124751273035},{"$f":"IF($C129<6,Lin_parameters_wd!C$9,Lin_parameters_wknd!C$10)","v":-7.5310765362349638E-2},{"$f":"IF($C129<6,Lin_parameters_wd!D$9,Lin_parameters_wknd!D$10)","v":0.29524473618599389},{"$f":"IF($C129<6,Lin_parameters_wd!E$9,Lin_parameters_wknd!E$10)","v":-9.762199133681506E-3},{"$f":"IF($C129<6,Lin_parameters_wd!F$9,Lin_parameters_wknd!F$10)","v":15.5},0.29524473618599389,-9.762199133681506E-3,0.10488185307920453,{"$f":"$K129*'Input and Output'!$C$30/SUM($K$2:$K$366)","v":0.11263689339337485}]
["2016-05-08",{"$f":"'Input and Output'!C163","v":19.2},{"$f":"WEEKDAY(A130)","v":1},{"$f":"IF($C130<6,Lin_parameters_wd!B$9,Lin_parameters_wknd!B$10)","v":1.771938814155029},{"$f":"IF($C130<6,Lin_parameters_wd!C$9,Lin_parameters_wknd!C$10)","v":-9.5984753200240996E-2},{"$f":"IF($C130<6,Lin_parameters_wd!D$9,Lin_parameters_wknd!D$10)","v":0.40699471377216029},{"$f":"IF($C130<6,Lin_parameters_wd!E$9,Lin_parameters_wknd!E$10)","v":-1.2756454396407539E-2},{"$f":"IF($C130<6,Lin_parameters_wd!F$9,Lin_parameters_wknd!F$10)","v":16.399999999999999},0.40699471377216029,-1.2756454396407539E-2,0.16207078936113556,{"$f":"$K130*'Input and Output'!$C$30/SUM($K$2:$K$366)","v":0.17405442111767835}]
["2016-05-09",{"$f":"'Input and Output'!C164","v":19.600000000000001},2,{"$f":"IF($C131<6,Lin_parameters_wd!B$9,Lin_parameters_wknd!B$10)","v":1.771938814155029},{"$f":"IF($C131<6,Lin_parameters_wd!C$9,Lin_parameters_wknd!C$10)","v":-9.5984753200240996E-2},{"$f":"IF($C131<6,Lin_parameters_wd!D$9,Lin_parameters_wknd!D$10)","v":0.40699471377216029},{"$f":"IF($C131<6,Lin_parameters_wd!E$9,Lin_parameters_wknd!E$10)","v":-1.2756454396407539E-2},{"$f":"IF($C131<6,Lin_parameters_wd!F$9,Lin_parameters_wknd!F$10)","v":16.399999999999999},{"$f":"IF($B131<$H131,$D131,$F131)","v":0.40699471377216029},{"$f":"IF($B131<$H131,$E131,$G131)","v":-1.2756454396407539E-2},{"$f":"MAX($I131+$J131*$B131,0)","v":0.15696820760257252},{"$f":"$K131*'Input and Output'!$C$30/SUM($K$2:$K$366)","v":0.16857455076168631}]
[{"$f":"A131+1","v":"2016-05-10"},{"$f":"'Input and Output'!C165","v":19.899999999999999},3,{"$f":"IF($C132<6,Lin_parameters_wd!B$9,Lin_parameters_wknd!B$10)","v":1.771938814155029},{"$f":"IF($C132<6,Lin_parameters_wd!C$9,Lin_parameters_wknd!C$10)","v":-9.5984753200240996E-2},{"$f":"IF($C132<6,Lin_parameters_wd!D$9,Lin_parameters_wknd!D$10)","v":0.40699471377216029},{"$f":"IF($C132<6,Lin_parameters_wd!E$9,Lin_parameters_wknd!E$10)","v":-1.2756454396407539E-2},{"$f":"IF($C132<6,Lin_parameters_wd!F$9,Lin_parameters_wknd!F$10)","v":16.399999999999999},0.40699471377216029,-1.2756454396407539E-2,0.15314127128365029,{"$f":"$K132*'Input and Output'!$C$30/SUM($K$2:$K$366)","v":0.16446464799469238}]
["2016-05-11",{"$f":"'Input and Output'!C166","v":19.399999999999999},4,{"$f":"IF($C133<6,Lin_parameters_wd!B$9,Lin_parameters_wknd!B$10)","v":1.771938814155029},{"$f":"IF($C133<6,Lin_parameters_wd!C$9,Lin_parameters_wknd!C$10)","v":-9.5984753200240996E-2},{"$f":"IF($C133<6,Lin_parameters_wd!D$9,Lin_parameters_wknd!D$10)","v":0.40699471377216029},{"$f":"IF($C133<6,Lin_parameters_wd!E$9,Lin_parameters_wknd!E$10)","v":-1.2756454396407539E-2},{"$f":"IF($C133<6,Lin_parameters_wd!F$9,Lin_parameters_wknd!F$10)","v":16.399999999999999},0.40699471377216029,-1.2756454396407539E-2,0.15951949848185404,{"$f":"$K133*'Input and Output'!$C$30/SUM($K$2:$K$366)","v":0.17131448593968235}]
["2016-05-12",{"$f":"'Input and Output'!C167","v":19.8},5,{"$f":"IF($C134<6,Lin_parameters_wd!B$9,Lin_parameters_wknd!B$10)","v":1.771938814155029},{"$f":"IF($C134<6,Lin_parameters_wd!C$9,Lin_parameters_wknd!C$10)","v":-9.5984753200240996E-2},{"$f":"IF($C134<6,Lin_parameters_wd!D$9,Lin_parameters_wknd!D$10)","v":0.40699471377216029},{"$f":"IF($C134<6,Lin_parameters_wd!E$9,Lin_parameters_wknd!E$10)","v":-1.2756454396407539E-2},{"$f":"IF($C134<6,Lin_parameters_wd!F$9,Lin_parameters_wknd!F$10)","v":16.399999999999999},0.40699471377216029,-1.2756454396407539E-2,0.154416916723291,{"$f":"$K134*'Input and Output'!$C$30/SUM($K$2:$K$366)","v":0.16583461558369031}]
["2016-05-13",{"$f":"'Input and Output'!C168","v":17.899999999999999},6,{"$f":"IF($C135<6,Lin_parameters_wd!B$9,Lin_parameters_wknd!B$10)","v":1.31124751273035},{"$f":"IF($C135<6,Lin_parameters_wd!C$9,Lin_parameters_wknd!C$10)","v":-7.5310765362349638E-2},{"$f":"IF($C135<6,Lin_parameters_wd!D$9,Lin_parameters_wknd!D$10)","v":0.29524473618599389},{"$f":"IF($C135<6,Lin_parameters_wd!E$9,Lin_parameters_wknd!E$10)","v":-9.762199133681506E-3},{"$f":"IF($C135<6,Lin_parameters_wd!F$9,Lin_parameters_wknd!F$10)","v":15.5},0.29524473618599389,-9.762199133681506E-3,0.12050137169309494,{"$f":"$K135*'Input and Output'!$C$30/SUM($K$2:$K$366)","v":0.12941133054638734}]
["2016-05-14",{"$f":"'Input and Output'!C169","v":9.3000000000000007},7,{"$f":"IF($C136<6,Lin_parameters_wd!B$9,Lin_parameters_wknd!B$10)","v":1.31124751273035},{"$f":"IF($C136<6,Lin_parameters_wd!C$9,Lin_parameters_wknd!C$10)","v":-7.5310765362349638E-2},{"$f":"IF($C136<6,Lin_parameters_wd!D$9,Lin_parameters_wknd!D$10)","v":0.29524473618599389},{"$f":"IF($C136<6,Lin_parameters_wd!E$9,Lin_parameters_wknd!E$10)","v":-9.762199133681506E-3},{"$f":"IF($C136<6,Lin_parameters_wd!F$9,Lin_parameters_wknd!F$10)","v":15.5},1.31124751273035,-7.5310765362349638E-2,0.61085739486049828,{"$f":"$K136*'Input and Output'!$C$30/SUM($K$2:$K$366)","v":0.65602463384677712}]
["2016-05-15",{"$f":"'Input and Output'!C170","v":8},1,{"$f":"IF($C137<6,Lin_parameters_wd!B$9,Lin_parameters_wknd!B$10)","v":1.771938814155029},{"$f":"IF($C137<6,Lin_parameters_wd!C$9,Lin_parameters_wknd!C$10)","v":-9.5984753200240996E-2},{"$f":"IF($C137<6,Lin_parameters_wd!D$9,Lin_parameters_wknd!D$10)","v":0.40699471377216029},{"$f":"IF($C137<6,Lin_parameters_wd!E$9,Lin_parameters_wknd!E$10)","v":-1.2756454396407539E-2},{"$f":"IF($C137<6,Lin_parameters_wd!F$9,Lin_parameters_wknd!F$10)","v":16.399999999999999},1.771938814155029,-9.5984753200240996E-2,1.004060788553101,{"$f":"$K137*'Input and Output'!$C$30/SUM($K$2:$K$366)","v":1.0783017717594781}]
["2016-05-16",{"$f":"'Input and Output'!C171","v":9.3000000000000007},2,{"$f":"IF($C138<6,Lin_parameters_wd!B$9,Lin_parameters_wknd!B$10)","v":1.771938814155029},{"$f":"IF($C138<6,Lin_parameters_wd!C$9,Lin_parameters_wknd!C$10)","v":-9.5984753200240996E-2},{"$f":"IF($C138<6,Lin_parameters_wd!D$9,Lin_parameters_wknd!D$10)","v":0.40699471377216029},{"$f":"IF($C138<6,Lin_parameters_wd!E$9,Lin_parameters_wknd!E$10)","v":-1.2756454396407539E-2},{"$f":"IF($C138<6,Lin_parameters_wd!F$9,Lin_parameters_wknd!F$10)","v":16.399999999999999},1.771938814155029,-9.5984753200240996E-2,0.87928060939278763,{"$f":"$K138*'Input and Output'!$C$30/SUM($K$2:$K$366)","v":0.94429525561723837}]
["2016-05-17",{"$f":"'Input and Output'!C172","v":11.5},3,{"$f":"IF($C139<6,Lin_parameters_wd!B$9,Lin_parameters_wknd!B$10)","v":1.771938814155029},{"$f":"IF($C139<6,Lin_parameters_wd!C$9,Lin_parameters_wknd!C$10)","v":-9.5984753200240996E-2},{"$f":"IF($C139<6,Lin_parameters_wd!D$9,Lin_parameters_wknd!D$10)","v":0.40699471377216029},{"$f":"IF($C139<6,Lin_parameters_wd!E$9,Lin_parameters_wknd!E$10)","v":-1.2756454396407539E-2},{"$f":"IF($C139<6,Lin_parameters_wd!F$9,Lin_parameters_wknd!F$10)","v":16.399999999999999},1.771938814155029,-9.5984753200240996E-2,0.66811415235225757,{"$f":"$K139*'Input and Output'!$C$30/SUM($K$2:$K$366)","v":0.71751499753037162}]
["2016-05-18",{"$f":"'Input and Output'!C173","v":14.1},4,{"$f":"IF($C140<6,Lin_parameters_wd!B$9,Lin_parameters_wknd!B$10)","v":1.771938814155029},{"$f":"IF($C140<6,Lin_parameters_wd!C$9,Lin_parameters_wknd!C$10)","v":-9.5984753200240996E-2},{"$f":"IF($C140<6,Lin_parameters_wd!D$9,Lin_parameters_wknd!D$10)","v":0.40699471377216029},{"$f":"IF($C140<6,Lin_parameters_wd!E$9,Lin_parameters_wknd!E$10)","v":-1.2756454396407539E-2},{"$f":"IF($C140<6,Lin_parameters_wd!F$9,Lin_parameters_wknd!F$10)","v":16.399999999999999},1.771938814155029,-9.5984753200240996E-2,0.41855379403163084,{"$f":"$K140*'Input and Output'!$C$30/SUM($K$2:$K$366)","v":0.44950196524589225}]
["2016-05-19",{"$f":"'Input and Output'!C174","v":13.6},5,{"$f":"IF($C141<6,Lin_parameters_wd!B$9,Lin_parameters_wknd!B$10)","v":1.771938814155029},{"$f":"IF($C141<6,Lin_parameters_wd!C$9,Lin_parameters_wknd!C$10)","v":-9.5984753200240996E-2},{"$f":"IF($C141<6,Lin_parameters_wd!D$9,Lin_parameters_wknd!D$10)","v":0.40699471377216029},{"$f":"IF($C141<6,Lin_parameters_wd!E$9,Lin_parameters_wknd!E$10)","v":-1.2756454396407539E-2},{"$f":"IF($C141<6,Lin_parameters_wd!F$9,Lin_parameters_wknd!F$10)","v":16.399999999999999},1.771938814155029,-9.5984753200240996E-2,0.46654617063175152,{"$f":"$K141*'Input and Output'!$C$30/SUM($K$2:$K$366)","v":0.5010429329929077}]
["2016-05-20",{"$f":"'Input and Output'!C175","v":14.6},6,{"$f":"IF($C142<6,Lin_parameters_wd!B$9,Lin_parameters_wknd!B$10)","v":1.31124751273035},{"$f":"IF($C142<6,Lin_parameters_wd!C$9,Lin_parameters_wknd!C$10)","v":-7.5310765362349638E-2},{"$f":"IF($C142<6,Lin_parameters_wd!D$9,Lin_parameters_wknd!D$10)","v":0.29524473618599389},{"$f":"IF($C142<6,Lin_parameters_wd!E$9,Lin_parameters_wknd!E$10)","v":-9.762199133681506E-3},{"$f":"IF($C142<6,Lin_parameters_wd!F$9,Lin_parameters_wknd!F$10)","v":15.5},1.31124751273035,-7.5310765362349638E-2,0.21171033844004539,{"$f":"$K142*'Input and Output'!$C$30/SUM($K$2:$K$366)","v":0.22736435447167788}]
["2016-05-21",{"$f":"'Input and Output'!C176","v":17.5},7,{"$f":"IF($C143<6,Lin_parameters_wd!B$9,Lin_parameters_wknd!B$10)","v":1.31124751273035},{"$f":"IF($C143<6,Lin_parameters_wd!C$9,Lin_parameters_wknd!C$10)","v":-7.5310765362349638E-2},{"$f":"IF($C143<6,Lin_parameters_wd!D$9,Lin_parameters_wknd!D$10)","v":0.29524473618599389},{"$f":"IF($C143<6,Lin_parameters_wd!E$9,Lin_parameters_wknd!E$10)","v":-9.762199133681506E-3},{"$f":"IF($C143<6,Lin_parameters_wd!F$9,Lin_parameters_wknd!F$10)","v":15.5},0.29524473618599389,-9.762199133681506E-3,0.12440625134656755,{"$f":"$K143*'Input and Output'!$C$30/SUM($K$2:$K$366)","v":0.1336049398346405}]
["2016-05-22",{"$f":"'Input and Output'!C177","v":20},1,{"$f":"IF($C144<6,Lin_parameters_wd!B$9,Lin_parameters_wknd!B$10)","v":1.771938814155029},{"$f":"IF($C144<6,Lin_parameters_wd!C$9,Lin_parameters_wknd!C$10)","v":-9.5984753200240996E-2},{"$f":"IF($C144<6,Lin_parameters_wd!D$9,Lin_parameters_wknd!D$10)","v":0.40699471377216029},{"$f":"IF($C144<6,Lin_parameters_wd!E$9,Lin_parameters_wknd!E$10)","v":-1.2756454396407539E-2},{"$f":"IF($C144<6,Lin_parameters_wd!F$9,Lin_parameters_wknd!F$10)","v":16.399999999999999},0.40699471377216029,-1.2756454396407539E-2,0.15186562584400948,{"$f":"$K144*'Input and Output'!$C$30/SUM($K$2:$K$366)","v":0.1630946804056943}]
["2016-05-23",{"$f":"'Input and Output'!C178","v":15.5},2,{"$f":"IF($C145<6,Lin_parameters_wd!B$9,Lin_parameters_wknd!B$10)","v":1.771938814155029},{"$f":"IF($C145<6,Lin_parameters_wd!C$9,Lin_parameters_wknd!C$10)","v":-9.5984753200240996E-2},{"$f":"IF($C145<6,Lin_parameters_wd!D$9,Lin_parameters_wknd!D$10)","v":0.40699471377216029},{"$f":"IF($C145<6,Lin_parameters_wd!E$9,Lin_parameters_wknd!E$10)","v":-1.2756454396407539E-2},{"$f":"IF($C145<6,Lin_parameters_wd!F$9,Lin_parameters_wknd!F$10)","v":16.399999999999999},1.771938814155029,-9.5984753200240996E-2,0.28417513955129348,{"$f":"$K145*'Input and Output'!$C$30/SUM($K$2:$K$366)","v":0.30518725555424964}]
["2016-05-24",{"$f":"'Input and Output'!C179","v":11.1},3,{"$f":"IF($C146<6,Lin_parameters_wd!B$9,Lin_parameters_wknd!B$10)","v":1.771938814155029},{"$f":"IF($C146<6,Lin_parameters_wd!C$9,Lin_parameters_wknd!C$10)","v":-9.5984753200240996E-2},{"$f":"IF($C146<6,Lin_parameters_wd!D$9,Lin_parameters_wknd!D$10)","v":0.40699471377216029},{"$f":"IF($C146<6,Lin_parameters_wd!E$9,Lin_parameters_wknd!E$10)","v":-1.2756454396407539E-2},{"$f":"IF($C146<6,Lin_parameters_wd!F$9,Lin_parameters_wknd!F$10)","v":16.399999999999999},1.771938814155029,-9.5984753200240996E-2,0.70650805363235403,{"$f":"$K146*'Input and Output'!$C$30/SUM($K$2:$K$366)","v":0.7587477717279838}]
["2016-05-25",{"$f":"'Input and Output'!C180","v":12.7},4,{"$f":"IF($C147<6,Lin_parameters_wd!B$9,Lin_parameters_wknd!B$10)","v":1.771938814155029},{"$f":"IF($C147<6,Lin_parameters_wd!C$9,Lin_parameters_wknd!C$10)","v":-9.5984753200240996E-2},{"$f":"IF($C147<6,Lin_parameters_wd!D$9,Lin_parameters_wknd!D$10)","v":0.40699471377216029},{"$f":"IF($C147<6,Lin_parameters_wd!E$9,Lin_parameters_wknd!E$10)","v":-1.2756454396407539E-2},{"$f":"IF($C147<6,Lin_parameters_wd!F$9,Lin_parameters_wknd!F$10)","v":16.399999999999999},1.771938814155029,-9.5984753200240996E-2,0.55293244851196843,{"$f":"$K147*'Input and Output'!$C$30/SUM($K$2:$K$366)","v":0.59381667493753509}]
["2016-05-26",{"$f":"'Input and Output'!C181","v":16.3},5,{"$f":"IF($C148<6,Lin_parameters_wd!B$9,Lin_parameters_wknd!B$10)","v":1.771938814155029},{"$f":"IF($C148<6,Lin_parameters_wd!C$9,Lin_parameters_wknd!C$10)","v":-9.5984753200240996E-2},{"$f":"IF($C148<6,Lin_parameters_wd!D$9,Lin_parameters_wknd!D$10)","v":0.40699471377216029},{"$f":"IF($C148<6,Lin_parameters_wd!E$9,Lin_parameters_wknd!E$10)","v":-1.2756454396407539E-2},{"$f":"IF($C148<6,Lin_parameters_wd!F$9,Lin_parameters_wknd!F$10)","v":16.399999999999999},1.771938814155029,-9.5984753200240996E-2,0.20738733699110057,{"$f":"$K148*'Input and Output'!$C$30/SUM($K$2:$K$366)","v":0.2227217071590252}]
["2016-05-27",{"$f":"'Input and Output'!C182","v":17.2},6,{"$f":"IF($C149<6,Lin_parameters_wd!B$9,Lin_parameters_wknd!B$10)","v":1.31124751273035},{"$f":"IF($C149<6,Lin_parameters_wd!C$9,Lin_parameters_wknd!C$10)","v":-7.5310765362349638E-2},{"$f":"IF($C149<6,Lin_parameters_wd!D$9,Lin_parameters_wknd!D$10)","v":0.29524473618599389},{"$f":"IF($C149<6,Lin_parameters_wd!E$9,Lin_parameters_wknd!E$10)","v":-9.762199133681506E-3},{"$f":"IF($C149<6,Lin_parameters_wd!F$9,Lin_parameters_wknd!F$10)","v":15.5},0.29524473618599389,-9.762199133681506E-3,0.127334911086672,{"$f":"$K149*'Input and Output'!$C$30/SUM($K$2:$K$366)","v":0.13675014680083034}]
["2016-05-28",{"$f":"'Input and Output'!C183","v":18.8},7,{"$f":"IF($C150<6,Lin_parameters_wd!B$9,Lin_parameters_wknd!B$10)","v":1.31124751273035},{"$f":"IF($C150<6,Lin_parameters_wd!C$9,Lin_parameters_wknd!C$10)","v":-7.5310765362349638E-2},{"$f":"IF($C150<6,Lin_parameters_wd!D$9,Lin_parameters_wknd!D$10)","v":0.29524473618599389},{"$f":"IF($C150<6,Lin_parameters_wd!E$9,Lin_parameters_wknd!E$10)","v":-9.762199133681506E-3},{"$f":"IF($C150<6,Lin_parameters_wd!F$9,Lin_parameters_wknd!F$10)","v":15.5},0.29524473618599389,-9.762199133681506E-3,0.11171539247278156,{"$f":"$K150*'Input and Output'!$C$30/SUM($K$2:$K$366)","v":0.1199757096478178}]
["2016-05-29",{"$f":"'Input and Output'!C184","v":19.100000000000001},1,{"$f":"IF($C151<6,Lin_parameters_wd!B$9,Lin_parameters_wknd!B$10)","v":1.771938814155029},{"$f":"IF($C151<6,Lin_parameters_wd!C$9,Lin_parameters_wknd!C$10)","v":-9.5984753200240996E-2},{"$f":"IF($C151<6,Lin_parameters_wd!D$9,Lin_parameters_wknd!D$10)","v":0.40699471377216029},{"$f":"IF($C151<6,Lin_parameters_wd!E$9,Lin_parameters_wknd!E$10)","v":-1.2756454396407539E-2},{"$f":"IF($C151<6,Lin_parameters_wd!F$9,Lin_parameters_wknd!F$10)","v":16.399999999999999},0.40699471377216029,-1.2756454396407539E-2,0.16334643480077626,{"$f":"$K151*'Input and Output'!$C$30/SUM($K$2:$K$366)","v":0.17542438870667629}]
["2016-05-30",{"$f":"'Input and Output'!C185","v":18.3},2,{"$f":"IF($C152<6,Lin_parameters_wd!B$9,Lin_parameters_wknd!B$10)","v":1.771938814155029},{"$f":"IF($C152<6,Lin_parameters_wd!C$9,Lin_parameters_wknd!C$10)","v":-9.5984753200240996E-2},{"$f":"IF($C152<6,Lin_parameters_wd!D$9,Lin_parameters_wknd!D$10)","v":0.40699471377216029},{"$f":"IF($C152<6,Lin_parameters_wd!E$9,Lin_parameters_wknd!E$10)","v":-1.2756454396407539E-2},{"$f":"IF($C152<6,Lin_parameters_wd!F$9,Lin_parameters_wknd!F$10)","v":16.399999999999999},0.40699471377216029,-1.2756454396407539E-2,0.17355159831790232,{"$f":"$K152*'Input and Output'!$C$30/SUM($K$2:$K$366)","v":0.18638412941866034}]
["2016-05-31",{"$f":"'Input and Output'!C186","v":18.8},3,{"$f":"IF($C153<6,Lin_parameters_wd!B$9,Lin_parameters_wknd!B$10)","v":1.771938814155029},{"$f":"IF($C153<6,Lin_parameters_wd!C$9,Lin_parameters_wknd!C$10)","v":-9.5984753200240996E-2},{"$f":"IF($C153<6,Lin_parameters_wd!D$9,Lin_parameters_wknd!D$10)","v":0.40699471377216029},{"$f":"IF($C153<6,Lin_parameters_wd!E$9,Lin_parameters_wknd!E$10)","v":-1.2756454396407539E-2},{"$f":"IF($C153<6,Lin_parameters_wd!F$9,Lin_parameters_wknd!F$10)","v":16.399999999999999},0.40699471377216029,-1.2756454396407539E-2,0.16717337111969854,{"$f":"$K153*'Input and Output'!$C$30/SUM($K$2:$K$366)","v":0.17953429147367031}]
["2016-06-01",{"$f":"'Input and Output'!C187","v":17},4,{"$f":"IF($C154<6,Lin_parameters_wd!B$9,Lin_parameters_wknd!B$10)","v":1.771938814155029},{"$f":"IF($C154<6,Lin_parameters_wd!C$9,Lin_parameters_wknd!C$10)","v":-9.5984753200240996E-2},{"$f":"IF($C154<6,Lin_parameters_wd!D$9,Lin_parameters_wknd!D$10)","v":0.40699471377216029},{"$f":"IF($C154<6,Lin_parameters_wd!E$9,Lin_parameters_wknd!E$10)","v":-1.2756454396407539E-2},{"$f":"IF($C154<6,Lin_parameters_wd!F$9,Lin_parameters_wknd!F$10)","v":16.399999999999999},0.40699471377216029,-1.2756454396407539E-2,0.19013498903323212,{"$f":"$K154*'Input and Output'!$C$30/SUM($K$2:$K$366)","v":0.20419370807563436}]
["2016-06-02",{"$f":"'Input and Output'!C188","v":17.899999999999999},5,{"$f":"IF($C155<6,Lin_parameters_wd!B$9,Lin_parameters_wknd!B$10)","v":1.771938814155029},{"$f":"IF($C155<6,Lin_parameters_wd!C$9,Lin_parameters_wknd!C$10)","v":-9.5984753200240996E-2},{"$f":"IF($C155<6,Lin_parameters_wd!D$9,Lin_parameters_wknd!D$10)","v":0.40699471377216029},{"$f":"IF($C155<6,Lin_parameters_wd!E$9,Lin_parameters_wknd!E$10)","v":-1.2756454396407539E-2},{"$f":"IF($C155<6,Lin_parameters_wd!F$9,Lin_parameters_wknd!F$10)","v":16.399999999999999},0.40699471377216029,-1.2756454396407539E-2,0.17865418007646536,{"$f":"$K155*'Input and Output'!$C$30/SUM($K$2:$K$366)","v":0.19186399977465235}]
["2016-06-03",{"$f":"'Input and Output'!C189","v":18.8},6,{"$f":"IF($C156<6,Lin_parameters_wd!B$9,Lin_parameters_wknd!B$10)","v":1.31124751273035},{"$f":"IF($C156<6,Lin_parameters_wd!C$9,Lin_parameters_wknd!C$10)","v":-7.5310765362349638E-2},{"$f":"IF($C156<6,Lin_parameters_wd!D$9,Lin_parameters_wknd!D$10)","v":0.29524473618599389},{"$f":"IF($C156<6,Lin_parameters_wd!E$9,Lin_parameters_wknd!E$10)","v":-9.762199133681506E-3},{"$f":"IF($C156<6,Lin_parameters_wd!F$9,Lin_parameters_wknd!F$10)","v":15.5},0.29524473618599389,-9.762199133681506E-3,0.11171539247278156,{"$f":"$K156*'Input and Output'!$C$30/SUM($K$2:$K$366)","v":0.1199757096478178}]
["2016-06-04",{"$f":"'Input and Output'!C190","v":20.8},7,{"$f":"IF($C157<6,Lin_parameters_wd!B$9,Lin_parameters_wknd!B$10)","v":1.31124751273035},{"$f":"IF($C157<6,Lin_parameters_wd!C$9,Lin_parameters_wknd!C$10)","v":-7.5310765362349638E-2},{"$f":"IF($C157<6,Lin_parameters_wd!D$9,Lin_parameters_wknd!D$10)","v":0.29524473618599389},{"$f":"IF($C157<6,Lin_parameters_wd!E$9,Lin_parameters_wknd!E$10)","v":-9.762199133681506E-3},{"$f":"IF($C157<6,Lin_parameters_wd!F$9,Lin_parameters_wknd!F$10)","v":15.5},0.29524473618599389,-9.762199133681506E-3,9.2190994205418569E-2,{"$f":"$K157*'Input and Output'!$C$30/SUM($K$2:$K$366)","v":9.9007663206552174E-2}]
["2016-06-05",{"$f":"'Input and Output'!C191","v":21.2},1,{"$f":"IF($C158<6,Lin_parameters_wd!B$9,Lin_parameters_wknd!B$10)","v":1.771938814155029},{"$f":"IF($C158<6,Lin_parameters_wd!C$9,Lin_parameters_wknd!C$10)","v":-9.5984753200240996E-2},{"$f":"IF($C158<6,Lin_parameters_wd!D$9,Lin_parameters_wknd!D$10)","v":0.40699471377216029},{"$f":"IF($C158<6,Lin_parameters_wd!E$9,Lin_parameters_wknd!E$10)","v":-1.2756454396407539E-2},{"$f":"IF($C158<6,Lin_parameters_wd!F$9,Lin_parameters_wknd!F$10)","v":16.399999999999999},0.40699471377216029,-1.2756454396407539E-2,0.13655788056832047,{"$f":"$K158*'Input and Output'!$C$30/SUM($K$2:$K$366)","v":0.14665506933771832}]
["2016-06-06",{"$f":"'Input and Output'!C192","v":22.5},2,{"$f":"IF($C159<6,Lin_parameters_wd!B$9,Lin_parameters_wknd!B$10)","v":1.771938814155029},{"$f":"IF($C159<6,Lin_parameters_wd!C$9,Lin_parameters_wknd!C$10)","v":-9.5984753200240996E-2},{"$f":"IF($C159<6,Lin_parameters_wd!D$9,Lin_parameters_wknd!D$10)","v":0.40699471377216029},{"$f":"IF($C159<6,Lin_parameters_wd!E$9,Lin_parameters_wknd!E$10)","v":-1.2756454396407539E-2},{"$f":"IF($C159<6,Lin_parameters_wd!F$9,Lin_parameters_wknd!F$10)","v":16.399999999999999},0.40699471377216029,-1.2756454396407539E-2,0.11997448985299064,{"$f":"$K159*'Input and Output'!$C$30/SUM($K$2:$K$366)","v":0.12884549068074427}]
["2016-06-07",{"$f":"'Input and Output'!C193","v":22.3},3,{"$f":"IF($C160<6,Lin_parameters_wd!B$9,Lin_parameters_wknd!B$10)","v":1.771938814155029},{"$f":"IF($C160<6,Lin_parameters_wd!C$9,Lin_parameters_wknd!C$10)","v":-9.5984753200240996E-2},{"$f":"IF($C160<6,Lin_parameters_wd!D$9,Lin_parameters_wknd!D$10)","v":0.40699471377216029},{"$f":"IF($C160<6,Lin_parameters_wd!E$9,Lin_parameters_wknd!E$10)","v":-1.2756454396407539E-2},{"$f":"IF($C160<6,Lin_parameters_wd!F$9,Lin_parameters_wknd!F$10)","v":16.399999999999999},0.40699471377216029,-1.2756454396407539E-2,0.12252578073227216,{"$f":"$K160*'Input and Output'!$C$30/SUM($K$2:$K$366)","v":0.13158542585874031}]
["2016-06-08",{"$f":"'Input and Output'!C194","v":20},4,{"$f":"IF($C161<6,Lin_parameters_wd!B$9,Lin_parameters_wknd!B$10)","v":1.771938814155029},{"$f":"IF($C161<6,Lin_parameters_wd!C$9,Lin_parameters_wknd!C$10)","v":-9.5984753200240996E-2},{"$f":"IF($C161<6,Lin_parameters_wd!D$9,Lin_parameters_wknd!D$10)","v":0.40699471377216029},{"$f":"IF($C161<6,Lin_parameters_wd!E$9,Lin_parameters_wknd!E$10)","v":-1.2756454396407539E-2},{"$f":"IF($C161<6,Lin_parameters_wd!F$9,Lin_parameters_wknd!F$10)","v":16.399999999999999},0.40699471377216029,-1.2756454396407539E-2,0.15186562584400948,{"$f":"$K161*'Input and Output'!$C$30/SUM($K$2:$K$366)","v":0.1630946804056943}]
["2016-06-09",{"$f":"'Input and Output'!C195","v":15.2},5,{"$f":"IF($C162<6,Lin_parameters_wd!B$9,Lin_parameters_wknd!B$10)","v":1.771938814155029},{"$f":"IF($C162<6,Lin_parameters_wd!C$9,Lin_parameters_wknd!C$10)","v":-9.5984753200240996E-2},{"$f":"IF($C162<6,Lin_parameters_wd!D$9,Lin_parameters_wknd!D$10)","v":0.40699471377216029},{"$f":"IF($C162<6,Lin_parameters_wd!E$9,Lin_parameters_wknd!E$10)","v":-1.2756454396407539E-2},{"$f":"IF($C162<6,Lin_parameters_wd!F$9,Lin_parameters_wknd!F$10)","v":16.399999999999999},1.771938814155029,-9.5984753200240996E-2,0.31297056551136593,{"$f":"$K162*'Input and Output'!$C$30/SUM($K$2:$K$366)","v":0.33611183620245899}]
["2016-06-10",{"$f":"'Input and Output'!C196","v":17.3},6,{"$f":"IF($C163<6,Lin_parameters_wd!B$9,Lin_parameters_wknd!B$10)","v":1.31124751273035},{"$f":"IF($C163<6,Lin_parameters_wd!C$9,Lin_parameters_wknd!C$10)","v":-7.5310765362349638E-2},{"$f":"IF($C163<6,Lin_parameters_wd!D$9,Lin_parameters_wknd!D$10)","v":0.29524473618599389},{"$f":"IF($C163<6,Lin_parameters_wd!E$9,Lin_parameters_wknd!E$10)","v":-9.762199133681506E-3},{"$f":"IF($C163<6,Lin_parameters_wd!F$9,Lin_parameters_wknd!F$10)","v":15.5},0.29524473618599389,-9.762199133681506E-3,0.12635869117330384,{"$f":"$K163*'Input and Output'!$C$30/SUM($K$2:$K$366)","v":0.13570174447876704}]
["2016-06-11",{"$f":"'Input and Output'!C197","v":17.8},7,{"$f":"IF($C164<6,Lin_parameters_wd!B$9,Lin_parameters_wknd!B$10)","v":1.31124751273035},{"$f":"IF($C164<6,Lin_parameters_wd!C$9,Lin_parameters_wknd!C$10)","v":-7.5310765362349638E-2},{"$f":"IF($C164<6,Lin_parameters_wd!D$9,Lin_parameters_wknd!D$10)","v":0.29524473618599389},{"$f":"IF($C164<6,Lin_parameters_wd!E$9,Lin_parameters_wknd!E$10)","v":-9.762199133681506E-3},{"$f":"IF($C164<6,Lin_parameters_wd!F$9,Lin_parameters_wknd!F$10)","v":15.5},0.29524473618599389,-9.762199133681506E-3,0.12147759160646307,{"$f":"$K164*'Input and Output'!$C$30/SUM($K$2:$K$366)","v":0.13045973286845061}]
["2016-06-12",{"$f":"'Input and Output'!C198","v":16.7},1,{"$f":"IF($C165<6,Lin_parameters_wd!B$9,Lin_parameters_wknd!B$10)","v":1.771938814155029},{"$f":"IF($C165<6,Lin_parameters_wd!C$9,Lin_parameters_wknd!C$10)","v":-9.5984753200240996E-2},{"$f":"IF($C165<6,Lin_parameters_wd!D$9,Lin_parameters_wknd!D$10)","v":0.40699471377216029},{"$f":"IF($C165<6,Lin_parameters_wd!E$9,Lin_parameters_wknd!E$10)","v":-1.2756454396407539E-2},{"$f":"IF($C165<6,Lin_parameters_wd!F$9,Lin_parameters_wknd!F$10)","v":16.399999999999999},0.40699471377216029,-1.2756454396407539E-2,0.1939619253521544,{"$f":"$K165*'Input and Output'!$C$30/SUM($K$2:$K$366)","v":0.20830361084262836}]
["2016-06-13",{"$f":"'Input and Output'!C199","v":15.7},2,{"$f":"IF($C166<6,Lin_parameters_wd!B$9,Lin_parameters_wknd!B$10)","v":1.771938814155029},{"$f":"IF($C166<6,Lin_parameters_wd!C$9,Lin_parameters_wknd!C$10)","v":-9.5984753200240996E-2},{"$f":"IF($C166<6,Lin_parameters_wd!D$9,Lin_parameters_wknd!D$10)","v":0.40699471377216029},{"$f":"IF($C166<6,Lin_parameters_wd!E$9,Lin_parameters_wknd!E$10)","v":-1.2756454396407539E-2},{"$f":"IF($C166<6,Lin_parameters_wd!F$9,Lin_parameters_wknd!F$10)","v":16.399999999999999},1.771938814155029,-9.5984753200240996E-2,0.26497818891124547,{"$f":"$K166*'Input and Output'!$C$30/SUM($K$2:$K$366)","v":0.28457086845544383}]
["2016-06-14",{"$f":"'Input and Output'!C200","v":16.399999999999999},3,{"$f":"IF($C167<6,Lin_parameters_wd!B$9,Lin_parameters_wknd!B$10)","v":1.771938814155029},{"$f":"IF($C167<6,Lin_parameters_wd!C$9,Lin_parameters_wknd!C$10)","v":-9.5984753200240996E-2},{"$f":"IF($C167<6,Lin_parameters_wd!D$9,Lin_parameters_wknd!D$10)","v":0.40699471377216029},{"$f":"IF($C167<6,Lin_parameters_wd!E$9,Lin_parameters_wknd!E$10)","v":-1.2756454396407539E-2},{"$f":"IF($C167<6,Lin_parameters_wd!F$9,Lin_parameters_wknd!F$10)","v":16.399999999999999},0.40699471377216029,-1.2756454396407539E-2,0.19778886167107668,{"$f":"$K167*'Input and Output'!$C$30/SUM($K$2:$K$366)","v":0.21241351360962238}]
["2016-06-15",{"$f":"'Input and Output'!C201","v":15.5},4,{"$f":"IF($C168<6,Lin_parameters_wd!B$9,Lin_parameters_wknd!B$10)","v":1.771938814155029},{"$f":"IF($C168<6,Lin_parameters_wd!C$9,Lin_parameters_wknd!C$10)","v":-9.5984753200240996E-2},{"$f":"IF($C168<6,Lin_parameters_wd!D$9,Lin_parameters_wknd!D$10)","v":0.40699471377216029},{"$f":"IF($C168<6,Lin_parameters_wd!E$9,Lin_parameters_wknd!E$10)","v":-1.2756454396407539E-2},{"$f":"IF($C168<6,Lin_parameters_wd!F$9,Lin_parameters_wknd!F$10)","v":16.399999999999999},1.771938814155029,-9.5984753200240996E-2,0.28417513955129348,{"$f":"$K168*'Input and Output'!$C$30/SUM($K$2:$K$366)","v":0.30518725555424964}]
["2016-06-16",{"$f":"'Input and Output'!C202","v":14.8},5,{"$f":"IF($C169<6,Lin_parameters_wd!B$9,Lin_parameters_wknd!B$10)","v":1.771938814155029},{"$f":"IF($C169<6,Lin_parameters_wd!C$9,Lin_parameters_wknd!C$10)","v":-9.5984753200240996E-2},{"$f":"IF($C169<6,Lin_parameters_wd!D$9,Lin_parameters_wknd!D$10)","v":0.40699471377216029},{"$f":"IF($C169<6,Lin_parameters_wd!E$9,Lin_parameters_wknd!E$10)","v":-1.2756454396407539E-2},{"$f":"IF($C169<6,Lin_parameters_wd!F$9,Lin_parameters_wknd!F$10)","v":16.399999999999999},1.771938814155029,-9.5984753200240996E-2,0.35136446679146216,{"$f":"$K169*'Input and Output'!$C$30/SUM($K$2:$K$366)","v":0.377344610400071}]
["2016-06-17",{"$f":"'Input and Output'!C203","v":16},6,{"$f":"IF($C170<6,Lin_parameters_wd!B$9,Lin_parameters_wknd!B$10)","v":1.31124751273035},{"$f":"IF($C170<6,Lin_parameters_wd!C$9,Lin_parameters_wknd!C$10)","v":-7.5310765362349638E-2},{"$f":"IF($C170<6,Lin_parameters_wd!D$9,Lin_parameters_wknd!D$10)","v":0.29524473618599389},{"$f":"IF($C170<6,Lin_parameters_wd!E$9,Lin_parameters_wknd!E$10)","v":-9.762199133681506E-3},{"$f":"IF($C170<6,Lin_parameters_wd!F$9,Lin_parameters_wknd!F$10)","v":15.5},0.29524473618599389,-9.762199133681506E-3,0.1390495500470898,{"$f":"$K170*'Input and Output'!$C$30/SUM($K$2:$K$366)","v":0.14933097466558973}]
["2016-06-18",{"$f":"'Input and Output'!C204","v":16.399999999999999},7,{"$f":"IF($C171<6,Lin_parameters_wd!B$9,Lin_parameters_wknd!B$10)","v":1.31124751273035},{"$f":"IF($C171<6,Lin_parameters_wd!C$9,Lin_parameters_wknd!C$10)","v":-7.5310765362349638E-2},{"$f":"IF($C171<6,Lin_parameters_wd!D$9,Lin_parameters_wknd!D$10)","v":0.29524473618599389},{"$f":"IF($C171<6,Lin_parameters_wd!E$9,Lin_parameters_wknd!E$10)","v":-9.762199133681506E-3},{"$f":"IF($C171<6,Lin_parameters_wd!F$9,Lin_parameters_wknd!F$10)","v":15.5},0.29524473618599389,-9.762199133681506E-3,0.13514467039361722,{"$f":"$K171*'Input and Output'!$C$30/SUM($K$2:$K$366)","v":0.1451373653773366}]
["2016-06-19",{"$f":"'Input and Output'!C205","v":14.9},1,{"$f":"IF($C172<6,Lin_parameters_wd!B$9,Lin_parameters_wknd!B$10)","v":1.771938814155029},{"$f":"IF($C172<6,Lin_parameters_wd!C$9,Lin_parameters_wknd!C$10)","v":-9.5984753200240996E-2},{"$f":"IF($C172<6,Lin_parameters_wd!D$9,Lin_parameters_wknd!D$10)","v":0.40699471377216029},{"$f":"IF($C172<6,Lin_parameters_wd!E$9,Lin_parameters_wknd!E$10)","v":-1.2756454396407539E-2},{"$f":"IF($C172<6,Lin_parameters_wd!F$9,Lin_parameters_wknd!F$10)","v":16.399999999999999},1.771938814155029,-9.5984753200240996E-2,0.34176599147143816,{"$f":"$K172*'Input and Output'!$C$30/SUM($K$2:$K$366)","v":0.36703641685066801}]
["2016-06-20",{"$f":"'Input and Output'!C206","v":15.7},2,{"$f":"IF($C173<6,Lin_parameters_wd!B$9,Lin_parameters_wknd!B$10)","v":1.771938814155029},{"$f":"IF($C173<6,Lin_parameters_wd!C$9,Lin_parameters_wknd!C$10)","v":-9.5984753200240996E-2},{"$f":"IF($C173<6,Lin_parameters_wd!D$9,Lin_parameters_wknd!D$10)","v":0.40699471377216029},{"$f":"IF($C173<6,Lin_parameters_wd!E$9,Lin_parameters_wknd!E$10)","v":-1.2756454396407539E-2},{"$f":"IF($C173<6,Lin_parameters_wd!F$9,Lin_parameters_wknd!F$10)","v":16.399999999999999},1.771938814155029,-9.5984753200240996E-2,0.26497818891124547,{"$f":"$K173*'Input and Output'!$C$30/SUM($K$2:$K$366)","v":0.28457086845544383}]
["2016-06-21",{"$f":"'Input and Output'!C207","v":19.100000000000001},3,{"$f":"IF($C174<6,Lin_parameters_wd!B$9,Lin_parameters_wknd!B$10)","v":1.771938814155029},{"$f":"IF($C174<6,Lin_parameters_wd!C$9,Lin_parameters_wknd!C$10)","v":-9.5984753200240996E-2},{"$f":"IF($C174<6,Lin_parameters_wd!D$9,Lin_parameters_wknd!D$10)","v":0.40699471377216029},{"$f":"IF($C174<6,Lin_parameters_wd!E$9,Lin_parameters_wknd!E$10)","v":-1.2756454396407539E-2},{"$f":"IF($C174<6,Lin_parameters_wd!F$9,Lin_parameters_wknd!F$10)","v":16.399999999999999},0.40699471377216029,-1.2756454396407539E-2,0.16334643480077626,{"$f":"$K174*'Input and Output'!$C$30/SUM($K$2:$K$366)","v":0.17542438870667629}]
["2016-06-22",{"$f":"'Input and Output'!C208","v":22.2},4,{"$f":"IF($C175<6,Lin_parameters_wd!B$9,Lin_parameters_wknd!B$10)","v":1.771938814155029},{"$f":"IF($C175<6,Lin_parameters_wd!C$9,Lin_parameters_wknd!C$10)","v":-9.5984753200240996E-2},{"$f":"IF($C175<6,Lin_parameters_wd!D$9,Lin_parameters_wknd!D$10)","v":0.40699471377216029},{"$f":"IF($C175<6,Lin_parameters_wd!E$9,Lin_parameters_wknd!E$10)","v":-1.2756454396407539E-2},{"$f":"IF($C175<6,Lin_parameters_wd!F$9,Lin_parameters_wknd!F$10)","v":16.399999999999999},0.40699471377216029,-1.2756454396407539E-2,0.12380142617191292,{"$f":"$K175*'Input and Output'!$C$30/SUM($K$2:$K$366)","v":0.1329553934477383}]
["2016-06-23",{"$f":"'Input and Output'!C209","v":26.3},5,{"$f":"IF($C176<6,Lin_parameters_wd!B$9,Lin_parameters_wknd!B$10)","v":1.771938814155029},{"$f":"IF($C176<6,Lin_parameters_wd!C$9,Lin_parameters_wknd!C$10)","v":-9.5984753200240996E-2},{"$f":"IF($C176<6,Lin_parameters_wd!D$9,Lin_parameters_wknd!D$10)","v":0.40699471377216029},{"$f":"IF($C176<6,Lin_parameters_wd!E$9,Lin_parameters_wknd!E$10)","v":-1.2756454396407539E-2},{"$f":"IF($C176<6,Lin_parameters_wd!F$9,Lin_parameters_wknd!F$10)","v":16.399999999999999},0.40699471377216029,-1.2756454396407539E-2,7.1499963146641976E-2,{"$f":"$K176*'Input and Output'!$C$30/SUM($K$2:$K$366)","v":7.6786722298820234E-2}]
["2016-06-24",{"$f":"'Input and Output'!C210","v":24.4},6,{"$f":"IF($C177<6,Lin_parameters_wd!B$9,Lin_parameters_wknd!B$10)","v":1.31124751273035},{"$f":"IF($C177<6,Lin_parameters_wd!C$9,Lin_parameters_wknd!C$10)","v":-7.5310765362349638E-2},{"$f":"IF($C177<6,Lin_parameters_wd!D$9,Lin_parameters_wknd!D$10)","v":0.29524473618599389},{"$f":"IF($C177<6,Lin_parameters_wd!E$9,Lin_parameters_wknd!E$10)","v":-9.762199133681506E-3},{"$f":"IF($C177<6,Lin_parameters_wd!F$9,Lin_parameters_wknd!F$10)","v":15.5},0.29524473618599389,-9.762199133681506E-3,5.7047077324165169E-2,{"$f":"$K177*'Input and Output'!$C$30/SUM($K$2:$K$366)","v":6.1265179612274047E-2}]
["2016-06-25",{"$f":"'Input and Output'!C211","v":19.2},7,{"$f":"IF($C178<6,Lin_parameters_wd!B$9,Lin_parameters_wknd!B$10)","v":1.31124751273035},{"$f":"IF($C178<6,Lin_parameters_wd!C$9,Lin_parameters_wknd!C$10)","v":-7.5310765362349638E-2},{"$f":"IF($C178<6,Lin_parameters_wd!D$9,Lin_parameters_wknd!D$10)","v":0.29524473618599389},{"$f":"IF($C178<6,Lin_parameters_wd!E$9,Lin_parameters_wknd!E$10)","v":-9.762199133681506E-3},{"$f":"IF($C178<6,Lin_parameters_wd!F$9,Lin_parameters_wknd!F$10)","v":15.5},0.29524473618599389,-9.762199133681506E-3,0.10781051281930898,{"$f":"$K178*'Input and Output'!$C$30/SUM($K$2:$K$366)","v":0.11578210035956468}]
["2016-06-26",{"$f":"'Input and Output'!C212","v":17.600000000000001},1,{"$f":"IF($C179<6,Lin_parameters_wd!B$9,Lin_parameters_wknd!B$10)","v":1.771938814155029},{"$f":"IF($C179<6,Lin_parameters_wd!C$9,Lin_parameters_wknd!C$10)","v":-9.5984753200240996E-2},{"$f":"IF($C179<6,Lin_parameters_wd!D$9,Lin_parameters_wknd!D$10)","v":0.40699471377216029},{"$f":"IF($C179<6,Lin_parameters_wd!E$9,Lin_parameters_wknd!E$10)","v":-1.2756454396407539E-2},{"$f":"IF($C179<6,Lin_parameters_wd!F$9,Lin_parameters_wknd!F$10)","v":16.399999999999999},0.40699471377216029,-1.2756454396407539E-2,0.18248111639538758,{"$f":"$K179*'Input and Output'!$C$30/SUM($K$2:$K$366)","v":0.19597390254164632}]
["2016-06-27",{"$f":"'Input and Output'!C213","v":16.5},2,{"$f":"IF($C180<6,Lin_parameters_wd!B$9,Lin_parameters_wknd!B$10)","v":1.771938814155029},{"$f":"IF($C180<6,Lin_parameters_wd!C$9,Lin_parameters_wknd!C$10)","v":-9.5984753200240996E-2},{"$f":"IF($C180<6,Lin_parameters_wd!D$9,Lin_parameters_wknd!D$10)","v":0.40699471377216029},{"$f":"IF($C180<6,Lin_parameters_wd!E$9,Lin_parameters_wknd!E$10)","v":-1.2756454396407539E-2},{"$f":"IF($C180<6,Lin_parameters_wd!F$9,Lin_parameters_wknd!F$10)","v":16.399999999999999},0.40699471377216029,-1.2756454396407539E-2,0.19651321623143589,{"$f":"$K180*'Input and Output'!$C$30/SUM($K$2:$K$366)","v":0.21104354602062436}]
["2016-06-28",{"$f":"'Input and Output'!C214","v":18.600000000000001},3,{"$f":"IF($C181<6,Lin_parameters_wd!B$9,Lin_parameters_wknd!B$10)","v":1.771938814155029},{"$f":"IF($C181<6,Lin_parameters_wd!C$9,Lin_parameters_wknd!C$10)","v":-9.5984753200240996E-2},{"$f":"IF($C181<6,Lin_parameters_wd!D$9,Lin_parameters_wknd!D$10)","v":0.40699471377216029},{"$f":"IF($C181<6,Lin_parameters_wd!E$9,Lin_parameters_wknd!E$10)","v":-1.2756454396407539E-2},{"$f":"IF($C181<6,Lin_parameters_wd!F$9,Lin_parameters_wknd!F$10)","v":16.399999999999999},0.40699471377216029,-1.2756454396407539E-2,0.16972466199898004,{"$f":"$K181*'Input and Output'!$C$30/SUM($K$2:$K$366)","v":0.18227422665166632}]
["2016-06-29",{"$f":"'Input and Output'!C215","v":20.5},4,{"$f":"IF($C182<6,Lin_parameters_wd!B$9,Lin_parameters_wknd!B$10)","v":1.771938814155029},{"$f":"IF($C182<6,Lin_parameters_wd!C$9,Lin_parameters_wknd!C$10)","v":-9.5984753200240996E-2},{"$f":"IF($C182<6,Lin_parameters_wd!D$9,Lin_parameters_wknd!D$10)","v":0.40699471377216029},{"$f":"IF($C182<6,Lin_parameters_wd!E$9,Lin_parameters_wknd!E$10)","v":-1.2756454396407539E-2},{"$f":"IF($C182<6,Lin_parameters_wd!F$9,Lin_parameters_wknd!F$10)","v":16.399999999999999},0.40699471377216029,-1.2756454396407539E-2,0.14548739864580573,{"$f":"$K182*'Input and Output'!$C$30/SUM($K$2:$K$366)","v":0.1562448424607043}]
["2016-06-30",{"$f":"'Input and Output'!C216","v":19.100000000000001},5,{"$f":"IF($C183<6,Lin_parameters_wd!B$9,Lin_parameters_wknd!B$10)","v":1.771938814155029},{"$f":"IF($C183<6,Lin_parameters_wd!C$9,Lin_parameters_wknd!C$10)","v":-9.5984753200240996E-2},{"$f":"IF($C183<6,Lin_parameters_wd!D$9,Lin_parameters_wknd!D$10)","v":0.40699471377216029},{"$f":"IF($C183<6,Lin_parameters_wd!E$9,Lin_parameters_wknd!E$10)","v":-1.2756454396407539E-2},{"$f":"IF($C183<6,Lin_parameters_wd!F$9,Lin_parameters_wknd!F$10)","v":16.399999999999999},0.40699471377216029,-1.2756454396407539E-2,0.16334643480077626,{"$f":"$K183*'Input and Output'!$C$30/SUM($K$2:$K$366)","v":0.17542438870667629}]
["2016-07-01",{"$f":"'Input and Output'!C217","v":21},6,{"$f":"IF($C184<6,Lin_parameters_wd!B$9,Lin_parameters_wknd!B$10)","v":1.31124751273035},{"$f":"IF($C184<6,Lin_parameters_wd!C$9,Lin_parameters_wknd!C$10)","v":-7.5310765362349638E-2},{"$f":"IF($C184<6,Lin_parameters_wd!D$9,Lin_parameters_wknd!D$10)","v":0.29524473618599389},{"$f":"IF($C184<6,Lin_parameters_wd!E$9,Lin_parameters_wknd!E$10)","v":-9.762199133681506E-3},{"$f":"IF($C184<6,Lin_parameters_wd!F$9,Lin_parameters_wknd!F$10)","v":15.5},0.29524473618599389,-9.762199133681506E-3,9.0238554378682279E-2,{"$f":"$K184*'Input and Output'!$C$30/SUM($K$2:$K$366)","v":9.6910858562425622E-2}]
["2016-07-02",{"$f":"'Input and Output'!C218","v":16.600000000000001},7,{"$f":"IF($C185<6,Lin_parameters_wd!B$9,Lin_parameters_wknd!B$10)","v":1.31124751273035},{"$f":"IF($C185<6,Lin_parameters_wd!C$9,Lin_parameters_wknd!C$10)","v":-7.5310765362349638E-2},{"$f":"IF($C185<6,Lin_parameters_wd!D$9,Lin_parameters_wknd!D$10)","v":0.29524473618599389},{"$f":"IF($C185<6,Lin_parameters_wd!E$9,Lin_parameters_wknd!E$10)","v":-9.762199133681506E-3},{"$f":"IF($C185<6,Lin_parameters_wd!F$9,Lin_parameters_wknd!F$10)","v":15.5},0.29524473618599389,-9.762199133681506E-3,0.13319223056688087,{"$f":"$K185*'Input and Output'!$C$30/SUM($K$2:$K$366)","v":0.14304056073321}]
["2016-07-03",{"$f":"'Input and Output'!C219","v":15.2},1,{"$f":"IF($C186<6,Lin_parameters_wd!B$9,Lin_parameters_wknd!B$10)","v":1.771938814155029},{"$f":"IF($C186<6,Lin_parameters_wd!C$9,Lin_parameters_wknd!C$10)","v":-9.5984753200240996E-2},{"$f":"IF($C186<6,Lin_parameters_wd!D$9,Lin_parameters_wknd!D$10)","v":0.40699471377216029},{"$f":"IF($C186<6,Lin_parameters_wd!E$9,Lin_parameters_wknd!E$10)","v":-1.2756454396407539E-2},{"$f":"IF($C186<6,Lin_parameters_wd!F$9,Lin_parameters_wknd!F$10)","v":16.399999999999999},1.771938814155029,-9.5984753200240996E-2,0.31297056551136593,{"$f":"$K186*'Input and Output'!$C$30/SUM($K$2:$K$366)","v":0.33611183620245899}]
["2016-07-04",{"$f":"'Input and Output'!C220","v":17.600000000000001},2,{"$f":"IF($C187<6,Lin_parameters_wd!B$9,Lin_parameters_wknd!B$10)","v":1.771938814155029},{"$f":"IF($C187<6,Lin_parameters_wd!C$9,Lin_parameters_wknd!C$10)","v":-9.5984753200240996E-2},{"$f":"IF($C187<6,Lin_parameters_wd!D$9,Lin_parameters_wknd!D$10)","v":0.40699471377216029},{"$f":"IF($C187<6,Lin_parameters_wd!E$9,Lin_parameters_wknd!E$10)","v":-1.2756454396407539E-2},{"$f":"IF($C187<6,Lin_parameters_wd!F$9,Lin_parameters_wknd!F$10)","v":16.399999999999999},0.40699471377216029,-1.2756454396407539E-2,0.18248111639538758,{"$f":"$K187*'Input and Output'!$C$30/SUM($K$2:$K$366)","v":0.19597390254164632}]
["2016-07-05",{"$f":"'Input and Output'!C221","v":18.399999999999999},3,{"$f":"IF($C188<6,Lin_parameters_wd!B$9,Lin_parameters_wknd!B$10)","v":1.771938814155029},{"$f":"IF($C188<6,Lin_parameters_wd!C$9,Lin_parameters_wknd!C$10)","v":-9.5984753200240996E-2},{"$f":"IF($C188<6,Lin_parameters_wd!D$9,Lin_parameters_wknd!D$10)","v":0.40699471377216029},{"$f":"IF($C188<6,Lin_parameters_wd!E$9,Lin_parameters_wknd!E$10)","v":-1.2756454396407539E-2},{"$f":"IF($C188<6,Lin_parameters_wd!F$9,Lin_parameters_wknd!F$10)","v":16.399999999999999},0.40699471377216029,-1.2756454396407539E-2,0.17227595287826158,{"$f":"$K188*'Input and Output'!$C$30/SUM($K$2:$K$366)","v":0.18501416182966235}]
["2016-07-06",{"$f":"'Input and Output'!C222","v":16.600000000000001},4,{"$f":"IF($C189<6,Lin_parameters_wd!B$9,Lin_parameters_wknd!B$10)","v":1.771938814155029},{"$f":"IF($C189<6,Lin_parameters_wd!C$9,Lin_parameters_wknd!C$10)","v":-9.5984753200240996E-2},{"$f":"IF($C189<6,Lin_parameters_wd!D$9,Lin_parameters_wknd!D$10)","v":0.40699471377216029},{"$f":"IF($C189<6,Lin_parameters_wd!E$9,Lin_parameters_wknd!E$10)","v":-1.2756454396407539E-2},{"$f":"IF($C189<6,Lin_parameters_wd!F$9,Lin_parameters_wknd!F$10)","v":16.399999999999999},0.40699471377216029,-1.2756454396407539E-2,0.19523757079179513,{"$f":"$K189*'Input and Output'!$C$30/SUM($K$2:$K$366)","v":0.20967357843162635}]
["2016-07-07",{"$f":"'Input and Output'!C223","v":18.399999999999999},5,{"$f":"IF($C190<6,Lin_parameters_wd!B$9,Lin_parameters_wknd!B$10)","v":1.771938814155029},{"$f":"IF($C190<6,Lin_parameters_wd!C$9,Lin_parameters_wknd!C$10)","v":-9.5984753200240996E-2},{"$f":"IF($C190<6,Lin_parameters_wd!D$9,Lin_parameters_wknd!D$10)","v":0.40699471377216029},{"$f":"IF($C190<6,Lin_parameters_wd!E$9,Lin_parameters_wknd!E$10)","v":-1.2756454396407539E-2},{"$f":"IF($C190<6,Lin_parameters_wd!F$9,Lin_parameters_wknd!F$10)","v":16.399999999999999},0.40699471377216029,-1.2756454396407539E-2,0.17227595287826158,{"$f":"$K190*'Input and Output'!$C$30/SUM($K$2:$K$366)","v":0.18501416182966235}]
["2016-07-08",{"$f":"'Input and Output'!C224","v":20.6},6,{"$f":"IF($C191<6,Lin_parameters_wd!B$9,Lin_parameters_wknd!B$10)","v":1.31124751273035},{"$f":"IF($C191<6,Lin_parameters_wd!C$9,Lin_parameters_wknd!C$10)","v":-7.5310765362349638E-2},{"$f":"IF($C191<6,Lin_parameters_wd!D$9,Lin_parameters_wknd!D$10)","v":0.29524473618599389},{"$f":"IF($C191<6,Lin_parameters_wd!E$9,Lin_parameters_wknd!E$10)","v":-9.762199133681506E-3},{"$f":"IF($C191<6,Lin_parameters_wd!F$9,Lin_parameters_wknd!F$10)","v":15.5},0.29524473618599389,-9.762199133681506E-3,9.414343403215486E-2,{"$f":"$K191*'Input and Output'!$C$30/SUM($K$2:$K$366)","v":0.10110446785067873}]
["2016-07-09",{"$f":"'Input and Output'!C225","v":20.9},7,{"$f":"IF($C192<6,Lin_parameters_wd!B$9,Lin_parameters_wknd!B$10)","v":1.31124751273035},{"$f":"IF($C192<6,Lin_parameters_wd!C$9,Lin_parameters_wknd!C$10)","v":-7.5310765362349638E-2},{"$f":"IF($C192<6,Lin_parameters_wd!D$9,Lin_parameters_wknd!D$10)","v":0.29524473618599389},{"$f":"IF($C192<6,Lin_parameters_wd!E$9,Lin_parameters_wknd!E$10)","v":-9.762199133681506E-3},{"$f":"IF($C192<6,Lin_parameters_wd!F$9,Lin_parameters_wknd!F$10)","v":15.5},0.29524473618599389,-9.762199133681506E-3,9.1214774292050438E-2,{"$f":"$K192*'Input and Output'!$C$30/SUM($K$2:$K$366)","v":9.7959260884488905E-2}]
["2016-07-10",{"$f":"'Input and Output'!C226","v":24},1,{"$f":"IF($C193<6,Lin_parameters_wd!B$9,Lin_parameters_wknd!B$10)","v":1.771938814155029},{"$f":"IF($C193<6,Lin_parameters_wd!C$9,Lin_parameters_wknd!C$10)","v":-9.5984753200240996E-2},{"$f":"IF($C193<6,Lin_parameters_wd!D$9,Lin_parameters_wknd!D$10)","v":0.40699471377216029},{"$f":"IF($C193<6,Lin_parameters_wd!E$9,Lin_parameters_wknd!E$10)","v":-1.2756454396407539E-2},{"$f":"IF($C193<6,Lin_parameters_wd!F$9,Lin_parameters_wknd!F$10)","v":16.399999999999999},0.40699471377216029,-1.2756454396407539E-2,0.10083980825837935,{"$f":"$K193*'Input and Output'!$C$30/SUM($K$2:$K$366)","v":0.10829597684577429}]
["2016-07-11",{"$f":"'Input and Output'!C227","v":23.3},{"$f":"WEEKDAY(A194)","v":2},{"$f":"IF($C194<6,Lin_parameters_wd!B$9,Lin_parameters_wknd!B$10)","v":1.771938814155029},{"$f":"IF($C194<6,Lin_parameters_wd!C$9,Lin_parameters_wknd!C$10)","v":-9.5984753200240996E-2},{"$f":"IF($C194<6,Lin_parameters_wd!D$9,Lin_parameters_wknd!D$10)","v":0.40699471377216029},{"$f":"IF($C194<6,Lin_parameters_wd!E$9,Lin_parameters_wknd!E$10)","v":-1.2756454396407539E-2},{"$f":"IF($C194<6,Lin_parameters_wd!F$9,Lin_parameters_wknd!F$10)","v":16.399999999999999},0.40699471377216029,-1.2756454396407539E-2,0.10976932633586461,{"$f":"$K194*'Input and Output'!$C$30/SUM($K$2:$K$366)","v":0.11788574996876029}]
["2016-07-12",{"$f":"'Input and Output'!C228","v":20.7},3,{"$f":"IF($C195<6,Lin_parameters_wd!B$9,Lin_parameters_wknd!B$10)","v":1.771938814155029},{"$f":"IF($C195<6,Lin_parameters_wd!C$9,Lin_parameters_wknd!C$10)","v":-9.5984753200240996E-2},{"$f":"IF($C195<6,Lin_parameters_wd!D$9,Lin_parameters_wknd!D$10)","v":0.40699471377216029},{"$f":"IF($C195<6,Lin_parameters_wd!E$9,Lin_parameters_wknd!E$10)","v":-1.2756454396407539E-2},{"$f":"IF($C195<6,Lin_parameters_wd!F$9,Lin_parameters_wknd!F$10)","v":16.399999999999999},{"$f":"IF($B195<$H195,$D195,$F195)","v":0.40699471377216029},{"$f":"IF($B195<$H195,$E195,$G195)","v":-1.2756454396407539E-2},{"$f":"MAX($I195+$J195*$B195,0)","v":0.14293610776652421},{"$f":"$K195*'Input and Output'!$C$30/SUM($K$2:$K$366)","v":0.1535049072827083}]
[{"$f":"A195+1","v":"2016-07-13"},{"$f":"'Input and Output'!C229","v":17},4,{"$f":"IF($C196<6,Lin_parameters_wd!B$9,Lin_parameters_wknd!B$10)","v":1.771938814155029},{"$f":"IF($C196<6,Lin_parameters_wd!C$9,Lin_parameters_wknd!C$10)","v":-9.5984753200240996E-2},{"$f":"IF($C196<6,Lin_parameters_wd!D$9,Lin_parameters_wknd!D$10)","v":0.40699471377216029},{"$f":"IF($C196<6,Lin_parameters_wd!E$9,Lin_parameters_wknd!E$10)","v":-1.2756454396407539E-2},{"$f":"IF($C196<6,Lin_parameters_wd!F$9,Lin_parameters_wknd!F$10)","v":16.399999999999999},0.40699471377216029,-1.2756454396407539E-2,0.19013498903323212,{"$f":"$K196*'Input and Output'!$C$30/SUM($K$2:$K$366)","v":0.20419370807563436}]
["2016-07-14",{"$f":"'Input and Output'!C230","v":15.1},5,{"$f":"IF($C197<6,Lin_parameters_wd!B$9,Lin_parameters_wknd!B$10)","v":1.771938814155029},{"$f":"IF($C197<6,Lin_parameters_wd!C$9,Lin_parameters_wknd!C$10)","v":-9.5984753200240996E-2},{"$f":"IF($C197<6,Lin_parameters_wd!D$9,Lin_parameters_wknd!D$10)","v":0.40699471377216029},{"$f":"IF($C197<6,Lin_parameters_wd!E$9,Lin_parameters_wknd!E$10)","v":-1.2756454396407539E-2},{"$f":"IF($C197<6,Lin_parameters_wd!F$9,Lin_parameters_wknd!F$10)","v":16.399999999999999},1.771938814155029,-9.5984753200240996E-2,0.32256904083138993,{"$f":"$K197*'Input and Output'!$C$30/SUM($K$2:$K$366)","v":0.34642002975186187}]
["2016-07-15",{"$f":"'Input and Output'!C231","v":15.9},6,{"$f":"IF($C198<6,Lin_parameters_wd!B$9,Lin_parameters_wknd!B$10)","v":1.31124751273035},{"$f":"IF($C198<6,Lin_parameters_wd!C$9,Lin_parameters_wknd!C$10)","v":-7.5310765362349638E-2},{"$f":"IF($C198<6,Lin_parameters_wd!D$9,Lin_parameters_wknd!D$10)","v":0.29524473618599389},{"$f":"IF($C198<6,Lin_parameters_wd!E$9,Lin_parameters_wknd!E$10)","v":-9.762199133681506E-3},{"$f":"IF($C198<6,Lin_parameters_wd!F$9,Lin_parameters_wknd!F$10)","v":15.5},0.29524473618599389,-9.762199133681506E-3,0.14002576996045796,{"$f":"$K198*'Input and Output'!$C$30/SUM($K$2:$K$366)","v":0.150379376987653}]
["2016-07-16",{"$f":"'Input and Output'!C232","v":18.3},7,{"$f":"IF($C199<6,Lin_parameters_wd!B$9,Lin_parameters_wknd!B$10)","v":1.31124751273035},{"$f":"IF($C199<6,Lin_parameters_wd!C$9,Lin_parameters_wknd!C$10)","v":-7.5310765362349638E-2},{"$f":"IF($C199<6,Lin_parameters_wd!D$9,Lin_parameters_wknd!D$10)","v":0.29524473618599389},{"$f":"IF($C199<6,Lin_parameters_wd!E$9,Lin_parameters_wknd!E$10)","v":-9.762199133681506E-3},{"$f":"IF($C199<6,Lin_parameters_wd!F$9,Lin_parameters_wknd!F$10)","v":15.5},0.29524473618599389,-9.762199133681506E-3,0.11659649203962233,{"$f":"$K199*'Input and Output'!$C$30/SUM($K$2:$K$366)","v":0.12521772125813421}]
["2016-07-17",{"$f":"'Input and Output'!C233","v":20.8},1,{"$f":"IF($C200<6,Lin_parameters_wd!B$9,Lin_parameters_wknd!B$10)","v":1.771938814155029},{"$f":"IF($C200<6,Lin_parameters_wd!C$9,Lin_parameters_wknd!C$10)","v":-9.5984753200240996E-2},{"$f":"IF($C200<6,Lin_parameters_wd!D$9,Lin_parameters_wknd!D$10)","v":0.40699471377216029},{"$f":"IF($C200<6,Lin_parameters_wd!E$9,Lin_parameters_wknd!E$10)","v":-1.2756454396407539E-2},{"$f":"IF($C200<6,Lin_parameters_wd!F$9,Lin_parameters_wknd!F$10)","v":16.399999999999999},0.40699471377216029,-1.2756454396407539E-2,0.14166046232688345,{"$f":"$K200*'Input and Output'!$C$30/SUM($K$2:$K$366)","v":0.15213493969371028}]
["2016-07-18",{"$f":"'Input and Output'!C234","v":21.7},2,{"$f":"IF($C201<6,Lin_parameters_wd!B$9,Lin_parameters_wknd!B$10)","v":1.771938814155029},{"$f":"IF($C201<6,Lin_parameters_wd!C$9,Lin_parameters_wknd!C$10)","v":-9.5984753200240996E-2},{"$f":"IF($C201<6,Lin_parameters_wd!D$9,Lin_parameters_wknd!D$10)","v":0.40699471377216029},{"$f":"IF($C201<6,Lin_parameters_wd!E$9,Lin_parameters_wknd!E$10)","v":-1.2756454396407539E-2},{"$f":"IF($C201<6,Lin_parameters_wd!F$9,Lin_parameters_wknd!F$10)","v":16.399999999999999},0.40699471377216029,-1.2756454396407539E-2,0.13017965337011672,{"$f":"$K201*'Input and Output'!$C$30/SUM($K$2:$K$366)","v":0.13980523139272832}]
["2016-07-19",{"$f":"'Input and Output'!C235","v":23.9},3,{"$f":"IF($C202<6,Lin_parameters_wd!B$9,Lin_parameters_wknd!B$10)","v":1.771938814155029},{"$f":"IF($C202<6,Lin_parameters_wd!C$9,Lin_parameters_wknd!C$10)","v":-9.5984753200240996E-2},{"$f":"IF($C202<6,Lin_parameters_wd!D$9,Lin_parameters_wknd!D$10)","v":0.40699471377216029},{"$f":"IF($C202<6,Lin_parameters_wd!E$9,Lin_parameters_wknd!E$10)","v":-1.2756454396407539E-2},{"$f":"IF($C202<6,Lin_parameters_wd!F$9,Lin_parameters_wknd!F$10)","v":16.399999999999999},0.40699471377216029,-1.2756454396407539E-2,0.10211545369802011,{"$f":"$K202*'Input and Output'!$C$30/SUM($K$2:$K$366)","v":0.10966594443477229}]
["2016-07-20",{"$f":"'Input and Output'!C236","v":26.3},4,{"$f":"IF($C203<6,Lin_parameters_wd!B$9,Lin_parameters_wknd!B$10)","v":1.771938814155029},{"$f":"IF($C203<6,Lin_parameters_wd!C$9,Lin_parameters_wknd!C$10)","v":-9.5984753200240996E-2},{"$f":"IF($C203<6,Lin_parameters_wd!D$9,Lin_parameters_wknd!D$10)","v":0.40699471377216029},{"$f":"IF($C203<6,Lin_parameters_wd!E$9,Lin_parameters_wknd!E$10)","v":-1.2756454396407539E-2},{"$f":"IF($C203<6,Lin_parameters_wd!F$9,Lin_parameters_wknd!F$10)","v":16.399999999999999},0.40699471377216029,-1.2756454396407539E-2,7.1499963146641976E-2,{"$f":"$K203*'Input and Output'!$C$30/SUM($K$2:$K$366)","v":7.6786722298820234E-2}]
["2016-07-21",{"$f":"'Input and Output'!C237","v":21.8},5,{"$f":"IF($C204<6,Lin_parameters_wd!B$9,Lin_parameters_wknd!B$10)","v":1.771938814155029},{"$f":"IF($C204<6,Lin_parameters_wd!C$9,Lin_parameters_wknd!C$10)","v":-9.5984753200240996E-2},{"$f":"IF($C204<6,Lin_parameters_wd!D$9,Lin_parameters_wknd!D$10)","v":0.40699471377216029},{"$f":"IF($C204<6,Lin_parameters_wd!E$9,Lin_parameters_wknd!E$10)","v":-1.2756454396407539E-2},{"$f":"IF($C204<6,Lin_parameters_wd!F$9,Lin_parameters_wknd!F$10)","v":16.399999999999999},0.40699471377216029,-1.2756454396407539E-2,0.12890400793047591,{"$f":"$K204*'Input and Output'!$C$30/SUM($K$2:$K$366)","v":0.13843526380373028}]
["2016-07-22",{"$f":"'Input and Output'!C238","v":21.5},6,{"$f":"IF($C205<6,Lin_parameters_wd!B$9,Lin_parameters_wknd!B$10)","v":1.31124751273035},{"$f":"IF($C205<6,Lin_parameters_wd!C$9,Lin_parameters_wknd!C$10)","v":-7.5310765362349638E-2},{"$f":"IF($C205<6,Lin_parameters_wd!D$9,Lin_parameters_wknd!D$10)","v":0.29524473618599389},{"$f":"IF($C205<6,Lin_parameters_wd!E$9,Lin_parameters_wknd!E$10)","v":-9.762199133681506E-3},{"$f":"IF($C205<6,Lin_parameters_wd!F$9,Lin_parameters_wknd!F$10)","v":15.5},0.29524473618599389,-9.762199133681506E-3,8.535745481184151E-2,{"$f":"$K205*'Input and Output'!$C$30/SUM($K$2:$K$366)","v":9.1668846952109195E-2}]
["2016-07-23",{"$f":"'Input and Output'!C239","v":19},7,{"$f":"IF($C206<6,Lin_parameters_wd!B$9,Lin_parameters_wknd!B$10)","v":1.31124751273035},{"$f":"IF($C206<6,Lin_parameters_wd!C$9,Lin_parameters_wknd!C$10)","v":-7.5310765362349638E-2},{"$f":"IF($C206<6,Lin_parameters_wd!D$9,Lin_parameters_wknd!D$10)","v":0.29524473618599389},{"$f":"IF($C206<6,Lin_parameters_wd!E$9,Lin_parameters_wknd!E$10)","v":-9.762199133681506E-3},{"$f":"IF($C206<6,Lin_parameters_wd!F$9,Lin_parameters_wknd!F$10)","v":15.5},0.29524473618599389,-9.762199133681506E-3,0.10976295264604527,{"$f":"$K206*'Input and Output'!$C$30/SUM($K$2:$K$366)","v":0.11787890500369122}]
["2016-07-24",{"$f":"'Input and Output'!C240","v":22.6},1,{"$f":"IF($C207<6,Lin_parameters_wd!B$9,Lin_parameters_wknd!B$10)","v":1.771938814155029},{"$f":"IF($C207<6,Lin_parameters_wd!C$9,Lin_parameters_wknd!C$10)","v":-9.5984753200240996E-2},{"$f":"IF($C207<6,Lin_parameters_wd!D$9,Lin_parameters_wknd!D$10)","v":0.40699471377216029},{"$f":"IF($C207<6,Lin_parameters_wd!E$9,Lin_parameters_wknd!E$10)","v":-1.2756454396407539E-2},{"$f":"IF($C207<6,Lin_parameters_wd!F$9,Lin_parameters_wknd!F$10)","v":16.399999999999999},0.40699471377216029,-1.2756454396407539E-2,0.11869884441334988,{"$f":"$K207*'Input and Output'!$C$30/SUM($K$2:$K$366)","v":0.12747552309174628}]
["2016-07-25",{"$f":"'Input and Output'!C241","v":22.9},2,{"$f":"IF($C208<6,Lin_parameters_wd!B$9,Lin_parameters_wknd!B$10)","v":1.771938814155029},{"$f":"IF($C208<6,Lin_parameters_wd!C$9,Lin_parameters_wknd!C$10)","v":-9.5984753200240996E-2},{"$f":"IF($C208<6,Lin_parameters_wd!D$9,Lin_parameters_wknd!D$10)","v":0.40699471377216029},{"$f":"IF($C208<6,Lin_parameters_wd!E$9,Lin_parameters_wknd!E$10)","v":-1.2756454396407539E-2},{"$f":"IF($C208<6,Lin_parameters_wd!F$9,Lin_parameters_wknd!F$10)","v":16.399999999999999},0.40699471377216029,-1.2756454396407539E-2,0.11487190809442765,{"$f":"$K208*'Input and Output'!$C$30/SUM($K$2:$K$366)","v":0.1233656203247523}]
["2016-07-26",{"$f":"'Input and Output'!C242","v":21.9},3,{"$f":"IF($C209<6,Lin_parameters_wd!B$9,Lin_parameters_wknd!B$10)","v":1.771938814155029},{"$f":"IF($C209<6,Lin_parameters_wd!C$9,Lin_parameters_wknd!C$10)","v":-9.5984753200240996E-2},{"$f":"IF($C209<6,Lin_parameters_wd!D$9,Lin_parameters_wknd!D$10)","v":0.40699471377216029},{"$f":"IF($C209<6,Lin_parameters_wd!E$9,Lin_parameters_wknd!E$10)","v":-1.2756454396407539E-2},{"$f":"IF($C209<6,Lin_parameters_wd!F$9,Lin_parameters_wknd!F$10)","v":16.399999999999999},0.40699471377216029,-1.2756454396407539E-2,0.1276283624908352,{"$f":"$K209*'Input and Output'!$C$30/SUM($K$2:$K$366)","v":0.13706529621473232}]
["2016-07-27",{"$f":"'Input and Output'!C243","v":21},4,{"$f":"IF($C210<6,Lin_parameters_wd!B$9,Lin_parameters_wknd!B$10)","v":1.771938814155029},{"$f":"IF($C210<6,Lin_parameters_wd!C$9,Lin_parameters_wknd!C$10)","v":-9.5984753200240996E-2},{"$f":"IF($C210<6,Lin_parameters_wd!D$9,Lin_parameters_wknd!D$10)","v":0.40699471377216029},{"$f":"IF($C210<6,Lin_parameters_wd!E$9,Lin_parameters_wknd!E$10)","v":-1.2756454396407539E-2},{"$f":"IF($C210<6,Lin_parameters_wd!F$9,Lin_parameters_wknd!F$10)","v":16.399999999999999},0.40699471377216029,-1.2756454396407539E-2,0.13910917144760199,{"$f":"$K210*'Input and Output'!$C$30/SUM($K$2:$K$366)","v":0.14939500451571433}]
["2016-07-28",{"$f":"'Input and Output'!C244","v":19.3},5,{"$f":"IF($C211<6,Lin_parameters_wd!B$9,Lin_parameters_wknd!B$10)","v":1.771938814155029},{"$f":"IF($C211<6,Lin_parameters_wd!C$9,Lin_parameters_wknd!C$10)","v":-9.5984753200240996E-2},{"$f":"IF($C211<6,Lin_parameters_wd!D$9,Lin_parameters_wknd!D$10)","v":0.40699471377216029},{"$f":"IF($C211<6,Lin_parameters_wd!E$9,Lin_parameters_wknd!E$10)","v":-1.2756454396407539E-2},{"$f":"IF($C211<6,Lin_parameters_wd!F$9,Lin_parameters_wknd!F$10)","v":16.399999999999999},0.40699471377216029,-1.2756454396407539E-2,0.16079514392149477,{"$f":"$K211*'Input and Output'!$C$30/SUM($K$2:$K$366)","v":0.17268445352868031}]
["2016-07-29",{"$f":"'Input and Output'!C245","v":18.600000000000001},6,{"$f":"IF($C212<6,Lin_parameters_wd!B$9,Lin_parameters_wknd!B$10)","v":1.31124751273035},{"$f":"IF($C212<6,Lin_parameters_wd!C$9,Lin_parameters_wknd!C$10)","v":-7.5310765362349638E-2},{"$f":"IF($C212<6,Lin_parameters_wd!D$9,Lin_parameters_wknd!D$10)","v":0.29524473618599389},{"$f":"IF($C212<6,Lin_parameters_wd!E$9,Lin_parameters_wknd!E$10)","v":-9.762199133681506E-3},{"$f":"IF($C212<6,Lin_parameters_wd!F$9,Lin_parameters_wknd!F$10)","v":15.5},0.29524473618599389,-9.762199133681506E-3,0.11366783229951788,{"$f":"$K212*'Input and Output'!$C$30/SUM($K$2:$K$366)","v":0.12207251429194436}]
["2016-07-30",{"$f":"'Input and Output'!C246","v":20.2},7,{"$f":"IF($C213<6,Lin_parameters_wd!B$9,Lin_parameters_wknd!B$10)","v":1.31124751273035},{"$f":"IF($C213<6,Lin_parameters_wd!C$9,Lin_parameters_wknd!C$10)","v":-7.5310765362349638E-2},{"$f":"IF($C213<6,Lin_parameters_wd!D$9,Lin_parameters_wknd!D$10)","v":0.29524473618599389},{"$f":"IF($C213<6,Lin_parameters_wd!E$9,Lin_parameters_wknd!E$10)","v":-9.762199133681506E-3},{"$f":"IF($C213<6,Lin_parameters_wd!F$9,Lin_parameters_wknd!F$10)","v":15.5},0.29524473618599389,-9.762199133681506E-3,9.804831368562747E-2,{"$f":"$K213*'Input and Output'!$C$30/SUM($K$2:$K$366)","v":0.10529807713893186}]
["2016-07-31",{"$f":"'Input and Output'!C247","v":17.5},1,{"$f":"IF($C214<6,Lin_parameters_wd!B$9,Lin_parameters_wknd!B$10)","v":1.771938814155029},{"$f":"IF($C214<6,Lin_parameters_wd!C$9,Lin_parameters_wknd!C$10)","v":-9.5984753200240996E-2},{"$f":"IF($C214<6,Lin_parameters_wd!D$9,Lin_parameters_wknd!D$10)","v":0.40699471377216029},{"$f":"IF($C214<6,Lin_parameters_wd!E$9,Lin_parameters_wknd!E$10)","v":-1.2756454396407539E-2},{"$f":"IF($C214<6,Lin_parameters_wd!F$9,Lin_parameters_wknd!F$10)","v":16.399999999999999},0.40699471377216029,-1.2756454396407539E-2,0.18375676183502834,{"$f":"$K214*'Input and Output'!$C$30/SUM($K$2:$K$366)","v":0.19734387013064433}]
["2016-08-01",{"$f":"'Input and Output'!C248","v":16.899999999999999},2,{"$f":"IF($C215<6,Lin_parameters_wd!B$9,Lin_parameters_wknd!B$10)","v":1.771938814155029},{"$f":"IF($C215<6,Lin_parameters_wd!C$9,Lin_parameters_wknd!C$10)","v":-9.5984753200240996E-2},{"$f":"IF($C215<6,Lin_parameters_wd!D$9,Lin_parameters_wknd!D$10)","v":0.40699471377216029},{"$f":"IF($C215<6,Lin_parameters_wd!E$9,Lin_parameters_wknd!E$10)","v":-1.2756454396407539E-2},{"$f":"IF($C215<6,Lin_parameters_wd!F$9,Lin_parameters_wknd!F$10)","v":16.399999999999999},0.40699471377216029,-1.2756454396407539E-2,0.1914106344728729,{"$f":"$K215*'Input and Output'!$C$30/SUM($K$2:$K$366)","v":0.20556367566463238}]
["2016-08-02",{"$f":"'Input and Output'!C249","v":15.9},3,{"$f":"IF($C216<6,Lin_parameters_wd!B$9,Lin_parameters_wknd!B$10)","v":1.771938814155029},{"$f":"IF($C216<6,Lin_parameters_wd!C$9,Lin_parameters_wknd!C$10)","v":-9.5984753200240996E-2},{"$f":"IF($C216<6,Lin_parameters_wd!D$9,Lin_parameters_wknd!D$10)","v":0.40699471377216029},{"$f":"IF($C216<6,Lin_parameters_wd!E$9,Lin_parameters_wknd!E$10)","v":-1.2756454396407539E-2},{"$f":"IF($C216<6,Lin_parameters_wd!F$9,Lin_parameters_wknd!F$10)","v":16.399999999999999},1.771938814155029,-9.5984753200240996E-2,0.24578123827119702,{"$f":"$K216*'Input and Output'!$C$30/SUM($K$2:$K$366)","v":0.26395448135663746}]
["2016-08-03",{"$f":"'Input and Output'!C250","v":17.899999999999999},4,{"$f":"IF($C217<6,Lin_parameters_wd!B$9,Lin_parameters_wknd!B$10)","v":1.771938814155029},{"$f":"IF($C217<6,Lin_parameters_wd!C$9,Lin_parameters_wknd!C$10)","v":-9.5984753200240996E-2},{"$f":"IF($C217<6,Lin_parameters_wd!D$9,Lin_parameters_wknd!D$10)","v":0.40699471377216029},{"$f":"IF($C217<6,Lin_parameters_wd!E$9,Lin_parameters_wknd!E$10)","v":-1.2756454396407539E-2},{"$f":"IF($C217<6,Lin_parameters_wd!F$9,Lin_parameters_wknd!F$10)","v":16.399999999999999},0.40699471377216029,-1.2756454396407539E-2,0.17865418007646536,{"$f":"$K217*'Input and Output'!$C$30/SUM($K$2:$K$366)","v":0.19186399977465235}]
["2016-08-04",{"$f":"'Input and Output'!C251","v":18},5,{"$f":"IF($C218<6,Lin_parameters_wd!B$9,Lin_parameters_wknd!B$10)","v":1.771938814155029},{"$f":"IF($C218<6,Lin_parameters_wd!C$9,Lin_parameters_wknd!C$10)","v":-9.5984753200240996E-2},{"$f":"IF($C218<6,Lin_parameters_wd!D$9,Lin_parameters_wknd!D$10)","v":0.40699471377216029},{"$f":"IF($C218<6,Lin_parameters_wd!E$9,Lin_parameters_wknd!E$10)","v":-1.2756454396407539E-2},{"$f":"IF($C218<6,Lin_parameters_wd!F$9,Lin_parameters_wknd!F$10)","v":16.399999999999999},0.40699471377216029,-1.2756454396407539E-2,0.17737853463682457,{"$f":"$K218*'Input and Output'!$C$30/SUM($K$2:$K$366)","v":0.19049403218565433}]
["2016-08-05",{"$f":"'Input and Output'!C252","v":18},6,{"$f":"IF($C219<6,Lin_parameters_wd!B$9,Lin_parameters_wknd!B$10)","v":1.31124751273035},{"$f":"IF($C219<6,Lin_parameters_wd!C$9,Lin_parameters_wknd!C$10)","v":-7.5310765362349638E-2},{"$f":"IF($C219<6,Lin_parameters_wd!D$9,Lin_parameters_wknd!D$10)","v":0.29524473618599389},{"$f":"IF($C219<6,Lin_parameters_wd!E$9,Lin_parameters_wknd!E$10)","v":-9.762199133681506E-3},{"$f":"IF($C219<6,Lin_parameters_wd!F$9,Lin_parameters_wknd!F$10)","v":15.5},0.29524473618599389,-9.762199133681506E-3,0.11952515177972678,{"$f":"$K219*'Input and Output'!$C$30/SUM($K$2:$K$366)","v":0.12836292822432407}]
["2016-08-06",{"$f":"'Input and Output'!C253","v":18.3},7,{"$f":"IF($C220<6,Lin_parameters_wd!B$9,Lin_parameters_wknd!B$10)","v":1.31124751273035},{"$f":"IF($C220<6,Lin_parameters_wd!C$9,Lin_parameters_wknd!C$10)","v":-7.5310765362349638E-2},{"$f":"IF($C220<6,Lin_parameters_wd!D$9,Lin_parameters_wknd!D$10)","v":0.29524473618599389},{"$f":"IF($C220<6,Lin_parameters_wd!E$9,Lin_parameters_wknd!E$10)","v":-9.762199133681506E-3},{"$f":"IF($C220<6,Lin_parameters_wd!F$9,Lin_parameters_wknd!F$10)","v":15.5},0.29524473618599389,-9.762199133681506E-3,0.11659649203962233,{"$f":"$K220*'Input and Output'!$C$30/SUM($K$2:$K$366)","v":0.12521772125813421}]
["2016-08-07",{"$f":"'Input and Output'!C254","v":20.9},1,{"$f":"IF($C221<6,Lin_parameters_wd!B$9,Lin_parameters_wknd!B$10)","v":1.771938814155029},{"$f":"IF($C221<6,Lin_parameters_wd!C$9,Lin_parameters_wknd!C$10)","v":-9.5984753200240996E-2},{"$f":"IF($C221<6,Lin_parameters_wd!D$9,Lin_parameters_wknd!D$10)","v":0.40699471377216029},{"$f":"IF($C221<6,Lin_parameters_wd!E$9,Lin_parameters_wknd!E$10)","v":-1.2756454396407539E-2},{"$f":"IF($C221<6,Lin_parameters_wd!F$9,Lin_parameters_wknd!F$10)","v":16.399999999999999},0.40699471377216029,-1.2756454396407539E-2,0.14038481688724275,{"$f":"$K221*'Input and Output'!$C$30/SUM($K$2:$K$366)","v":0.15076497210471235}]
["2016-08-08",{"$f":"'Input and Output'!C255","v":21},2,{"$f":"IF($C222<6,Lin_parameters_wd!B$9,Lin_parameters_wknd!B$10)","v":1.771938814155029},{"$f":"IF($C222<6,Lin_parameters_wd!C$9,Lin_parameters_wknd!C$10)","v":-9.5984753200240996E-2},{"$f":"IF($C222<6,Lin_parameters_wd!D$9,Lin_parameters_wknd!D$10)","v":0.40699471377216029},{"$f":"IF($C222<6,Lin_parameters_wd!E$9,Lin_parameters_wknd!E$10)","v":-1.2756454396407539E-2},{"$f":"IF($C222<6,Lin_parameters_wd!F$9,Lin_parameters_wknd!F$10)","v":16.399999999999999},0.40699471377216029,-1.2756454396407539E-2,0.13910917144760199,{"$f":"$K222*'Input and Output'!$C$30/SUM($K$2:$K$366)","v":0.14939500451571433}]
["2016-08-09",{"$f":"'Input and Output'!C256","v":16.7},3,{"$f":"IF($C223<6,Lin_parameters_wd!B$9,Lin_parameters_wknd!B$10)","v":1.771938814155029},{"$f":"IF($C223<6,Lin_parameters_wd!C$9,Lin_parameters_wknd!C$10)","v":-9.5984753200240996E-2},{"$f":"IF($C223<6,Lin_parameters_wd!D$9,Lin_parameters_wknd!D$10)","v":0.40699471377216029},{"$f":"IF($C223<6,Lin_parameters_wd!E$9,Lin_parameters_wknd!E$10)","v":-1.2756454396407539E-2},{"$f":"IF($C223<6,Lin_parameters_wd!F$9,Lin_parameters_wknd!F$10)","v":16.399999999999999},0.40699471377216029,-1.2756454396407539E-2,0.1939619253521544,{"$f":"$K223*'Input and Output'!$C$30/SUM($K$2:$K$366)","v":0.20830361084262836}]
["2016-08-10",{"$f":"'Input and Output'!C257","v":13.4},4,{"$f":"IF($C224<6,Lin_parameters_wd!B$9,Lin_parameters_wknd!B$10)","v":1.771938814155029},{"$f":"IF($C224<6,Lin_parameters_wd!C$9,Lin_parameters_wknd!C$10)","v":-9.5984753200240996E-2},{"$f":"IF($C224<6,Lin_parameters_wd!D$9,Lin_parameters_wknd!D$10)","v":0.40699471377216029},{"$f":"IF($C224<6,Lin_parameters_wd!E$9,Lin_parameters_wknd!E$10)","v":-1.2756454396407539E-2},{"$f":"IF($C224<6,Lin_parameters_wd!F$9,Lin_parameters_wknd!F$10)","v":16.399999999999999},1.771938814155029,-9.5984753200240996E-2,0.48574312127179953,{"$f":"$K224*'Input and Output'!$C$30/SUM($K$2:$K$366)","v":0.52165932009171356}]
["2016-08-11",{"$f":"'Input and Output'!C258","v":12.6},5,{"$f":"IF($C225<6,Lin_parameters_wd!B$9,Lin_parameters_wknd!B$10)","v":1.771938814155029},{"$f":"IF($C225<6,Lin_parameters_wd!C$9,Lin_parameters_wknd!C$10)","v":-9.5984753200240996E-2},{"$f":"IF($C225<6,Lin_parameters_wd!D$9,Lin_parameters_wknd!D$10)","v":0.40699471377216029},{"$f":"IF($C225<6,Lin_parameters_wd!E$9,Lin_parameters_wknd!E$10)","v":-1.2756454396407539E-2},{"$f":"IF($C225<6,Lin_parameters_wd!F$9,Lin_parameters_wknd!F$10)","v":16.399999999999999},1.771938814155029,-9.5984753200240996E-2,0.56253092383199244,{"$f":"$K225*'Input and Output'!$C$30/SUM($K$2:$K$366)","v":0.60412486848693803}]
["2016-08-12",{"$f":"'Input and Output'!C259","v":16},6,{"$f":"IF($C226<6,Lin_parameters_wd!B$9,Lin_parameters_wknd!B$10)","v":1.31124751273035},{"$f":"IF($C226<6,Lin_parameters_wd!C$9,Lin_parameters_wknd!C$10)","v":-7.5310765362349638E-2},{"$f":"IF($C226<6,Lin_parameters_wd!D$9,Lin_parameters_wknd!D$10)","v":0.29524473618599389},{"$f":"IF($C226<6,Lin_parameters_wd!E$9,Lin_parameters_wknd!E$10)","v":-9.762199133681506E-3},{"$f":"IF($C226<6,Lin_parameters_wd!F$9,Lin_parameters_wknd!F$10)","v":15.5},0.29524473618599389,-9.762199133681506E-3,0.1390495500470898,{"$f":"$K226*'Input and Output'!$C$30/SUM($K$2:$K$366)","v":0.14933097466558973}]
["2016-08-13",{"$f":"'Input and Output'!C260","v":21},7,{"$f":"IF($C227<6,Lin_parameters_wd!B$9,Lin_parameters_wknd!B$10)","v":1.31124751273035},{"$f":"IF($C227<6,Lin_parameters_wd!C$9,Lin_parameters_wknd!C$10)","v":-7.5310765362349638E-2},{"$f":"IF($C227<6,Lin_parameters_wd!D$9,Lin_parameters_wknd!D$10)","v":0.29524473618599389},{"$f":"IF($C227<6,Lin_parameters_wd!E$9,Lin_parameters_wknd!E$10)","v":-9.762199133681506E-3},{"$f":"IF($C227<6,Lin_parameters_wd!F$9,Lin_parameters_wknd!F$10)","v":15.5},0.29524473618599389,-9.762199133681506E-3,9.0238554378682279E-2,{"$f":"$K227*'Input and Output'!$C$30/SUM($K$2:$K$366)","v":9.6910858562425622E-2}]
["2016-08-14",{"$f":"'Input and Output'!C261","v":19.100000000000001},1,{"$f":"IF($C228<6,Lin_parameters_wd!B$9,Lin_parameters_wknd!B$10)","v":1.771938814155029},{"$f":"IF($C228<6,Lin_parameters_wd!C$9,Lin_parameters_wknd!C$10)","v":-9.5984753200240996E-2},{"$f":"IF($C228<6,Lin_parameters_wd!D$9,Lin_parameters_wknd!D$10)","v":0.40699471377216029},{"$f":"IF($C228<6,Lin_parameters_wd!E$9,Lin_parameters_wknd!E$10)","v":-1.2756454396407539E-2},{"$f":"IF($C228<6,Lin_parameters_wd!F$9,Lin_parameters_wknd!F$10)","v":16.399999999999999},0.40699471377216029,-1.2756454396407539E-2,0.16334643480077626,{"$f":"$K228*'Input and Output'!$C$30/SUM($K$2:$K$366)","v":0.17542438870667629}]
["2016-08-15",{"$f":"'Input and Output'!C262","v":17.899999999999999},2,{"$f":"IF($C229<6,Lin_parameters_wd!B$9,Lin_parameters_wknd!B$10)","v":1.771938814155029},{"$f":"IF($C229<6,Lin_parameters_wd!C$9,Lin_parameters_wknd!C$10)","v":-9.5984753200240996E-2},{"$f":"IF($C229<6,Lin_parameters_wd!D$9,Lin_parameters_wknd!D$10)","v":0.40699471377216029},{"$f":"IF($C229<6,Lin_parameters_wd!E$9,Lin_parameters_wknd!E$10)","v":-1.2756454396407539E-2},{"$f":"IF($C229<6,Lin_parameters_wd!F$9,Lin_parameters_wknd!F$10)","v":16.399999999999999},0.40699471377216029,-1.2756454396407539E-2,0.17865418007646536,{"$f":"$K229*'Input and Output'!$C$30/SUM($K$2:$K$366)","v":0.19186399977465235}]
["2016-08-16",{"$f":"'Input and Output'!C263","v":18.100000000000001},3,{"$f":"IF($C230<6,Lin_parameters_wd!B$9,Lin_parameters_wknd!B$10)","v":1.771938814155029},{"$f":"IF($C230<6,Lin_parameters_wd!C$9,Lin_parameters_wknd!C$10)","v":-9.5984753200240996E-2},{"$f":"IF($C230<6,Lin_parameters_wd!D$9,Lin_parameters_wknd!D$10)","v":0.40699471377216029},{"$f":"IF($C230<6,Lin_parameters_wd!E$9,Lin_parameters_wknd!E$10)","v":-1.2756454396407539E-2},{"$f":"IF($C230<6,Lin_parameters_wd!F$9,Lin_parameters_wknd!F$10)","v":16.399999999999999},0.40699471377216029,-1.2756454396407539E-2,0.17610288919718381,{"$f":"$K230*'Input and Output'!$C$30/SUM($K$2:$K$366)","v":0.18912406459665632}]
["2016-08-17",{"$f":"'Input and Output'!C264","v":17.600000000000001},4,{"$f":"IF($C231<6,Lin_parameters_wd!B$9,Lin_parameters_wknd!B$10)","v":1.771938814155029},{"$f":"IF($C231<6,Lin_parameters_wd!C$9,Lin_parameters_wknd!C$10)","v":-9.5984753200240996E-2},{"$f":"IF($C231<6,Lin_parameters_wd!D$9,Lin_parameters_wknd!D$10)","v":0.40699471377216029},{"$f":"IF($C231<6,Lin_parameters_wd!E$9,Lin_parameters_wknd!E$10)","v":-1.2756454396407539E-2},{"$f":"IF($C231<6,Lin_parameters_wd!F$9,Lin_parameters_wknd!F$10)","v":16.399999999999999},0.40699471377216029,-1.2756454396407539E-2,0.18248111639538758,{"$f":"$K231*'Input and Output'!$C$30/SUM($K$2:$K$366)","v":0.19597390254164632}]
["2016-08-18",{"$f":"'Input and Output'!C265","v":18.399999999999999},5,{"$f":"IF($C232<6,Lin_parameters_wd!B$9,Lin_parameters_wknd!B$10)","v":1.771938814155029},{"$f":"IF($C232<6,Lin_parameters_wd!C$9,Lin_parameters_wknd!C$10)","v":-9.5984753200240996E-2},{"$f":"IF($C232<6,Lin_parameters_wd!D$9,Lin_parameters_wknd!D$10)","v":0.40699471377216029},{"$f":"IF($C232<6,Lin_parameters_wd!E$9,Lin_parameters_wknd!E$10)","v":-1.2756454396407539E-2},{"$f":"IF($C232<6,Lin_parameters_wd!F$9,Lin_parameters_wknd!F$10)","v":16.399999999999999},0.40699471377216029,-1.2756454396407539E-2,0.17227595287826158,{"$f":"$K232*'Input and Output'!$C$30/SUM($K$2:$K$366)","v":0.18501416182966235}]
["2016-08-19",{"$f":"'Input and Output'!C266","v":20},6,{"$f":"IF($C233<6,Lin_parameters_wd!B$9,Lin_parameters_wknd!B$10)","v":1.31124751273035},{"$f":"IF($C233<6,Lin_parameters_wd!C$9,Lin_parameters_wknd!C$10)","v":-7.5310765362349638E-2},{"$f":"IF($C233<6,Lin_parameters_wd!D$9,Lin_parameters_wknd!D$10)","v":0.29524473618599389},{"$f":"IF($C233<6,Lin_parameters_wd!E$9,Lin_parameters_wknd!E$10)","v":-9.762199133681506E-3},{"$f":"IF($C233<6,Lin_parameters_wd!F$9,Lin_parameters_wknd!F$10)","v":15.5},0.29524473618599389,-9.762199133681506E-3,0.10000075351236376,{"$f":"$K233*'Input and Output'!$C$30/SUM($K$2:$K$366)","v":0.10739488178305841}]
["2016-08-20",{"$f":"'Input and Output'!C267","v":19.2},7,{"$f":"IF($C234<6,Lin_parameters_wd!B$9,Lin_parameters_wknd!B$10)","v":1.31124751273035},{"$f":"IF($C234<6,Lin_parameters_wd!C$9,Lin_parameters_wknd!C$10)","v":-7.5310765362349638E-2},{"$f":"IF($C234<6,Lin_parameters_wd!D$9,Lin_parameters_wknd!D$10)","v":0.29524473618599389},{"$f":"IF($C234<6,Lin_parameters_wd!E$9,Lin_parameters_wknd!E$10)","v":-9.762199133681506E-3},{"$f":"IF($C234<6,Lin_parameters_wd!F$9,Lin_parameters_wknd!F$10)","v":15.5},0.29524473618599389,-9.762199133681506E-3,0.10781051281930898,{"$f":"$K234*'Input and Output'!$C$30/SUM($K$2:$K$366)","v":0.11578210035956468}]
["2016-08-21",{"$f":"'Input and Output'!C268","v":17.600000000000001},1,{"$f":"IF($C235<6,Lin_parameters_wd!B$9,Lin_parameters_wknd!B$10)","v":1.771938814155029},{"$f":"IF($C235<6,Lin_parameters_wd!C$9,Lin_parameters_wknd!C$10)","v":-9.5984753200240996E-2},{"$f":"IF($C235<6,Lin_parameters_wd!D$9,Lin_parameters_wknd!D$10)","v":0.40699471377216029},{"$f":"IF($C235<6,Lin_parameters_wd!E$9,Lin_parameters_wknd!E$10)","v":-1.2756454396407539E-2},{"$f":"IF($C235<6,Lin_parameters_wd!F$9,Lin_parameters_wknd!F$10)","v":16.399999999999999},0.40699471377216029,-1.2756454396407539E-2,0.18248111639538758,{"$f":"$K235*'Input and Output'!$C$30/SUM($K$2:$K$366)","v":0.19597390254164632}]
["2016-08-22",{"$f":"'Input and Output'!C269","v":17.399999999999999},2,{"$f":"IF($C236<6,Lin_parameters_wd!B$9,Lin_parameters_wknd!B$10)","v":1.771938814155029},{"$f":"IF($C236<6,Lin_parameters_wd!C$9,Lin_parameters_wknd!C$10)","v":-9.5984753200240996E-2},{"$f":"IF($C236<6,Lin_parameters_wd!D$9,Lin_parameters_wknd!D$10)","v":0.40699471377216029},{"$f":"IF($C236<6,Lin_parameters_wd!E$9,Lin_parameters_wknd!E$10)","v":-1.2756454396407539E-2},{"$f":"IF($C236<6,Lin_parameters_wd!F$9,Lin_parameters_wknd!F$10)","v":16.399999999999999},0.40699471377216029,-1.2756454396407539E-2,0.18503240727466913,{"$f":"$K236*'Input and Output'!$C$30/SUM($K$2:$K$366)","v":0.19871383771964235}]
["2016-08-23",{"$f":"'Input and Output'!C270","v":21.7},3,{"$f":"IF($C237<6,Lin_parameters_wd!B$9,Lin_parameters_wknd!B$10)","v":1.771938814155029},{"$f":"IF($C237<6,Lin_parameters_wd!C$9,Lin_parameters_wknd!C$10)","v":-9.5984753200240996E-2},{"$f":"IF($C237<6,Lin_parameters_wd!D$9,Lin_parameters_wknd!D$10)","v":0.40699471377216029},{"$f":"IF($C237<6,Lin_parameters_wd!E$9,Lin_parameters_wknd!E$10)","v":-1.2756454396407539E-2},{"$f":"IF($C237<6,Lin_parameters_wd!F$9,Lin_parameters_wknd!F$10)","v":16.399999999999999},0.40699471377216029,-1.2756454396407539E-2,0.13017965337011672,{"$f":"$K237*'Input and Output'!$C$30/SUM($K$2:$K$366)","v":0.13980523139272832}]
["2016-08-24",{"$f":"'Input and Output'!C271","v":24.3},4,{"$f":"IF($C238<6,Lin_parameters_wd!B$9,Lin_parameters_wknd!B$10)","v":1.771938814155029},{"$f":"IF($C238<6,Lin_parameters_wd!C$9,Lin_parameters_wknd!C$10)","v":-9.5984753200240996E-2},{"$f":"IF($C238<6,Lin_parameters_wd!D$9,Lin_parameters_wknd!D$10)","v":0.40699471377216029},{"$f":"IF($C238<6,Lin_parameters_wd!E$9,Lin_parameters_wknd!E$10)","v":-1.2756454396407539E-2},{"$f":"IF($C238<6,Lin_parameters_wd!F$9,Lin_parameters_wknd!F$10)","v":16.399999999999999},0.40699471377216029,-1.2756454396407539E-2,9.7012871939457068E-2,{"$f":"$K238*'Input and Output'!$C$30/SUM($K$2:$K$366)","v":0.10418607407878026}]
["2016-08-25",{"$f":"'Input and Output'!C272","v":25.1},5,{"$f":"IF($C239<6,Lin_parameters_wd!B$9,Lin_parameters_wknd!B$10)","v":1.771938814155029},{"$f":"IF($C239<6,Lin_parameters_wd!C$9,Lin_parameters_wknd!C$10)","v":-9.5984753200240996E-2},{"$f":"IF($C239<6,Lin_parameters_wd!D$9,Lin_parameters_wknd!D$10)","v":0.40699471377216029},{"$f":"IF($C239<6,Lin_parameters_wd!E$9,Lin_parameters_wknd!E$10)","v":-1.2756454396407539E-2},{"$f":"IF($C239<6,Lin_parameters_wd!F$9,Lin_parameters_wknd!F$10)","v":16.399999999999999},0.40699471377216029,-1.2756454396407539E-2,8.6807708422331042E-2,{"$f":"$K239*'Input and Output'!$C$30/SUM($K$2:$K$366)","v":9.3226333366796268E-2}]
["2016-08-26",{"$f":"'Input and Output'!C273","v":25.7},6,{"$f":"IF($C240<6,Lin_parameters_wd!B$9,Lin_parameters_wknd!B$10)","v":1.31124751273035},{"$f":"IF($C240<6,Lin_parameters_wd!C$9,Lin_parameters_wknd!C$10)","v":-7.5310765362349638E-2},{"$f":"IF($C240<6,Lin_parameters_wd!D$9,Lin_parameters_wknd!D$10)","v":0.29524473618599389},{"$f":"IF($C240<6,Lin_parameters_wd!E$9,Lin_parameters_wknd!E$10)","v":-9.762199133681506E-3},{"$f":"IF($C240<6,Lin_parameters_wd!F$9,Lin_parameters_wknd!F$10)","v":15.5},0.29524473618599389,-9.762199133681506E-3,4.4356218450379181E-2,{"$f":"$K240*'Input and Output'!$C$30/SUM($K$2:$K$366)","v":4.7635949425451352E-2}]
["2016-08-27",{"$f":"'Input and Output'!C274","v":26.9},7,{"$f":"IF($C241<6,Lin_parameters_wd!B$9,Lin_parameters_wknd!B$10)","v":1.31124751273035},{"$f":"IF($C241<6,Lin_parameters_wd!C$9,Lin_parameters_wknd!C$10)","v":-7.5310765362349638E-2},{"$f":"IF($C241<6,Lin_parameters_wd!D$9,Lin_parameters_wknd!D$10)","v":0.29524473618599389},{"$f":"IF($C241<6,Lin_parameters_wd!E$9,Lin_parameters_wknd!E$10)","v":-9.762199133681506E-3},{"$f":"IF($C241<6,Lin_parameters_wd!F$9,Lin_parameters_wknd!F$10)","v":15.5},0.29524473618599389,-9.762199133681506E-3,3.2641579489961381E-2,{"$f":"$K241*'Input and Output'!$C$30/SUM($K$2:$K$366)","v":3.5055121560691974E-2}]
["2016-08-28",{"$f":"'Input and Output'!C275","v":23.3},1,{"$f":"IF($C242<6,Lin_parameters_wd!B$9,Lin_parameters_wknd!B$10)","v":1.771938814155029},{"$f":"IF($C242<6,Lin_parameters_wd!C$9,Lin_parameters_wknd!C$10)","v":-9.5984753200240996E-2},{"$f":"IF($C242<6,Lin_parameters_wd!D$9,Lin_parameters_wknd!D$10)","v":0.40699471377216029},{"$f":"IF($C242<6,Lin_parameters_wd!E$9,Lin_parameters_wknd!E$10)","v":-1.2756454396407539E-2},{"$f":"IF($C242<6,Lin_parameters_wd!F$9,Lin_parameters_wknd!F$10)","v":16.399999999999999},0.40699471377216029,-1.2756454396407539E-2,0.10976932633586461,{"$f":"$K242*'Input and Output'!$C$30/SUM($K$2:$K$366)","v":0.11788574996876029}]
["2016-08-29",{"$f":"'Input and Output'!C276","v":18.600000000000001},2,{"$f":"IF($C243<6,Lin_parameters_wd!B$9,Lin_parameters_wknd!B$10)","v":1.771938814155029},{"$f":"IF($C243<6,Lin_parameters_wd!C$9,Lin_parameters_wknd!C$10)","v":-9.5984753200240996E-2},{"$f":"IF($C243<6,Lin_parameters_wd!D$9,Lin_parameters_wknd!D$10)","v":0.40699471377216029},{"$f":"IF($C243<6,Lin_parameters_wd!E$9,Lin_parameters_wknd!E$10)","v":-1.2756454396407539E-2},{"$f":"IF($C243<6,Lin_parameters_wd!F$9,Lin_parameters_wknd!F$10)","v":16.399999999999999},0.40699471377216029,-1.2756454396407539E-2,0.16972466199898004,{"$f":"$K243*'Input and Output'!$C$30/SUM($K$2:$K$366)","v":0.18227422665166632}]
["2016-08-30",{"$f":"'Input and Output'!C277","v":18.2},3,{"$f":"IF($C244<6,Lin_parameters_wd!B$9,Lin_parameters_wknd!B$10)","v":1.771938814155029},{"$f":"IF($C244<6,Lin_parameters_wd!C$9,Lin_parameters_wknd!C$10)","v":-9.5984753200240996E-2},{"$f":"IF($C244<6,Lin_parameters_wd!D$9,Lin_parameters_wknd!D$10)","v":0.40699471377216029},{"$f":"IF($C244<6,Lin_parameters_wd!E$9,Lin_parameters_wknd!E$10)","v":-1.2756454396407539E-2},{"$f":"IF($C244<6,Lin_parameters_wd!F$9,Lin_parameters_wknd!F$10)","v":16.399999999999999},0.40699471377216029,-1.2756454396407539E-2,0.17482724375754308,{"$f":"$K244*'Input and Output'!$C$30/SUM($K$2:$K$366)","v":0.18775409700765835}]
["2016-08-31",{"$f":"'Input and Output'!C278","v":19.600000000000001},4,{"$f":"IF($C245<6,Lin_parameters_wd!B$9,Lin_parameters_wknd!B$10)","v":1.771938814155029},{"$f":"IF($C245<6,Lin_parameters_wd!C$9,Lin_parameters_wknd!C$10)","v":-9.5984753200240996E-2},{"$f":"IF($C245<6,Lin_parameters_wd!D$9,Lin_parameters_wknd!D$10)","v":0.40699471377216029},{"$f":"IF($C245<6,Lin_parameters_wd!E$9,Lin_parameters_wknd!E$10)","v":-1.2756454396407539E-2},{"$f":"IF($C245<6,Lin_parameters_wd!F$9,Lin_parameters_wknd!F$10)","v":16.399999999999999},0.40699471377216029,-1.2756454396407539E-2,0.15696820760257252,{"$f":"$K245*'Input and Output'!$C$30/SUM($K$2:$K$366)","v":0.16857455076168631}]
["2016-09-01",{"$f":"'Input and Output'!C279","v":20.9},5,{"$f":"IF($C246<6,Lin_parameters_wd!B$9,Lin_parameters_wknd!B$10)","v":1.771938814155029},{"$f":"IF($C246<6,Lin_parameters_wd!C$9,Lin_parameters_wknd!C$10)","v":-9.5984753200240996E-2},{"$f":"IF($C246<6,Lin_parameters_wd!D$9,Lin_parameters_wknd!D$10)","v":0.40699471377216029},{"$f":"IF($C246<6,Lin_parameters_wd!E$9,Lin_parameters_wknd!E$10)","v":-1.2756454396407539E-2},{"$f":"IF($C246<6,Lin_parameters_wd!F$9,Lin_parameters_wknd!F$10)","v":16.399999999999999},0.40699471377216029,-1.2756454396407539E-2,0.14038481688724275,{"$f":"$K246*'Input and Output'!$C$30/SUM($K$2:$K$366)","v":0.15076497210471235}]
["2016-09-02",{"$f":"'Input and Output'!C280","v":20.7},6,{"$f":"IF($C247<6,Lin_parameters_wd!B$9,Lin_parameters_wknd!B$10)","v":1.31124751273035},{"$f":"IF($C247<6,Lin_parameters_wd!C$9,Lin_parameters_wknd!C$10)","v":-7.5310765362349638E-2},{"$f":"IF($C247<6,Lin_parameters_wd!D$9,Lin_parameters_wknd!D$10)","v":0.29524473618599389},{"$f":"IF($C247<6,Lin_parameters_wd!E$9,Lin_parameters_wknd!E$10)","v":-9.762199133681506E-3},{"$f":"IF($C247<6,Lin_parameters_wd!F$9,Lin_parameters_wknd!F$10)","v":15.5},0.29524473618599389,-9.762199133681506E-3,9.3167214118786729E-2,{"$f":"$K247*'Input and Output'!$C$30/SUM($K$2:$K$366)","v":0.10005606552861547}]
["2016-09-03",{"$f":"'Input and Output'!C281","v":21.6},7,{"$f":"IF($C248<6,Lin_parameters_wd!B$9,Lin_parameters_wknd!B$10)","v":1.31124751273035},{"$f":"IF($C248<6,Lin_parameters_wd!C$9,Lin_parameters_wknd!C$10)","v":-7.5310765362349638E-2},{"$f":"IF($C248<6,Lin_parameters_wd!D$9,Lin_parameters_wknd!D$10)","v":0.29524473618599389},{"$f":"IF($C248<6,Lin_parameters_wd!E$9,Lin_parameters_wknd!E$10)","v":-9.762199133681506E-3},{"$f":"IF($C248<6,Lin_parameters_wd!F$9,Lin_parameters_wknd!F$10)","v":15.5},0.29524473618599389,-9.762199133681506E-3,8.4381234898473351E-2,{"$f":"$K248*'Input and Output'!$C$30/SUM($K$2:$K$366)","v":9.0620444630045899E-2}]
["2016-09-04",{"$f":"'Input and Output'!C282","v":17.8},1,{"$f":"IF($C249<6,Lin_parameters_wd!B$9,Lin_parameters_wknd!B$10)","v":1.771938814155029},{"$f":"IF($C249<6,Lin_parameters_wd!C$9,Lin_parameters_wknd!C$10)","v":-9.5984753200240996E-2},{"$f":"IF($C249<6,Lin_parameters_wd!D$9,Lin_parameters_wknd!D$10)","v":0.40699471377216029},{"$f":"IF($C249<6,Lin_parameters_wd!E$9,Lin_parameters_wknd!E$10)","v":-1.2756454396407539E-2},{"$f":"IF($C249<6,Lin_parameters_wd!F$9,Lin_parameters_wknd!F$10)","v":16.399999999999999},0.40699471377216029,-1.2756454396407539E-2,0.17992982551610609,{"$f":"$K249*'Input and Output'!$C$30/SUM($K$2:$K$366)","v":0.19323396736365034}]
["2016-09-05",{"$f":"'Input and Output'!C283","v":17},2,{"$f":"IF($C250<6,Lin_parameters_wd!B$9,Lin_parameters_wknd!B$10)","v":1.771938814155029},{"$f":"IF($C250<6,Lin_parameters_wd!C$9,Lin_parameters_wknd!C$10)","v":-9.5984753200240996E-2},{"$f":"IF($C250<6,Lin_parameters_wd!D$9,Lin_parameters_wknd!D$10)","v":0.40699471377216029},{"$f":"IF($C250<6,Lin_parameters_wd!E$9,Lin_parameters_wknd!E$10)","v":-1.2756454396407539E-2},{"$f":"IF($C250<6,Lin_parameters_wd!F$9,Lin_parameters_wknd!F$10)","v":16.399999999999999},0.40699471377216029,-1.2756454396407539E-2,0.19013498903323212,{"$f":"$K250*'Input and Output'!$C$30/SUM($K$2:$K$366)","v":0.20419370807563436}]
["2016-09-06",{"$f":"'Input and Output'!C284","v":17.899999999999999},3,{"$f":"IF($C251<6,Lin_parameters_wd!B$9,Lin_parameters_wknd!B$10)","v":1.771938814155029},{"$f":"IF($C251<6,Lin_parameters_wd!C$9,Lin_parameters_wknd!C$10)","v":-9.5984753200240996E-2},{"$f":"IF($C251<6,Lin_parameters_wd!D$9,Lin_parameters_wknd!D$10)","v":0.40699471377216029},{"$f":"IF($C251<6,Lin_parameters_wd!E$9,Lin_parameters_wknd!E$10)","v":-1.2756454396407539E-2},{"$f":"IF($C251<6,Lin_parameters_wd!F$9,Lin_parameters_wknd!F$10)","v":16.399999999999999},0.40699471377216029,-1.2756454396407539E-2,0.17865418007646536,{"$f":"$K251*'Input and Output'!$C$30/SUM($K$2:$K$366)","v":0.19186399977465235}]
["2016-09-07",{"$f":"'Input and Output'!C285","v":19.399999999999999},4,{"$f":"IF($C252<6,Lin_parameters_wd!B$9,Lin_parameters_wknd!B$10)","v":1.771938814155029},{"$f":"IF($C252<6,Lin_parameters_wd!C$9,Lin_parameters_wknd!C$10)","v":-9.5984753200240996E-2},{"$f":"IF($C252<6,Lin_parameters_wd!D$9,Lin_parameters_wknd!D$10)","v":0.40699471377216029},{"$f":"IF($C252<6,Lin_parameters_wd!E$9,Lin_parameters_wknd!E$10)","v":-1.2756454396407539E-2},{"$f":"IF($C252<6,Lin_parameters_wd!F$9,Lin_parameters_wknd!F$10)","v":16.399999999999999},0.40699471377216029,-1.2756454396407539E-2,0.15951949848185404,{"$f":"$K252*'Input and Output'!$C$30/SUM($K$2:$K$366)","v":0.17131448593968235}]
["2016-09-08",{"$f":"'Input and Output'!C286","v":22.1},5,{"$f":"IF($C253<6,Lin_parameters_wd!B$9,Lin_parameters_wknd!B$10)","v":1.771938814155029},{"$f":"IF($C253<6,Lin_parameters_wd!C$9,Lin_parameters_wknd!C$10)","v":-9.5984753200240996E-2},{"$f":"IF($C253<6,Lin_parameters_wd!D$9,Lin_parameters_wknd!D$10)","v":0.40699471377216029},{"$f":"IF($C253<6,Lin_parameters_wd!E$9,Lin_parameters_wknd!E$10)","v":-1.2756454396407539E-2},{"$f":"IF($C253<6,Lin_parameters_wd!F$9,Lin_parameters_wknd!F$10)","v":16.399999999999999},0.40699471377216029,-1.2756454396407539E-2,0.12507707161155368,{"$f":"$K253*'Input and Output'!$C$30/SUM($K$2:$K$366)","v":0.13432536103673631}]
["2016-09-09",{"$f":"'Input and Output'!C287","v":20.399999999999999},6,{"$f":"IF($C254<6,Lin_parameters_wd!B$9,Lin_parameters_wknd!B$10)","v":1.31124751273035},{"$f":"IF($C254<6,Lin_parameters_wd!C$9,Lin_parameters_wknd!C$10)","v":-7.5310765362349638E-2},{"$f":"IF($C254<6,Lin_parameters_wd!D$9,Lin_parameters_wknd!D$10)","v":0.29524473618599389},{"$f":"IF($C254<6,Lin_parameters_wd!E$9,Lin_parameters_wknd!E$10)","v":-9.762199133681506E-3},{"$f":"IF($C254<6,Lin_parameters_wd!F$9,Lin_parameters_wknd!F$10)","v":15.5},0.29524473618599389,-9.762199133681506E-3,9.6095873858891179E-2,{"$f":"$K254*'Input and Output'!$C$30/SUM($K$2:$K$366)","v":0.1032012724948053}]
["2016-09-10",{"$f":"'Input and Output'!C288","v":21.8},7,{"$f":"IF($C255<6,Lin_parameters_wd!B$9,Lin_parameters_wknd!B$10)","v":1.31124751273035},{"$f":"IF($C255<6,Lin_parameters_wd!C$9,Lin_parameters_wknd!C$10)","v":-7.5310765362349638E-2},{"$f":"IF($C255<6,Lin_parameters_wd!D$9,Lin_parameters_wknd!D$10)","v":0.29524473618599389},{"$f":"IF($C255<6,Lin_parameters_wd!E$9,Lin_parameters_wknd!E$10)","v":-9.762199133681506E-3},{"$f":"IF($C255<6,Lin_parameters_wd!F$9,Lin_parameters_wknd!F$10)","v":15.5},0.29524473618599389,-9.762199133681506E-3,8.242879507173706E-2,{"$f":"$K255*'Input and Output'!$C$30/SUM($K$2:$K$366)","v":8.8523639985919361E-2}]
["2016-09-11",{"$f":"'Input and Output'!C289","v":21.6},1,{"$f":"IF($C256<6,Lin_parameters_wd!B$9,Lin_parameters_wknd!B$10)","v":1.771938814155029},{"$f":"IF($C256<6,Lin_parameters_wd!C$9,Lin_parameters_wknd!C$10)","v":-9.5984753200240996E-2},{"$f":"IF($C256<6,Lin_parameters_wd!D$9,Lin_parameters_wknd!D$10)","v":0.40699471377216029},{"$f":"IF($C256<6,Lin_parameters_wd!E$9,Lin_parameters_wknd!E$10)","v":-1.2756454396407539E-2},{"$f":"IF($C256<6,Lin_parameters_wd!F$9,Lin_parameters_wknd!F$10)","v":16.399999999999999},0.40699471377216029,-1.2756454396407539E-2,0.13145529880975743,{"$f":"$K256*'Input and Output'!$C$30/SUM($K$2:$K$366)","v":0.14117519898172631}]
["2016-09-12",{"$f":"'Input and Output'!C290","v":23.3},2,{"$f":"IF($C257<6,Lin_parameters_wd!B$9,Lin_parameters_wknd!B$10)","v":1.771938814155029},{"$f":"IF($C257<6,Lin_parameters_wd!C$9,Lin_parameters_wknd!C$10)","v":-9.5984753200240996E-2},{"$f":"IF($C257<6,Lin_parameters_wd!D$9,Lin_parameters_wknd!D$10)","v":0.40699471377216029},{"$f":"IF($C257<6,Lin_parameters_wd!E$9,Lin_parameters_wknd!E$10)","v":-1.2756454396407539E-2},{"$f":"IF($C257<6,Lin_parameters_wd!F$9,Lin_parameters_wknd!F$10)","v":16.399999999999999},0.40699471377216029,-1.2756454396407539E-2,0.10976932633586461,{"$f":"$K257*'Input and Output'!$C$30/SUM($K$2:$K$366)","v":0.11788574996876029}]
["2016-09-13",{"$f":"'Input and Output'!C291","v":24.9},{"$f":"WEEKDAY(A258)","v":3},{"$f":"IF($C258<6,Lin_parameters_wd!B$9,Lin_parameters_wknd!B$10)","v":1.771938814155029},{"$f":"IF($C258<6,Lin_parameters_wd!C$9,Lin_parameters_wknd!C$10)","v":-9.5984753200240996E-2},{"$f":"IF($C258<6,Lin_parameters_wd!D$9,Lin_parameters_wknd!D$10)","v":0.40699471377216029},{"$f":"IF($C258<6,Lin_parameters_wd!E$9,Lin_parameters_wknd!E$10)","v":-1.2756454396407539E-2},{"$f":"IF($C258<6,Lin_parameters_wd!F$9,Lin_parameters_wknd!F$10)","v":16.399999999999999},0.40699471377216029,-1.2756454396407539E-2,8.9358999301612563E-2,{"$f":"$K258*'Input and Output'!$C$30/SUM($K$2:$K$366)","v":9.5966268544792288E-2}]
["2016-09-14",{"$f":"'Input and Output'!C292","v":24.2},4,{"$f":"IF($C259<6,Lin_parameters_wd!B$9,Lin_parameters_wknd!B$10)","v":1.771938814155029},{"$f":"IF($C259<6,Lin_parameters_wd!C$9,Lin_parameters_wknd!C$10)","v":-9.5984753200240996E-2},{"$f":"IF($C259<6,Lin_parameters_wd!D$9,Lin_parameters_wknd!D$10)","v":0.40699471377216029},{"$f":"IF($C259<6,Lin_parameters_wd!E$9,Lin_parameters_wknd!E$10)","v":-1.2756454396407539E-2},{"$f":"IF($C259<6,Lin_parameters_wd!F$9,Lin_parameters_wknd!F$10)","v":16.399999999999999},{"$f":"IF($B259<$H259,$D259,$F259)","v":0.40699471377216029},{"$f":"IF($B259<$H259,$E259,$G259)","v":-1.2756454396407539E-2},{"$f":"MAX($I259+$J259*$B259,0)","v":9.8288517379097828E-2},{"$f":"$K259*'Input and Output'!$C$30/SUM($K$2:$K$366)","v":0.10555604166777828}]
[{"$f":"A259+1","v":"2016-09-15"},{"$f":"'Input and Output'!C293","v":23.6},5,{"$f":"IF($C260<6,Lin_parameters_wd!B$9,Lin_parameters_wknd!B$10)","v":1.771938814155029},{"$f":"IF($C260<6,Lin_parameters_wd!C$9,Lin_parameters_wknd!C$10)","v":-9.5984753200240996E-2},{"$f":"IF($C260<6,Lin_parameters_wd!D$9,Lin_parameters_wknd!D$10)","v":0.40699471377216029},{"$f":"IF($C260<6,Lin_parameters_wd!E$9,Lin_parameters_wknd!E$10)","v":-1.2756454396407539E-2},{"$f":"IF($C260<6,Lin_parameters_wd!F$9,Lin_parameters_wknd!F$10)","v":16.399999999999999},0.40699471377216029,-1.2756454396407539E-2,0.10594239001694233,{"$f":"$K260*'Input and Output'!$C$30/SUM($K$2:$K$366)","v":0.11377584720176626}]
["2016-09-16",{"$f":"'Input and Output'!C294","v":20.3},6,{"$f":"IF($C261<6,Lin_parameters_wd!B$9,Lin_parameters_wknd!B$10)","v":1.31124751273035},{"$f":"IF($C261<6,Lin_parameters_wd!C$9,Lin_parameters_wknd!C$10)","v":-7.5310765362349638E-2},{"$f":"IF($C261<6,Lin_parameters_wd!D$9,Lin_parameters_wknd!D$10)","v":0.29524473618599389},{"$f":"IF($C261<6,Lin_parameters_wd!E$9,Lin_parameters_wknd!E$10)","v":-9.762199133681506E-3},{"$f":"IF($C261<6,Lin_parameters_wd!F$9,Lin_parameters_wknd!F$10)","v":15.5},0.29524473618599389,-9.762199133681506E-3,9.707209377225931E-2,{"$f":"$K261*'Input and Output'!$C$30/SUM($K$2:$K$366)","v":0.10424967481686856}]
["2016-09-17",{"$f":"'Input and Output'!C295","v":16},7,{"$f":"IF($C262<6,Lin_parameters_wd!B$9,Lin_parameters_wknd!B$10)","v":1.31124751273035},{"$f":"IF($C262<6,Lin_parameters_wd!C$9,Lin_parameters_wknd!C$10)","v":-7.5310765362349638E-2},{"$f":"IF($C262<6,Lin_parameters_wd!D$9,Lin_parameters_wknd!D$10)","v":0.29524473618599389},{"$f":"IF($C262<6,Lin_parameters_wd!E$9,Lin_parameters_wknd!E$10)","v":-9.762199133681506E-3},{"$f":"IF($C262<6,Lin_parameters_wd!F$9,Lin_parameters_wknd!F$10)","v":15.5},0.29524473618599389,-9.762199133681506E-3,0.1390495500470898,{"$f":"$K262*'Input and Output'!$C$30/SUM($K$2:$K$366)","v":0.14933097466558973}]
["2016-09-18",{"$f":"'Input and Output'!C296","v":16.7},1,{"$f":"IF($C263<6,Lin_parameters_wd!B$9,Lin_parameters_wknd!B$10)","v":1.771938814155029},{"$f":"IF($C263<6,Lin_parameters_wd!C$9,Lin_parameters_wknd!C$10)","v":-9.5984753200240996E-2},{"$f":"IF($C263<6,Lin_parameters_wd!D$9,Lin_parameters_wknd!D$10)","v":0.40699471377216029},{"$f":"IF($C263<6,Lin_parameters_wd!E$9,Lin_parameters_wknd!E$10)","v":-1.2756454396407539E-2},{"$f":"IF($C263<6,Lin_parameters_wd!F$9,Lin_parameters_wknd!F$10)","v":16.399999999999999},0.40699471377216029,-1.2756454396407539E-2,0.1939619253521544,{"$f":"$K263*'Input and Output'!$C$30/SUM($K$2:$K$366)","v":0.20830361084262836}]
["2016-09-19",{"$f":"'Input and Output'!C297","v":13.5},2,{"$f":"IF($C264<6,Lin_parameters_wd!B$9,Lin_parameters_wknd!B$10)","v":1.771938814155029},{"$f":"IF($C264<6,Lin_parameters_wd!C$9,Lin_parameters_wknd!C$10)","v":-9.5984753200240996E-2},{"$f":"IF($C264<6,Lin_parameters_wd!D$9,Lin_parameters_wknd!D$10)","v":0.40699471377216029},{"$f":"IF($C264<6,Lin_parameters_wd!E$9,Lin_parameters_wknd!E$10)","v":-1.2756454396407539E-2},{"$f":"IF($C264<6,Lin_parameters_wd!F$9,Lin_parameters_wknd!F$10)","v":16.399999999999999},1.771938814155029,-9.5984753200240996E-2,0.47614464595177552,{"$f":"$K264*'Input and Output'!$C$30/SUM($K$2:$K$366)","v":0.51135112654231063}]
["2016-09-20",{"$f":"'Input and Output'!C298","v":15.1},3,{"$f":"IF($C265<6,Lin_parameters_wd!B$9,Lin_parameters_wknd!B$10)","v":1.771938814155029},{"$f":"IF($C265<6,Lin_parameters_wd!C$9,Lin_parameters_wknd!C$10)","v":-9.5984753200240996E-2},{"$f":"IF($C265<6,Lin_parameters_wd!D$9,Lin_parameters_wknd!D$10)","v":0.40699471377216029},{"$f":"IF($C265<6,Lin_parameters_wd!E$9,Lin_parameters_wknd!E$10)","v":-1.2756454396407539E-2},{"$f":"IF($C265<6,Lin_parameters_wd!F$9,Lin_parameters_wknd!F$10)","v":16.399999999999999},1.771938814155029,-9.5984753200240996E-2,0.32256904083138993,{"$f":"$K265*'Input and Output'!$C$30/SUM($K$2:$K$366)","v":0.34642002975186187}]
["2016-09-21",{"$f":"'Input and Output'!C299","v":14.6},4,{"$f":"IF($C266<6,Lin_parameters_wd!B$9,Lin_parameters_wknd!B$10)","v":1.771938814155029},{"$f":"IF($C266<6,Lin_parameters_wd!C$9,Lin_parameters_wknd!C$10)","v":-9.5984753200240996E-2},{"$f":"IF($C266<6,Lin_parameters_wd!D$9,Lin_parameters_wknd!D$10)","v":0.40699471377216029},{"$f":"IF($C266<6,Lin_parameters_wd!E$9,Lin_parameters_wknd!E$10)","v":-1.2756454396407539E-2},{"$f":"IF($C266<6,Lin_parameters_wd!F$9,Lin_parameters_wknd!F$10)","v":16.399999999999999},1.771938814155029,-9.5984753200240996E-2,0.37056141743151039,{"$f":"$K266*'Input and Output'!$C$30/SUM($K$2:$K$366)","v":0.39796099749887709}]
["2016-09-22",{"$f":"'Input and Output'!C300","v":14.6},5,{"$f":"IF($C267<6,Lin_parameters_wd!B$9,Lin_parameters_wknd!B$10)","v":1.771938814155029},{"$f":"IF($C267<6,Lin_parameters_wd!C$9,Lin_parameters_wknd!C$10)","v":-9.5984753200240996E-2},{"$f":"IF($C267<6,Lin_parameters_wd!D$9,Lin_parameters_wknd!D$10)","v":0.40699471377216029},{"$f":"IF($C267<6,Lin_parameters_wd!E$9,Lin_parameters_wknd!E$10)","v":-1.2756454396407539E-2},{"$f":"IF($C267<6,Lin_parameters_wd!F$9,Lin_parameters_wknd!F$10)","v":16.399999999999999},1.771938814155029,-9.5984753200240996E-2,0.37056141743151039,{"$f":"$K267*'Input and Output'!$C$30/SUM($K$2:$K$366)","v":0.39796099749887709}]
["2016-09-23",{"$f":"'Input and Output'!C301","v":15.7},6,{"$f":"IF($C268<6,Lin_parameters_wd!B$9,Lin_parameters_wknd!B$10)","v":1.31124751273035},{"$f":"IF($C268<6,Lin_parameters_wd!C$9,Lin_parameters_wknd!C$10)","v":-7.5310765362349638E-2},{"$f":"IF($C268<6,Lin_parameters_wd!D$9,Lin_parameters_wknd!D$10)","v":0.29524473618599389},{"$f":"IF($C268<6,Lin_parameters_wd!E$9,Lin_parameters_wknd!E$10)","v":-9.762199133681506E-3},{"$f":"IF($C268<6,Lin_parameters_wd!F$9,Lin_parameters_wknd!F$10)","v":15.5},0.29524473618599389,-9.762199133681506E-3,0.14197820978719425,{"$f":"$K268*'Input and Output'!$C$30/SUM($K$2:$K$366)","v":0.15247618163177956}]
["2016-09-24",{"$f":"'Input and Output'!C302","v":15.7},7,{"$f":"IF($C269<6,Lin_parameters_wd!B$9,Lin_parameters_wknd!B$10)","v":1.31124751273035},{"$f":"IF($C269<6,Lin_parameters_wd!C$9,Lin_parameters_wknd!C$10)","v":-7.5310765362349638E-2},{"$f":"IF($C269<6,Lin_parameters_wd!D$9,Lin_parameters_wknd!D$10)","v":0.29524473618599389},{"$f":"IF($C269<6,Lin_parameters_wd!E$9,Lin_parameters_wknd!E$10)","v":-9.762199133681506E-3},{"$f":"IF($C269<6,Lin_parameters_wd!F$9,Lin_parameters_wknd!F$10)","v":15.5},0.29524473618599389,-9.762199133681506E-3,0.14197820978719425,{"$f":"$K269*'Input and Output'!$C$30/SUM($K$2:$K$366)","v":0.15247618163177956}]
["2016-09-25",{"$f":"'Input and Output'!C303","v":16.7},1,{"$f":"IF($C270<6,Lin_parameters_wd!B$9,Lin_parameters_wknd!B$10)","v":1.771938814155029},{"$f":"IF($C270<6,Lin_parameters_wd!C$9,Lin_parameters_wknd!C$10)","v":-9.5984753200240996E-2},{"$f":"IF($C270<6,Lin_parameters_wd!D$9,Lin_parameters_wknd!D$10)","v":0.40699471377216029},{"$f":"IF($C270<6,Lin_parameters_wd!E$9,Lin_parameters_wknd!E$10)","v":-1.2756454396407539E-2},{"$f":"IF($C270<6,Lin_parameters_wd!F$9,Lin_parameters_wknd!F$10)","v":16.399999999999999},0.40699471377216029,-1.2756454396407539E-2,0.1939619253521544,{"$f":"$K270*'Input and Output'!$C$30/SUM($K$2:$K$366)","v":0.20830361084262836}]
["2016-09-26",{"$f":"'Input and Output'!C304","v":16.600000000000001},2,{"$f":"IF($C271<6,Lin_parameters_wd!B$9,Lin_parameters_wknd!B$10)","v":1.771938814155029},{"$f":"IF($C271<6,Lin_parameters_wd!C$9,Lin_parameters_wknd!C$10)","v":-9.5984753200240996E-2},{"$f":"IF($C271<6,Lin_parameters_wd!D$9,Lin_parameters_wknd!D$10)","v":0.40699471377216029},{"$f":"IF($C271<6,Lin_parameters_wd!E$9,Lin_parameters_wknd!E$10)","v":-1.2756454396407539E-2},{"$f":"IF($C271<6,Lin_parameters_wd!F$9,Lin_parameters_wknd!F$10)","v":16.399999999999999},0.40699471377216029,-1.2756454396407539E-2,0.19523757079179513,{"$f":"$K271*'Input and Output'!$C$30/SUM($K$2:$K$366)","v":0.20967357843162635}]
["2016-09-27",{"$f":"'Input and Output'!C305","v":16.600000000000001},3,{"$f":"IF($C272<6,Lin_parameters_wd!B$9,Lin_parameters_wknd!B$10)","v":1.771938814155029},{"$f":"IF($C272<6,Lin_parameters_wd!C$9,Lin_parameters_wknd!C$10)","v":-9.5984753200240996E-2},{"$f":"IF($C272<6,Lin_parameters_wd!D$9,Lin_parameters_wknd!D$10)","v":0.40699471377216029},{"$f":"IF($C272<6,Lin_parameters_wd!E$9,Lin_parameters_wknd!E$10)","v":-1.2756454396407539E-2},{"$f":"IF($C272<6,Lin_parameters_wd!F$9,Lin_parameters_wknd!F$10)","v":16.399999999999999},0.40699471377216029,-1.2756454396407539E-2,0.19523757079179513,{"$f":"$K272*'Input and Output'!$C$30/SUM($K$2:$K$366)","v":0.20967357843162635}]
["2016-09-28",{"$f":"'Input and Output'!C306","v":16.3},4,{"$f":"IF($C273<6,Lin_parameters_wd!B$9,Lin_parameters_wknd!B$10)","v":1.771938814155029},{"$f":"IF($C273<6,Lin_parameters_wd!C$9,Lin_parameters_wknd!C$10)","v":-9.5984753200240996E-2},{"$f":"IF($C273<6,Lin_parameters_wd!D$9,Lin_parameters_wknd!D$10)","v":0.40699471377216029},{"$f":"IF($C273<6,Lin_parameters_wd!E$9,Lin_parameters_wknd!E$10)","v":-1.2756454396407539E-2},{"$f":"IF($C273<6,Lin_parameters_wd!F$9,Lin_parameters_wknd!F$10)","v":16.399999999999999},1.771938814155029,-9.5984753200240996E-2,0.20738733699110057,{"$f":"$K273*'Input and Output'!$C$30/SUM($K$2:$K$366)","v":0.2227217071590252}]
["2016-09-29",{"$f":"'Input and Output'!C307","v":18.8},5,{"$f":"IF($C274<6,Lin_parameters_wd!B$9,Lin_parameters_wknd!B$10)","v":1.771938814155029},{"$f":"IF($C274<6,Lin_parameters_wd!C$9,Lin_parameters_wknd!C$10)","v":-9.5984753200240996E-2},{"$f":"IF($C274<6,Lin_parameters_wd!D$9,Lin_parameters_wknd!D$10)","v":0.40699471377216029},{"$f":"IF($C274<6,Lin_parameters_wd!E$9,Lin_parameters_wknd!E$10)","v":-1.2756454396407539E-2},{"$f":"IF($C274<6,Lin_parameters_wd!F$9,Lin_parameters_wknd!F$10)","v":16.399999999999999},0.40699471377216029,-1.2756454396407539E-2,0.16717337111969854,{"$f":"$K274*'Input and Output'!$C$30/SUM($K$2:$K$366)","v":0.17953429147367031}]
["2016-09-30",{"$f":"'Input and Output'!C308","v":15.2},6,{"$f":"IF($C275<6,Lin_parameters_wd!B$9,Lin_parameters_wknd!B$10)","v":1.31124751273035},{"$f":"IF($C275<6,Lin_parameters_wd!C$9,Lin_parameters_wknd!C$10)","v":-7.5310765362349638E-2},{"$f":"IF($C275<6,Lin_parameters_wd!D$9,Lin_parameters_wknd!D$10)","v":0.29524473618599389},{"$f":"IF($C275<6,Lin_parameters_wd!E$9,Lin_parameters_wknd!E$10)","v":-9.762199133681506E-3},{"$f":"IF($C275<6,Lin_parameters_wd!F$9,Lin_parameters_wknd!F$10)","v":15.5},1.31124751273035,-7.5310765362349638E-2,0.16652387922263556,{"$f":"$K275*'Input and Output'!$C$30/SUM($K$2:$K$366)","v":0.1788367756744968}]
["2016-10-01",{"$f":"'Input and Output'!C309","v":12.4},7,{"$f":"IF($C276<6,Lin_parameters_wd!B$9,Lin_parameters_wknd!B$10)","v":1.31124751273035},{"$f":"IF($C276<6,Lin_parameters_wd!C$9,Lin_parameters_wknd!C$10)","v":-7.5310765362349638E-2},{"$f":"IF($C276<6,Lin_parameters_wd!D$9,Lin_parameters_wknd!D$10)","v":0.29524473618599389},{"$f":"IF($C276<6,Lin_parameters_wd!E$9,Lin_parameters_wknd!E$10)","v":-9.762199133681506E-3},{"$f":"IF($C276<6,Lin_parameters_wd!F$9,Lin_parameters_wknd!F$10)","v":15.5},1.31124751273035,-7.5310765362349638E-2,0.37739402223721452,{"$f":"$K276*'Input and Output'!$C$30/SUM($K$2:$K$366)","v":0.40529881006134172}]
["2016-10-02",{"$f":"'Input and Output'!C310","v":12.8},1,{"$f":"IF($C277<6,Lin_parameters_wd!B$9,Lin_parameters_wknd!B$10)","v":1.771938814155029},{"$f":"IF($C277<6,Lin_parameters_wd!C$9,Lin_parameters_wknd!C$10)","v":-9.5984753200240996E-2},{"$f":"IF($C277<6,Lin_parameters_wd!D$9,Lin_parameters_wknd!D$10)","v":0.40699471377216029},{"$f":"IF($C277<6,Lin_parameters_wd!E$9,Lin_parameters_wknd!E$10)","v":-1.2756454396407539E-2},{"$f":"IF($C277<6,Lin_parameters_wd!F$9,Lin_parameters_wknd!F$10)","v":16.399999999999999},1.771938814155029,-9.5984753200240996E-2,0.54333397319194421,{"$f":"$K277*'Input and Output'!$C$30/SUM($K$2:$K$366)","v":0.58350848138813194}]
["2016-10-03",{"$f":"'Input and Output'!C311","v":11.5},2,{"$f":"IF($C278<6,Lin_parameters_wd!B$9,Lin_parameters_wknd!B$10)","v":1.771938814155029},{"$f":"IF($C278<6,Lin_parameters_wd!C$9,Lin_parameters_wknd!C$10)","v":-9.5984753200240996E-2},{"$f":"IF($C278<6,Lin_parameters_wd!D$9,Lin_parameters_wknd!D$10)","v":0.40699471377216029},{"$f":"IF($C278<6,Lin_parameters_wd!E$9,Lin_parameters_wknd!E$10)","v":-1.2756454396407539E-2},{"$f":"IF($C278<6,Lin_parameters_wd!F$9,Lin_parameters_wknd!F$10)","v":16.399999999999999},1.771938814155029,-9.5984753200240996E-2,0.66811415235225757,{"$f":"$K278*'Input and Output'!$C$30/SUM($K$2:$K$366)","v":0.71751499753037162}]
["2016-10-04",{"$f":"'Input and Output'!C312","v":12.5},3,{"$f":"IF($C279<6,Lin_parameters_wd!B$9,Lin_parameters_wknd!B$10)","v":1.771938814155029},{"$f":"IF($C279<6,Lin_parameters_wd!C$9,Lin_parameters_wknd!C$10)","v":-9.5984753200240996E-2},{"$f":"IF($C279<6,Lin_parameters_wd!D$9,Lin_parameters_wknd!D$10)","v":0.40699471377216029},{"$f":"IF($C279<6,Lin_parameters_wd!E$9,Lin_parameters_wknd!E$10)","v":-1.2756454396407539E-2},{"$f":"IF($C279<6,Lin_parameters_wd!F$9,Lin_parameters_wknd!F$10)","v":16.399999999999999},1.771938814155029,-9.5984753200240996E-2,0.57212939915201644,{"$f":"$K279*'Input and Output'!$C$30/SUM($K$2:$K$366)","v":0.61443306203634096}]
["2016-10-05",{"$f":"'Input and Output'!C313","v":9.1},4,{"$f":"IF($C280<6,Lin_parameters_wd!B$9,Lin_parameters_wknd!B$10)","v":1.771938814155029},{"$f":"IF($C280<6,Lin_parameters_wd!C$9,Lin_parameters_wknd!C$10)","v":-9.5984753200240996E-2},{"$f":"IF($C280<6,Lin_parameters_wd!D$9,Lin_parameters_wknd!D$10)","v":0.40699471377216029},{"$f":"IF($C280<6,Lin_parameters_wd!E$9,Lin_parameters_wknd!E$10)","v":-1.2756454396407539E-2},{"$f":"IF($C280<6,Lin_parameters_wd!F$9,Lin_parameters_wknd!F$10)","v":16.399999999999999},1.771938814155029,-9.5984753200240996E-2,0.89847756003283596,{"$f":"$K280*'Input and Output'!$C$30/SUM($K$2:$K$366)","v":0.96491164271604468}]
["2016-10-06",{"$f":"'Input and Output'!C314","v":8.6999999999999993},5,{"$f":"IF($C281<6,Lin_parameters_wd!B$9,Lin_parameters_wknd!B$10)","v":1.771938814155029},{"$f":"IF($C281<6,Lin_parameters_wd!C$9,Lin_parameters_wknd!C$10)","v":-9.5984753200240996E-2},{"$f":"IF($C281<6,Lin_parameters_wd!D$9,Lin_parameters_wknd!D$10)","v":0.40699471377216029},{"$f":"IF($C281<6,Lin_parameters_wd!E$9,Lin_parameters_wknd!E$10)","v":-1.2756454396407539E-2},{"$f":"IF($C281<6,Lin_parameters_wd!F$9,Lin_parameters_wknd!F$10)","v":16.399999999999999},1.771938814155029,-9.5984753200240996E-2,0.93687146131293231,{"$f":"$K281*'Input and Output'!$C$30/SUM($K$2:$K$366)","v":1.0061444169136569}]
["2016-10-07",{"$f":"'Input and Output'!C315","v":10.9},6,{"$f":"IF($C282<6,Lin_parameters_wd!B$9,Lin_parameters_wknd!B$10)","v":1.31124751273035},{"$f":"IF($C282<6,Lin_parameters_wd!C$9,Lin_parameters_wknd!C$10)","v":-7.5310765362349638E-2},{"$f":"IF($C282<6,Lin_parameters_wd!D$9,Lin_parameters_wknd!D$10)","v":0.29524473618599389},{"$f":"IF($C282<6,Lin_parameters_wd!E$9,Lin_parameters_wknd!E$10)","v":-9.762199133681506E-3},{"$f":"IF($C282<6,Lin_parameters_wd!F$9,Lin_parameters_wknd!F$10)","v":15.5},1.31124751273035,-7.5310765362349638E-2,0.49036017028073897,{"$f":"$K282*'Input and Output'!$C$30/SUM($K$2:$K$366)","v":0.52661775705429437}]
["2016-10-08",{"$f":"'Input and Output'!C316","v":8.6999999999999993},7,{"$f":"IF($C283<6,Lin_parameters_wd!B$9,Lin_parameters_wknd!B$10)","v":1.31124751273035},{"$f":"IF($C283<6,Lin_parameters_wd!C$9,Lin_parameters_wknd!C$10)","v":-7.5310765362349638E-2},{"$f":"IF($C283<6,Lin_parameters_wd!D$9,Lin_parameters_wknd!D$10)","v":0.29524473618599389},{"$f":"IF($C283<6,Lin_parameters_wd!E$9,Lin_parameters_wknd!E$10)","v":-9.762199133681506E-3},{"$f":"IF($C283<6,Lin_parameters_wd!F$9,Lin_parameters_wknd!F$10)","v":15.5},1.31124751273035,-7.5310765362349638E-2,0.65604385407790822,{"$f":"$K283*'Input and Output'!$C$30/SUM($K$2:$K$366)","v":0.70455221264395829}]
["2016-10-09",{"$f":"'Input and Output'!C317","v":7.9},1,{"$f":"IF($C284<6,Lin_parameters_wd!B$9,Lin_parameters_wknd!B$10)","v":1.771938814155029},{"$f":"IF($C284<6,Lin_parameters_wd!C$9,Lin_parameters_wknd!C$10)","v":-9.5984753200240996E-2},{"$f":"IF($C284<6,Lin_parameters_wd!D$9,Lin_parameters_wknd!D$10)","v":0.40699471377216029},{"$f":"IF($C284<6,Lin_parameters_wd!E$9,Lin_parameters_wknd!E$10)","v":-1.2756454396407539E-2},{"$f":"IF($C284<6,Lin_parameters_wd!F$9,Lin_parameters_wknd!F$10)","v":16.399999999999999},1.771938814155029,-9.5984753200240996E-2,1.0136592638731252,{"$f":"$K284*'Input and Output'!$C$30/SUM($K$2:$K$366)","v":1.0886099653088812}]
["2016-10-10",{"$f":"'Input and Output'!C318","v":7.7},2,{"$f":"IF($C285<6,Lin_parameters_wd!B$9,Lin_parameters_wknd!B$10)","v":1.771938814155029},{"$f":"IF($C285<6,Lin_parameters_wd!C$9,Lin_parameters_wknd!C$10)","v":-9.5984753200240996E-2},{"$f":"IF($C285<6,Lin_parameters_wd!D$9,Lin_parameters_wknd!D$10)","v":0.40699471377216029},{"$f":"IF($C285<6,Lin_parameters_wd!E$9,Lin_parameters_wknd!E$10)","v":-1.2756454396407539E-2},{"$f":"IF($C285<6,Lin_parameters_wd!F$9,Lin_parameters_wknd!F$10)","v":16.399999999999999},1.771938814155029,-9.5984753200240996E-2,1.0328562145131732,{"$f":"$K285*'Input and Output'!$C$30/SUM($K$2:$K$366)","v":1.1092263524076871}]
["2016-10-11",{"$f":"'Input and Output'!C319","v":7.4},3,{"$f":"IF($C286<6,Lin_parameters_wd!B$9,Lin_parameters_wknd!B$10)","v":1.771938814155029},{"$f":"IF($C286<6,Lin_parameters_wd!C$9,Lin_parameters_wknd!C$10)","v":-9.5984753200240996E-2},{"$f":"IF($C286<6,Lin_parameters_wd!D$9,Lin_parameters_wknd!D$10)","v":0.40699471377216029},{"$f":"IF($C286<6,Lin_parameters_wd!E$9,Lin_parameters_wknd!E$10)","v":-1.2756454396407539E-2},{"$f":"IF($C286<6,Lin_parameters_wd!F$9,Lin_parameters_wknd!F$10)","v":16.399999999999999},1.771938814155029,-9.5984753200240996E-2,1.0616516404732455,{"$f":"$K286*'Input and Output'!$C$30/SUM($K$2:$K$366)","v":1.1401509330558961}]
["2016-10-12",{"$f":"'Input and Output'!C320","v":7.7},4,{"$f":"IF($C287<6,Lin_parameters_wd!B$9,Lin_parameters_wknd!B$10)","v":1.771938814155029},{"$f":"IF($C287<6,Lin_parameters_wd!C$9,Lin_parameters_wknd!C$10)","v":-9.5984753200240996E-2},{"$f":"IF($C287<6,Lin_parameters_wd!D$9,Lin_parameters_wknd!D$10)","v":0.40699471377216029},{"$f":"IF($C287<6,Lin_parameters_wd!E$9,Lin_parameters_wknd!E$10)","v":-1.2756454396407539E-2},{"$f":"IF($C287<6,Lin_parameters_wd!F$9,Lin_parameters_wknd!F$10)","v":16.399999999999999},1.771938814155029,-9.5984753200240996E-2,1.0328562145131732,{"$f":"$K287*'Input and Output'!$C$30/SUM($K$2:$K$366)","v":1.1092263524076871}]
["2016-10-13",{"$f":"'Input and Output'!C321","v":8.1999999999999993},5,{"$f":"IF($C288<6,Lin_parameters_wd!B$9,Lin_parameters_wknd!B$10)","v":1.771938814155029},{"$f":"IF($C288<6,Lin_parameters_wd!C$9,Lin_parameters_wknd!C$10)","v":-9.5984753200240996E-2},{"$f":"IF($C288<6,Lin_parameters_wd!D$9,Lin_parameters_wknd!D$10)","v":0.40699471377216029},{"$f":"IF($C288<6,Lin_parameters_wd!E$9,Lin_parameters_wknd!E$10)","v":-1.2756454396407539E-2},{"$f":"IF($C288<6,Lin_parameters_wd!F$9,Lin_parameters_wknd!F$10)","v":16.399999999999999},1.771938814155029,-9.5984753200240996E-2,0.98486383791305288,{"$f":"$K288*'Input and Output'!$C$30/SUM($K$2:$K$366)","v":1.057685384660672}]
["2016-10-14",{"$f":"'Input and Output'!C322","v":9.8000000000000007},6,{"$f":"IF($C289<6,Lin_parameters_wd!B$9,Lin_parameters_wknd!B$10)","v":1.31124751273035},{"$f":"IF($C289<6,Lin_parameters_wd!C$9,Lin_parameters_wknd!C$10)","v":-7.5310765362349638E-2},{"$f":"IF($C289<6,Lin_parameters_wd!D$9,Lin_parameters_wknd!D$10)","v":0.29524473618599389},{"$f":"IF($C289<6,Lin_parameters_wd!E$9,Lin_parameters_wknd!E$10)","v":-9.762199133681506E-3},{"$f":"IF($C289<6,Lin_parameters_wd!F$9,Lin_parameters_wknd!F$10)","v":15.5},1.31124751273035,-7.5310765362349638E-2,0.57320201217932354,{"$f":"$K289*'Input and Output'!$C$30/SUM($K$2:$K$366)","v":0.61558498484912627}]
["2016-10-15",{"$f":"'Input and Output'!C323","v":10.3},7,{"$f":"IF($C290<6,Lin_parameters_wd!B$9,Lin_parameters_wknd!B$10)","v":1.31124751273035},{"$f":"IF($C290<6,Lin_parameters_wd!C$9,Lin_parameters_wknd!C$10)","v":-7.5310765362349638E-2},{"$f":"IF($C290<6,Lin_parameters_wd!D$9,Lin_parameters_wknd!D$10)","v":0.29524473618599389},{"$f":"IF($C290<6,Lin_parameters_wd!E$9,Lin_parameters_wknd!E$10)","v":-9.762199133681506E-3},{"$f":"IF($C290<6,Lin_parameters_wd!F$9,Lin_parameters_wknd!F$10)","v":15.5},1.31124751273035,-7.5310765362349638E-2,0.53554662949814869,{"$f":"$K290*'Input and Output'!$C$30/SUM($K$2:$K$366)","v":0.57514533585147531}]
["2016-10-16",{"$f":"'Input and Output'!C324","v":10},1,{"$f":"IF($C291<6,Lin_parameters_wd!B$9,Lin_parameters_wknd!B$10)","v":1.771938814155029},{"$f":"IF($C291<6,Lin_parameters_wd!C$9,Lin_parameters_wknd!C$10)","v":-9.5984753200240996E-2},{"$f":"IF($C291<6,Lin_parameters_wd!D$9,Lin_parameters_wknd!D$10)","v":0.40699471377216029},{"$f":"IF($C291<6,Lin_parameters_wd!E$9,Lin_parameters_wknd!E$10)","v":-1.2756454396407539E-2},{"$f":"IF($C291<6,Lin_parameters_wd!F$9,Lin_parameters_wknd!F$10)","v":16.399999999999999},1.771938814155029,-9.5984753200240996E-2,0.81209128215261894,{"$f":"$K291*'Input and Output'!$C$30/SUM($K$2:$K$366)","v":0.87213790077141717}]
["2016-10-17",{"$f":"'Input and Output'!C325","v":11},2,{"$f":"IF($C292<6,Lin_parameters_wd!B$9,Lin_parameters_wknd!B$10)","v":1.771938814155029},{"$f":"IF($C292<6,Lin_parameters_wd!C$9,Lin_parameters_wknd!C$10)","v":-9.5984753200240996E-2},{"$f":"IF($C292<6,Lin_parameters_wd!D$9,Lin_parameters_wknd!D$10)","v":0.40699471377216029},{"$f":"IF($C292<6,Lin_parameters_wd!E$9,Lin_parameters_wknd!E$10)","v":-1.2756454396407539E-2},{"$f":"IF($C292<6,Lin_parameters_wd!F$9,Lin_parameters_wknd!F$10)","v":16.399999999999999},1.771938814155029,-9.5984753200240996E-2,0.71610652895237803,{"$f":"$K292*'Input and Output'!$C$30/SUM($K$2:$K$366)","v":0.76905596527738673}]
["2016-10-18",{"$f":"'Input and Output'!C326","v":11.9},3,{"$f":"IF($C293<6,Lin_parameters_wd!B$9,Lin_parameters_wknd!B$10)","v":1.771938814155029},{"$f":"IF($C293<6,Lin_parameters_wd!C$9,Lin_parameters_wknd!C$10)","v":-9.5984753200240996E-2},{"$f":"IF($C293<6,Lin_parameters_wd!D$9,Lin_parameters_wknd!D$10)","v":0.40699471377216029},{"$f":"IF($C293<6,Lin_parameters_wd!E$9,Lin_parameters_wknd!E$10)","v":-1.2756454396407539E-2},{"$f":"IF($C293<6,Lin_parameters_wd!F$9,Lin_parameters_wknd!F$10)","v":16.399999999999999},1.771938814155029,-9.5984753200240996E-2,0.62972025107216112,{"$f":"$K293*'Input and Output'!$C$30/SUM($K$2:$K$366)","v":0.67628222333275934}]
["2016-10-19",{"$f":"'Input and Output'!C327","v":7.7},4,{"$f":"IF($C294<6,Lin_parameters_wd!B$9,Lin_parameters_wknd!B$10)","v":1.771938814155029},{"$f":"IF($C294<6,Lin_parameters_wd!C$9,Lin_parameters_wknd!C$10)","v":-9.5984753200240996E-2},{"$f":"IF($C294<6,Lin_parameters_wd!D$9,Lin_parameters_wknd!D$10)","v":0.40699471377216029},{"$f":"IF($C294<6,Lin_parameters_wd!E$9,Lin_parameters_wknd!E$10)","v":-1.2756454396407539E-2},{"$f":"IF($C294<6,Lin_parameters_wd!F$9,Lin_parameters_wknd!F$10)","v":16.399999999999999},1.771938814155029,-9.5984753200240996E-2,1.0328562145131732,{"$f":"$K294*'Input and Output'!$C$30/SUM($K$2:$K$366)","v":1.1092263524076871}]
["2016-10-20",{"$f":"'Input and Output'!C328","v":7.1},5,{"$f":"IF($C295<6,Lin_parameters_wd!B$9,Lin_parameters_wknd!B$10)","v":1.771938814155029},{"$f":"IF($C295<6,Lin_parameters_wd!C$9,Lin_parameters_wknd!C$10)","v":-9.5984753200240996E-2},{"$f":"IF($C295<6,Lin_parameters_wd!D$9,Lin_parameters_wknd!D$10)","v":0.40699471377216029},{"$f":"IF($C295<6,Lin_parameters_wd!E$9,Lin_parameters_wknd!E$10)","v":-1.2756454396407539E-2},{"$f":"IF($C295<6,Lin_parameters_wd!F$9,Lin_parameters_wknd!F$10)","v":16.399999999999999},1.771938814155029,-9.5984753200240996E-2,1.0904470664333179,{"$f":"$K295*'Input and Output'!$C$30/SUM($K$2:$K$366)","v":1.1710755137041056}]
["2016-10-21",{"$f":"'Input and Output'!C329","v":6.7},6,{"$f":"IF($C296<6,Lin_parameters_wd!B$9,Lin_parameters_wknd!B$10)","v":1.31124751273035},{"$f":"IF($C296<6,Lin_parameters_wd!C$9,Lin_parameters_wknd!C$10)","v":-7.5310765362349638E-2},{"$f":"IF($C296<6,Lin_parameters_wd!D$9,Lin_parameters_wknd!D$10)","v":0.29524473618599389},{"$f":"IF($C296<6,Lin_parameters_wd!E$9,Lin_parameters_wknd!E$10)","v":-9.762199133681506E-3},{"$f":"IF($C296<6,Lin_parameters_wd!F$9,Lin_parameters_wknd!F$10)","v":15.5},1.31124751273035,-7.5310765362349638E-2,0.80666538480260741,{"$f":"$K296*'Input and Output'!$C$30/SUM($K$2:$K$366)","v":0.86631080863456189}]
["2016-10-22",{"$f":"'Input and Output'!C330","v":6.7},7,{"$f":"IF($C297<6,Lin_parameters_wd!B$9,Lin_parameters_wknd!B$10)","v":1.31124751273035},{"$f":"IF($C297<6,Lin_parameters_wd!C$9,Lin_parameters_wknd!C$10)","v":-7.5310765362349638E-2},{"$f":"IF($C297<6,Lin_parameters_wd!D$9,Lin_parameters_wknd!D$10)","v":0.29524473618599389},{"$f":"IF($C297<6,Lin_parameters_wd!E$9,Lin_parameters_wknd!E$10)","v":-9.762199133681506E-3},{"$f":"IF($C297<6,Lin_parameters_wd!F$9,Lin_parameters_wknd!F$10)","v":15.5},1.31124751273035,-7.5310765362349638E-2,0.80666538480260741,{"$f":"$K297*'Input and Output'!$C$30/SUM($K$2:$K$366)","v":0.86631080863456189}]
["2016-10-23",{"$f":"'Input and Output'!C331","v":6.7},1,{"$f":"IF($C298<6,Lin_parameters_wd!B$9,Lin_parameters_wknd!B$10)","v":1.771938814155029},{"$f":"IF($C298<6,Lin_parameters_wd!C$9,Lin_parameters_wknd!C$10)","v":-9.5984753200240996E-2},{"$f":"IF($C298<6,Lin_parameters_wd!D$9,Lin_parameters_wknd!D$10)","v":0.40699471377216029},{"$f":"IF($C298<6,Lin_parameters_wd!E$9,Lin_parameters_wknd!E$10)","v":-1.2756454396407539E-2},{"$f":"IF($C298<6,Lin_parameters_wd!F$9,Lin_parameters_wknd!F$10)","v":16.399999999999999},1.771938814155029,-9.5984753200240996E-2,1.1288409677134141,{"$f":"$K298*'Input and Output'!$C$30/SUM($K$2:$K$366)","v":1.2123082879017175}]
["2016-10-24",{"$f":"'Input and Output'!C332","v":7.6},2,{"$f":"IF($C299<6,Lin_parameters_wd!B$9,Lin_parameters_wknd!B$10)","v":1.771938814155029},{"$f":"IF($C299<6,Lin_parameters_wd!C$9,Lin_parameters_wknd!C$10)","v":-9.5984753200240996E-2},{"$f":"IF($C299<6,Lin_parameters_wd!D$9,Lin_parameters_wknd!D$10)","v":0.40699471377216029},{"$f":"IF($C299<6,Lin_parameters_wd!E$9,Lin_parameters_wknd!E$10)","v":-1.2756454396407539E-2},{"$f":"IF($C299<6,Lin_parameters_wd!F$9,Lin_parameters_wknd!F$10)","v":16.399999999999999},1.771938814155029,-9.5984753200240996E-2,1.0424546898331974,{"$f":"$K299*'Input and Output'!$C$30/SUM($K$2:$K$366)","v":1.1195345459570902}]
["2016-10-25",{"$f":"'Input and Output'!C333","v":9.1999999999999993},3,{"$f":"IF($C300<6,Lin_parameters_wd!B$9,Lin_parameters_wknd!B$10)","v":1.771938814155029},{"$f":"IF($C300<6,Lin_parameters_wd!C$9,Lin_parameters_wknd!C$10)","v":-9.5984753200240996E-2},{"$f":"IF($C300<6,Lin_parameters_wd!D$9,Lin_parameters_wknd!D$10)","v":0.40699471377216029},{"$f":"IF($C300<6,Lin_parameters_wd!E$9,Lin_parameters_wknd!E$10)","v":-1.2756454396407539E-2},{"$f":"IF($C300<6,Lin_parameters_wd!F$9,Lin_parameters_wknd!F$10)","v":16.399999999999999},1.771938814155029,-9.5984753200240996E-2,0.88887908471281185,{"$f":"$K300*'Input and Output'!$C$30/SUM($K$2:$K$366)","v":0.95460344916664164}]
["2016-10-26",{"$f":"'Input and Output'!C334","v":9},4,{"$f":"IF($C301<6,Lin_parameters_wd!B$9,Lin_parameters_wknd!B$10)","v":1.771938814155029},{"$f":"IF($C301<6,Lin_parameters_wd!C$9,Lin_parameters_wknd!C$10)","v":-9.5984753200240996E-2},{"$f":"IF($C301<6,Lin_parameters_wd!D$9,Lin_parameters_wknd!D$10)","v":0.40699471377216029},{"$f":"IF($C301<6,Lin_parameters_wd!E$9,Lin_parameters_wknd!E$10)","v":-1.2756454396407539E-2},{"$f":"IF($C301<6,Lin_parameters_wd!F$9,Lin_parameters_wknd!F$10)","v":16.399999999999999},1.771938814155029,-9.5984753200240996E-2,0.90807603535285997,{"$f":"$K301*'Input and Output'!$C$30/SUM($K$2:$K$366)","v":0.97521983626544761}]
["2016-10-27",{"$f":"'Input and Output'!C335","v":9.3000000000000007},5,{"$f":"IF($C302<6,Lin_parameters_wd!B$9,Lin_parameters_wknd!B$10)","v":1.771938814155029},{"$f":"IF($C302<6,Lin_parameters_wd!C$9,Lin_parameters_wknd!C$10)","v":-9.5984753200240996E-2},{"$f":"IF($C302<6,Lin_parameters_wd!D$9,Lin_parameters_wknd!D$10)","v":0.40699471377216029},{"$f":"IF($C302<6,Lin_parameters_wd!E$9,Lin_parameters_wknd!E$10)","v":-1.2756454396407539E-2},{"$f":"IF($C302<6,Lin_parameters_wd!F$9,Lin_parameters_wknd!F$10)","v":16.399999999999999},1.771938814155029,-9.5984753200240996E-2,0.87928060939278763,{"$f":"$K302*'Input and Output'!$C$30/SUM($K$2:$K$366)","v":0.94429525561723837}]
["2016-10-28",{"$f":"'Input and Output'!C336","v":11},6,{"$f":"IF($C303<6,Lin_parameters_wd!B$9,Lin_parameters_wknd!B$10)","v":1.31124751273035},{"$f":"IF($C303<6,Lin_parameters_wd!C$9,Lin_parameters_wknd!C$10)","v":-7.5310765362349638E-2},{"$f":"IF($C303<6,Lin_parameters_wd!D$9,Lin_parameters_wknd!D$10)","v":0.29524473618599389},{"$f":"IF($C303<6,Lin_parameters_wd!E$9,Lin_parameters_wknd!E$10)","v":-9.762199133681506E-3},{"$f":"IF($C303<6,Lin_parameters_wd!F$9,Lin_parameters_wknd!F$10)","v":15.5},1.31124751273035,-7.5310765362349638E-2,0.482829093744504,{"$f":"$K303*'Input and Output'!$C$30/SUM($K$2:$K$366)","v":0.51852982725476426}]
["2016-10-29",{"$f":"'Input and Output'!C337","v":9.8000000000000007},7,{"$f":"IF($C304<6,Lin_parameters_wd!B$9,Lin_parameters_wknd!B$10)","v":1.31124751273035},{"$f":"IF($C304<6,Lin_parameters_wd!C$9,Lin_parameters_wknd!C$10)","v":-7.5310765362349638E-2},{"$f":"IF($C304<6,Lin_parameters_wd!D$9,Lin_parameters_wknd!D$10)","v":0.29524473618599389},{"$f":"IF($C304<6,Lin_parameters_wd!E$9,Lin_parameters_wknd!E$10)","v":-9.762199133681506E-3},{"$f":"IF($C304<6,Lin_parameters_wd!F$9,Lin_parameters_wknd!F$10)","v":15.5},1.31124751273035,-7.5310765362349638E-2,0.57320201217932354,{"$f":"$K304*'Input and Output'!$C$30/SUM($K$2:$K$366)","v":0.61558498484912627}]
["2016-10-30",{"$f":"'Input and Output'!C338","v":8.6},1,{"$f":"IF($C305<6,Lin_parameters_wd!B$9,Lin_parameters_wknd!B$10)","v":1.771938814155029},{"$f":"IF($C305<6,Lin_parameters_wd!C$9,Lin_parameters_wknd!C$10)","v":-9.5984753200240996E-2},{"$f":"IF($C305<6,Lin_parameters_wd!D$9,Lin_parameters_wknd!D$10)","v":0.40699471377216029},{"$f":"IF($C305<6,Lin_parameters_wd!E$9,Lin_parameters_wknd!E$10)","v":-1.2756454396407539E-2},{"$f":"IF($C305<6,Lin_parameters_wd!F$9,Lin_parameters_wknd!F$10)","v":16.399999999999999},1.771938814155029,-9.5984753200240996E-2,0.94646993663295642,{"$f":"$K305*'Input and Output'!$C$30/SUM($K$2:$K$366)","v":1.0164526104630598}]
["2016-10-31",{"$f":"'Input and Output'!C339","v":9.8000000000000007},2,{"$f":"IF($C306<6,Lin_parameters_wd!B$9,Lin_parameters_wknd!B$10)","v":1.771938814155029},{"$f":"IF($C306<6,Lin_parameters_wd!C$9,Lin_parameters_wknd!C$10)","v":-9.5984753200240996E-2},{"$f":"IF($C306<6,Lin_parameters_wd!D$9,Lin_parameters_wknd!D$10)","v":0.40699471377216029},{"$f":"IF($C306<6,Lin_parameters_wd!E$9,Lin_parameters_wknd!E$10)","v":-1.2756454396407539E-2},{"$f":"IF($C306<6,Lin_parameters_wd!F$9,Lin_parameters_wknd!F$10)","v":16.399999999999999},1.771938814155029,-9.5984753200240996E-2,0.83128823279266717,{"$f":"$K306*'Input and Output'!$C$30/SUM($K$2:$K$366)","v":0.89275428787022326}]
["2016-11-01",{"$f":"'Input and Output'!C340","v":7.6},3,{"$f":"IF($C307<6,Lin_parameters_wd!B$9,Lin_parameters_wknd!B$10)","v":1.771938814155029},{"$f":"IF($C307<6,Lin_parameters_wd!C$9,Lin_parameters_wknd!C$10)","v":-9.5984753200240996E-2},{"$f":"IF($C307<6,Lin_parameters_wd!D$9,Lin_parameters_wknd!D$10)","v":0.40699471377216029},{"$f":"IF($C307<6,Lin_parameters_wd!E$9,Lin_parameters_wknd!E$10)","v":-1.2756454396407539E-2},{"$f":"IF($C307<6,Lin_parameters_wd!F$9,Lin_parameters_wknd!F$10)","v":16.399999999999999},1.771938814155029,-9.5984753200240996E-2,1.0424546898331974,{"$f":"$K307*'Input and Output'!$C$30/SUM($K$2:$K$366)","v":1.1195345459570902}]
["2016-11-02",{"$f":"'Input and Output'!C341","v":6.9},4,{"$f":"IF($C308<6,Lin_parameters_wd!B$9,Lin_parameters_wknd!B$10)","v":1.771938814155029},{"$f":"IF($C308<6,Lin_parameters_wd!C$9,Lin_parameters_wknd!C$10)","v":-9.5984753200240996E-2},{"$f":"IF($C308<6,Lin_parameters_wd!D$9,Lin_parameters_wknd!D$10)","v":0.40699471377216029},{"$f":"IF($C308<6,Lin_parameters_wd!E$9,Lin_parameters_wknd!E$10)","v":-1.2756454396407539E-2},{"$f":"IF($C308<6,Lin_parameters_wd!F$9,Lin_parameters_wknd!F$10)","v":16.399999999999999},1.771938814155029,-9.5984753200240996E-2,1.1096440170733661,{"$f":"$K308*'Input and Output'!$C$30/SUM($K$2:$K$366)","v":1.1916919008029114}]
["2016-11-03",{"$f":"'Input and Output'!C342","v":6.3},5,{"$f":"IF($C309<6,Lin_parameters_wd!B$9,Lin_parameters_wknd!B$10)","v":1.771938814155029},{"$f":"IF($C309<6,Lin_parameters_wd!C$9,Lin_parameters_wknd!C$10)","v":-9.5984753200240996E-2},{"$f":"IF($C309<6,Lin_parameters_wd!D$9,Lin_parameters_wknd!D$10)","v":0.40699471377216029},{"$f":"IF($C309<6,Lin_parameters_wd!E$9,Lin_parameters_wknd!E$10)","v":-1.2756454396407539E-2},{"$f":"IF($C309<6,Lin_parameters_wd!F$9,Lin_parameters_wknd!F$10)","v":16.399999999999999},1.771938814155029,-9.5984753200240996E-2,1.1672348689935106,{"$f":"$K309*'Input and Output'!$C$30/SUM($K$2:$K$366)","v":1.2535410620993297}]
["2016-11-04",{"$f":"'Input and Output'!C343","v":5.4},6,{"$f":"IF($C310<6,Lin_parameters_wd!B$9,Lin_parameters_wknd!B$10)","v":1.31124751273035},{"$f":"IF($C310<6,Lin_parameters_wd!C$9,Lin_parameters_wknd!C$10)","v":-7.5310765362349638E-2},{"$f":"IF($C310<6,Lin_parameters_wd!D$9,Lin_parameters_wknd!D$10)","v":0.29524473618599389},{"$f":"IF($C310<6,Lin_parameters_wd!E$9,Lin_parameters_wknd!E$10)","v":-9.762199133681506E-3},{"$f":"IF($C310<6,Lin_parameters_wd!F$9,Lin_parameters_wknd!F$10)","v":15.5},1.31124751273035,-7.5310765362349638E-2,0.90456937977366192,{"$f":"$K310*'Input and Output'!$C$30/SUM($K$2:$K$366)","v":0.97145389602845422}]
["2016-11-05",{"$f":"'Input and Output'!C344","v":6.5},7,{"$f":"IF($C311<6,Lin_parameters_wd!B$9,Lin_parameters_wknd!B$10)","v":1.31124751273035},{"$f":"IF($C311<6,Lin_parameters_wd!C$9,Lin_parameters_wknd!C$10)","v":-7.5310765362349638E-2},{"$f":"IF($C311<6,Lin_parameters_wd!D$9,Lin_parameters_wknd!D$10)","v":0.29524473618599389},{"$f":"IF($C311<6,Lin_parameters_wd!E$9,Lin_parameters_wknd!E$10)","v":-9.762199133681506E-3},{"$f":"IF($C311<6,Lin_parameters_wd!F$9,Lin_parameters_wknd!F$10)","v":15.5},1.31124751273035,-7.5310765362349638E-2,0.82172753787507735,{"$f":"$K311*'Input and Output'!$C$30/SUM($K$2:$K$366)","v":0.88248666823362221}]
["2016-11-06",{"$f":"'Input and Output'!C345","v":4.9000000000000004},1,{"$f":"IF($C312<6,Lin_parameters_wd!B$9,Lin_parameters_wknd!B$10)","v":1.771938814155029},{"$f":"IF($C312<6,Lin_parameters_wd!C$9,Lin_parameters_wknd!C$10)","v":-9.5984753200240996E-2},{"$f":"IF($C312<6,Lin_parameters_wd!D$9,Lin_parameters_wknd!D$10)","v":0.40699471377216029},{"$f":"IF($C312<6,Lin_parameters_wd!E$9,Lin_parameters_wknd!E$10)","v":-1.2756454396407539E-2},{"$f":"IF($C312<6,Lin_parameters_wd!F$9,Lin_parameters_wknd!F$10)","v":16.399999999999999},1.771938814155029,-9.5984753200240996E-2,1.301613523473848,{"$f":"$K312*'Input and Output'!$C$30/SUM($K$2:$K$366)","v":1.3978557717909723}]
["2016-11-07",{"$f":"'Input and Output'!C346","v":3.7},2,{"$f":"IF($C313<6,Lin_parameters_wd!B$9,Lin_parameters_wknd!B$10)","v":1.771938814155029},{"$f":"IF($C313<6,Lin_parameters_wd!C$9,Lin_parameters_wknd!C$10)","v":-9.5984753200240996E-2},{"$f":"IF($C313<6,Lin_parameters_wd!D$9,Lin_parameters_wknd!D$10)","v":0.40699471377216029},{"$f":"IF($C313<6,Lin_parameters_wd!E$9,Lin_parameters_wknd!E$10)","v":-1.2756454396407539E-2},{"$f":"IF($C313<6,Lin_parameters_wd!F$9,Lin_parameters_wknd!F$10)","v":16.399999999999999},1.771938814155029,-9.5984753200240996E-2,1.4167952273141373,{"$f":"$K313*'Input and Output'!$C$30/SUM($K$2:$K$366)","v":1.5215540943838088}]
["2016-11-08",{"$f":"'Input and Output'!C347","v":2.5},3,{"$f":"IF($C314<6,Lin_parameters_wd!B$9,Lin_parameters_wknd!B$10)","v":1.771938814155029},{"$f":"IF($C314<6,Lin_parameters_wd!C$9,Lin_parameters_wknd!C$10)","v":-9.5984753200240996E-2},{"$f":"IF($C314<6,Lin_parameters_wd!D$9,Lin_parameters_wknd!D$10)","v":0.40699471377216029},{"$f":"IF($C314<6,Lin_parameters_wd!E$9,Lin_parameters_wknd!E$10)","v":-1.2756454396407539E-2},{"$f":"IF($C314<6,Lin_parameters_wd!F$9,Lin_parameters_wknd!F$10)","v":16.399999999999999},1.771938814155029,-9.5984753200240996E-2,1.5319769311544265,{"$f":"$K314*'Input and Output'!$C$30/SUM($K$2:$K$366)","v":1.6452524169766456}]
["2016-11-09",{"$f":"'Input and Output'!C348","v":1.7},4,{"$f":"IF($C315<6,Lin_parameters_wd!B$9,Lin_parameters_wknd!B$10)","v":1.771938814155029},{"$f":"IF($C315<6,Lin_parameters_wd!C$9,Lin_parameters_wknd!C$10)","v":-9.5984753200240996E-2},{"$f":"IF($C315<6,Lin_parameters_wd!D$9,Lin_parameters_wknd!D$10)","v":0.40699471377216029},{"$f":"IF($C315<6,Lin_parameters_wd!E$9,Lin_parameters_wknd!E$10)","v":-1.2756454396407539E-2},{"$f":"IF($C315<6,Lin_parameters_wd!F$9,Lin_parameters_wknd!F$10)","v":16.399999999999999},1.771938814155029,-9.5984753200240996E-2,1.6087647337146194,{"$f":"$K315*'Input and Output'!$C$30/SUM($K$2:$K$366)","v":1.7277179653718699}]
["2016-11-10",{"$f":"'Input and Output'!C349","v":2.9},5,{"$f":"IF($C316<6,Lin_parameters_wd!B$9,Lin_parameters_wknd!B$10)","v":1.771938814155029},{"$f":"IF($C316<6,Lin_parameters_wd!C$9,Lin_parameters_wknd!C$10)","v":-9.5984753200240996E-2},{"$f":"IF($C316<6,Lin_parameters_wd!D$9,Lin_parameters_wknd!D$10)","v":0.40699471377216029},{"$f":"IF($C316<6,Lin_parameters_wd!E$9,Lin_parameters_wknd!E$10)","v":-1.2756454396407539E-2},{"$f":"IF($C316<6,Lin_parameters_wd!F$9,Lin_parameters_wknd!F$10)","v":16.399999999999999},1.771938814155029,-9.5984753200240996E-2,1.49358302987433,{"$f":"$K316*'Input and Output'!$C$30/SUM($K$2:$K$366)","v":1.6040196427790332}]
["2016-11-11",{"$f":"'Input and Output'!C350","v":2.7},6,{"$f":"IF($C317<6,Lin_parameters_wd!B$9,Lin_parameters_wknd!B$10)","v":1.31124751273035},{"$f":"IF($C317<6,Lin_parameters_wd!C$9,Lin_parameters_wknd!C$10)","v":-7.5310765362349638E-2},{"$f":"IF($C317<6,Lin_parameters_wd!D$9,Lin_parameters_wknd!D$10)","v":0.29524473618599389},{"$f":"IF($C317<6,Lin_parameters_wd!E$9,Lin_parameters_wknd!E$10)","v":-9.762199133681506E-3},{"$f":"IF($C317<6,Lin_parameters_wd!F$9,Lin_parameters_wknd!F$10)","v":15.5},1.31124751273035,-7.5310765362349638E-2,1.1079084462520059,{"$f":"$K317*'Input and Output'!$C$30/SUM($K$2:$K$366)","v":1.1898280006157689}]
["2016-11-12",{"$f":"'Input and Output'!C351","v":-0.1},7,{"$f":"IF($C318<6,Lin_parameters_wd!B$9,Lin_parameters_wknd!B$10)","v":1.31124751273035},{"$f":"IF($C318<6,Lin_parameters_wd!C$9,Lin_parameters_wknd!C$10)","v":-7.5310765362349638E-2},{"$f":"IF($C318<6,Lin_parameters_wd!D$9,Lin_parameters_wknd!D$10)","v":0.29524473618599389},{"$f":"IF($C318<6,Lin_parameters_wd!E$9,Lin_parameters_wknd!E$10)","v":-9.762199133681506E-3},{"$f":"IF($C318<6,Lin_parameters_wd!F$9,Lin_parameters_wknd!F$10)","v":15.5},1.31124751273035,-7.5310765362349638E-2,1.3187785892665849,{"$f":"$K318*'Input and Output'!$C$30/SUM($K$2:$K$366)","v":1.4162900350026137}]
["2016-11-13",{"$f":"'Input and Output'!C352","v":0.2},1,{"$f":"IF($C319<6,Lin_parameters_wd!B$9,Lin_parameters_wknd!B$10)","v":1.771938814155029},{"$f":"IF($C319<6,Lin_parameters_wd!C$9,Lin_parameters_wknd!C$10)","v":-9.5984753200240996E-2},{"$f":"IF($C319<6,Lin_parameters_wd!D$9,Lin_parameters_wknd!D$10)","v":0.40699471377216029},{"$f":"IF($C319<6,Lin_parameters_wd!E$9,Lin_parameters_wknd!E$10)","v":-1.2756454396407539E-2},{"$f":"IF($C319<6,Lin_parameters_wd!F$9,Lin_parameters_wknd!F$10)","v":16.399999999999999},1.771938814155029,-9.5984753200240996E-2,1.7527418635149807,{"$f":"$K319*'Input and Output'!$C$30/SUM($K$2:$K$366)","v":1.8823408686129157}]
["2016-11-14",{"$f":"'Input and Output'!C353","v":-0.4},2,{"$f":"IF($C320<6,Lin_parameters_wd!B$9,Lin_parameters_wknd!B$10)","v":1.771938814155029},{"$f":"IF($C320<6,Lin_parameters_wd!C$9,Lin_parameters_wknd!C$10)","v":-9.5984753200240996E-2},{"$f":"IF($C320<6,Lin_parameters_wd!D$9,Lin_parameters_wknd!D$10)","v":0.40699471377216029},{"$f":"IF($C320<6,Lin_parameters_wd!E$9,Lin_parameters_wknd!E$10)","v":-1.2756454396407539E-2},{"$f":"IF($C320<6,Lin_parameters_wd!F$9,Lin_parameters_wknd!F$10)","v":16.399999999999999},1.771938814155029,-9.5984753200240996E-2,1.8103327154351254,{"$f":"$K320*'Input and Output'!$C$30/SUM($K$2:$K$366)","v":1.9441900299093338}]
["2016-11-15",{"$f":"'Input and Output'!C354","v":1.7},3,{"$f":"IF($C321<6,Lin_parameters_wd!B$9,Lin_parameters_wknd!B$10)","v":1.771938814155029},{"$f":"IF($C321<6,Lin_parameters_wd!C$9,Lin_parameters_wknd!C$10)","v":-9.5984753200240996E-2},{"$f":"IF($C321<6,Lin_parameters_wd!D$9,Lin_parameters_wknd!D$10)","v":0.40699471377216029},{"$f":"IF($C321<6,Lin_parameters_wd!E$9,Lin_parameters_wknd!E$10)","v":-1.2756454396407539E-2},{"$f":"IF($C321<6,Lin_parameters_wd!F$9,Lin_parameters_wknd!F$10)","v":16.399999999999999},1.771938814155029,-9.5984753200240996E-2,1.6087647337146194,{"$f":"$K321*'Input and Output'!$C$30/SUM($K$2:$K$366)","v":1.7277179653718699}]
["2016-11-16",{"$f":"'Input and Output'!C355","v":7.1},{"$f":"WEEKDAY(A322)","v":4},{"$f":"IF($C322<6,Lin_parameters_wd!B$9,Lin_parameters_wknd!B$10)","v":1.771938814155029},{"$f":"IF($C322<6,Lin_parameters_wd!C$9,Lin_parameters_wknd!C$10)","v":-9.5984753200240996E-2},{"$f":"IF($C322<6,Lin_parameters_wd!D$9,Lin_parameters_wknd!D$10)","v":0.40699471377216029},{"$f":"IF($C322<6,Lin_parameters_wd!E$9,Lin_parameters_wknd!E$10)","v":-1.2756454396407539E-2},{"$f":"IF($C322<6,Lin_parameters_wd!F$9,Lin_parameters_wknd!F$10)","v":16.399999999999999},1.771938814155029,-9.5984753200240996E-2,1.0904470664333179,{"$f":"$K322*'Input and Output'!$C$30/SUM($K$2:$K$366)","v":1.1710755137041056}]
["2016-11-17",{"$f":"'Input and Output'!C356","v":9.4},5,{"$f":"IF($C323<6,Lin_parameters_wd!B$9,Lin_parameters_wknd!B$10)","v":1.771938814155029},{"$f":"IF($C323<6,Lin_parameters_wd!C$9,Lin_parameters_wknd!C$10)","v":-9.5984753200240996E-2},{"$f":"IF($C323<6,Lin_parameters_wd!D$9,Lin_parameters_wknd!D$10)","v":0.40699471377216029},{"$f":"IF($C323<6,Lin_parameters_wd!E$9,Lin_parameters_wknd!E$10)","v":-1.2756454396407539E-2},{"$f":"IF($C323<6,Lin_parameters_wd!F$9,Lin_parameters_wknd!F$10)","v":16.399999999999999},{"$f":"IF($B323<$H323,$D323,$F323)","v":1.771938814155029},{"$f":"IF($B323<$H323,$E323,$G323)","v":-9.5984753200240996E-2},{"$f":"MAX($I323+$J323*$B323,0)","v":0.86968213407276351},{"$f":"$K323*'Input and Output'!$C$30/SUM($K$2:$K$366)","v":0.93398706206783522}]
[{"$f":"A323+1","v":"2016-11-18"},{"$f":"'Input and Output'!C357","v":8.1999999999999993},6,{"$f":"IF($C324<6,Lin_parameters_wd!B$9,Lin_parameters_wknd!B$10)","v":1.31124751273035},{"$f":"IF($C324<6,Lin_parameters_wd!C$9,Lin_parameters_wknd!C$10)","v":-7.5310765362349638E-2},{"$f":"IF($C324<6,Lin_parameters_wd!D$9,Lin_parameters_wknd!D$10)","v":0.29524473618599389},{"$f":"IF($C324<6,Lin_parameters_wd!E$9,Lin_parameters_wknd!E$10)","v":-9.762199133681506E-3},{"$f":"IF($C324<6,Lin_parameters_wd!F$9,Lin_parameters_wknd!F$10)","v":15.5},1.31124751273035,-7.5310765362349638E-2,0.69369923675908307,{"$f":"$K324*'Input and Output'!$C$30/SUM($K$2:$K$366)","v":0.74499186164160924}]
["2016-11-19",{"$f":"'Input and Output'!C358","v":5.4},7,{"$f":"IF($C325<6,Lin_parameters_wd!B$9,Lin_parameters_wknd!B$10)","v":1.31124751273035},{"$f":"IF($C325<6,Lin_parameters_wd!C$9,Lin_parameters_wknd!C$10)","v":-7.5310765362349638E-2},{"$f":"IF($C325<6,Lin_parameters_wd!D$9,Lin_parameters_wknd!D$10)","v":0.29524473618599389},{"$f":"IF($C325<6,Lin_parameters_wd!E$9,Lin_parameters_wknd!E$10)","v":-9.762199133681506E-3},{"$f":"IF($C325<6,Lin_parameters_wd!F$9,Lin_parameters_wknd!F$10)","v":15.5},1.31124751273035,-7.5310765362349638E-2,0.90456937977366192,{"$f":"$K325*'Input and Output'!$C$30/SUM($K$2:$K$366)","v":0.97145389602845422}]
["2016-11-20",{"$f":"'Input and Output'!C359","v":8.8000000000000007},1,{"$f":"IF($C326<6,Lin_parameters_wd!B$9,Lin_parameters_wknd!B$10)","v":1.771938814155029},{"$f":"IF($C326<6,Lin_parameters_wd!C$9,Lin_parameters_wknd!C$10)","v":-9.5984753200240996E-2},{"$f":"IF($C326<6,Lin_parameters_wd!D$9,Lin_parameters_wknd!D$10)","v":0.40699471377216029},{"$f":"IF($C326<6,Lin_parameters_wd!E$9,Lin_parameters_wknd!E$10)","v":-1.2756454396407539E-2},{"$f":"IF($C326<6,Lin_parameters_wd!F$9,Lin_parameters_wknd!F$10)","v":16.399999999999999},1.771938814155029,-9.5984753200240996E-2,0.92727298599290808,{"$f":"$K326*'Input and Output'!$C$30/SUM($K$2:$K$366)","v":0.99583622336425348}]
["2016-11-21",{"$f":"'Input and Output'!C360","v":11.6},2,{"$f":"IF($C327<6,Lin_parameters_wd!B$9,Lin_parameters_wknd!B$10)","v":1.771938814155029},{"$f":"IF($C327<6,Lin_parameters_wd!C$9,Lin_parameters_wknd!C$10)","v":-9.5984753200240996E-2},{"$f":"IF($C327<6,Lin_parameters_wd!D$9,Lin_parameters_wknd!D$10)","v":0.40699471377216029},{"$f":"IF($C327<6,Lin_parameters_wd!E$9,Lin_parameters_wknd!E$10)","v":-1.2756454396407539E-2},{"$f":"IF($C327<6,Lin_parameters_wd!F$9,Lin_parameters_wknd!F$10)","v":16.399999999999999},1.771938814155029,-9.5984753200240996E-2,0.65851567703223335,{"$f":"$K327*'Input and Output'!$C$30/SUM($K$2:$K$366)","v":0.70720680398096847}]
["2016-11-22",{"$f":"'Input and Output'!C361","v":9.9},3,{"$f":"IF($C328<6,Lin_parameters_wd!B$9,Lin_parameters_wknd!B$10)","v":1.771938814155029},{"$f":"IF($C328<6,Lin_parameters_wd!C$9,Lin_parameters_wknd!C$10)","v":-9.5984753200240996E-2},{"$f":"IF($C328<6,Lin_parameters_wd!D$9,Lin_parameters_wknd!D$10)","v":0.40699471377216029},{"$f":"IF($C328<6,Lin_parameters_wd!E$9,Lin_parameters_wknd!E$10)","v":-1.2756454396407539E-2},{"$f":"IF($C328<6,Lin_parameters_wd!F$9,Lin_parameters_wknd!F$10)","v":16.399999999999999},1.771938814155029,-9.5984753200240996E-2,0.82168975747264306,{"$f":"$K328*'Input and Output'!$C$30/SUM($K$2:$K$366)","v":0.88244609432082011}]
["2016-11-23",{"$f":"'Input and Output'!C362","v":8.6999999999999993},4,{"$f":"IF($C329<6,Lin_parameters_wd!B$9,Lin_parameters_wknd!B$10)","v":1.771938814155029},{"$f":"IF($C329<6,Lin_parameters_wd!C$9,Lin_parameters_wknd!C$10)","v":-9.5984753200240996E-2},{"$f":"IF($C329<6,Lin_parameters_wd!D$9,Lin_parameters_wknd!D$10)","v":0.40699471377216029},{"$f":"IF($C329<6,Lin_parameters_wd!E$9,Lin_parameters_wknd!E$10)","v":-1.2756454396407539E-2},{"$f":"IF($C329<6,Lin_parameters_wd!F$9,Lin_parameters_wknd!F$10)","v":16.399999999999999},1.771938814155029,-9.5984753200240996E-2,0.93687146131293231,{"$f":"$K329*'Input and Output'!$C$30/SUM($K$2:$K$366)","v":1.0061444169136569}]
["2016-11-24",{"$f":"'Input and Output'!C363","v":8.6999999999999993},5,{"$f":"IF($C330<6,Lin_parameters_wd!B$9,Lin_parameters_wknd!B$10)","v":1.771938814155029},{"$f":"IF($C330<6,Lin_parameters_wd!C$9,Lin_parameters_wknd!C$10)","v":-9.5984753200240996E-2},{"$f":"IF($C330<6,Lin_parameters_wd!D$9,Lin_parameters_wknd!D$10)","v":0.40699471377216029},{"$f":"IF($C330<6,Lin_parameters_wd!E$9,Lin_parameters_wknd!E$10)","v":-1.2756454396407539E-2},{"$f":"IF($C330<6,Lin_parameters_wd!F$9,Lin_parameters_wknd!F$10)","v":16.399999999999999},1.771938814155029,-9.5984753200240996E-2,0.93687146131293231,{"$f":"$K330*'Input and Output'!$C$30/SUM($K$2:$K$366)","v":1.0061444169136569}]
["2016-11-25",{"$f":"'Input and Output'!C364","v":4},6,{"$f":"IF($C331<6,Lin_parameters_wd!B$9,Lin_parameters_wknd!B$10)","v":1.31124751273035},{"$f":"IF($C331<6,Lin_parameters_wd!C$9,Lin_parameters_wknd!C$10)","v":-7.5310765362349638E-2},{"$f":"IF($C331<6,Lin_parameters_wd!D$9,Lin_parameters_wknd!D$10)","v":0.29524473618599389},{"$f":"IF($C331<6,Lin_parameters_wd!E$9,Lin_parameters_wknd!E$10)","v":-9.762199133681506E-3},{"$f":"IF($C331<6,Lin_parameters_wd!F$9,Lin_parameters_wknd!F$10)","v":15.5},1.31124751273035,-7.5310765362349638E-2,1.0100044512809514,{"$f":"$K331*'Input and Output'!$C$30/SUM($K$2:$K$366)","v":1.0846849132218765}]
["2016-11-26",{"$f":"'Input and Output'!C365","v":1},7,{"$f":"IF($C332<6,Lin_parameters_wd!B$9,Lin_parameters_wknd!B$10)","v":1.31124751273035},{"$f":"IF($C332<6,Lin_parameters_wd!C$9,Lin_parameters_wknd!C$10)","v":-7.5310765362349638E-2},{"$f":"IF($C332<6,Lin_parameters_wd!D$9,Lin_parameters_wknd!D$10)","v":0.29524473618599389},{"$f":"IF($C332<6,Lin_parameters_wd!E$9,Lin_parameters_wknd!E$10)","v":-9.762199133681506E-3},{"$f":"IF($C332<6,Lin_parameters_wd!F$9,Lin_parameters_wknd!F$10)","v":15.5},1.31124751273035,-7.5310765362349638E-2,1.2359367473680003,{"$f":"$K332*'Input and Output'!$C$30/SUM($K$2:$K$366)","v":1.3273228072077818}]
["2016-11-27",{"$f":"'Input and Output'!C366","v":2.6},1,{"$f":"IF($C333<6,Lin_parameters_wd!B$9,Lin_parameters_wknd!B$10)","v":1.771938814155029},{"$f":"IF($C333<6,Lin_parameters_wd!C$9,Lin_parameters_wknd!C$10)","v":-9.5984753200240996E-2},{"$f":"IF($C333<6,Lin_parameters_wd!D$9,Lin_parameters_wknd!D$10)","v":0.40699471377216029},{"$f":"IF($C333<6,Lin_parameters_wd!E$9,Lin_parameters_wknd!E$10)","v":-1.2756454396407539E-2},{"$f":"IF($C333<6,Lin_parameters_wd!F$9,Lin_parameters_wknd!F$10)","v":16.399999999999999},1.771938814155029,-9.5984753200240996E-2,1.5223784558344025,{"$f":"$K333*'Input and Output'!$C$30/SUM($K$2:$K$366)","v":1.6349442234272424}]
["2016-11-28",{"$f":"'Input and Output'!C367","v":-0.9},2,{"$f":"IF($C334<6,Lin_parameters_wd!B$9,Lin_parameters_wknd!B$10)","v":1.771938814155029},{"$f":"IF($C334<6,Lin_parameters_wd!C$9,Lin_parameters_wknd!C$10)","v":-9.5984753200240996E-2},{"$f":"IF($C334<6,Lin_parameters_wd!D$9,Lin_parameters_wknd!D$10)","v":0.40699471377216029},{"$f":"IF($C334<6,Lin_parameters_wd!E$9,Lin_parameters_wknd!E$10)","v":-1.2756454396407539E-2},{"$f":"IF($C334<6,Lin_parameters_wd!F$9,Lin_parameters_wknd!F$10)","v":16.399999999999999},1.771938814155029,-9.5984753200240996E-2,1.8583250920352459,{"$f":"$K334*'Input and Output'!$C$30/SUM($K$2:$K$366)","v":1.9957309976563491}]
["2016-11-29",{"$f":"'Input and Output'!C368","v":-3.2},3,{"$f":"IF($C335<6,Lin_parameters_wd!B$9,Lin_parameters_wknd!B$10)","v":1.771938814155029},{"$f":"IF($C335<6,Lin_parameters_wd!C$9,Lin_parameters_wknd!C$10)","v":-9.5984753200240996E-2},{"$f":"IF($C335<6,Lin_parameters_wd!D$9,Lin_parameters_wknd!D$10)","v":0.40699471377216029},{"$f":"IF($C335<6,Lin_parameters_wd!E$9,Lin_parameters_wknd!E$10)","v":-1.2756454396407539E-2},{"$f":"IF($C335<6,Lin_parameters_wd!F$9,Lin_parameters_wknd!F$10)","v":16.399999999999999},1.771938814155029,-9.5984753200240996E-2,2.0790900243957999,{"$f":"$K335*'Input and Output'!$C$30/SUM($K$2:$K$366)","v":2.2328194492926188}]
["2016-11-30",{"$f":"'Input and Output'!C369","v":-1.3},4,{"$f":"IF($C336<6,Lin_parameters_wd!B$9,Lin_parameters_wknd!B$10)","v":1.771938814155029},{"$f":"IF($C336<6,Lin_parameters_wd!C$9,Lin_parameters_wknd!C$10)","v":-9.5984753200240996E-2},{"$f":"IF($C336<6,Lin_parameters_wd!D$9,Lin_parameters_wknd!D$10)","v":0.40699471377216029},{"$f":"IF($C336<6,Lin_parameters_wd!E$9,Lin_parameters_wknd!E$10)","v":-1.2756454396407539E-2},{"$f":"IF($C336<6,Lin_parameters_wd!F$9,Lin_parameters_wknd!F$10)","v":16.399999999999999},1.771938814155029,-9.5984753200240996E-2,1.8967189933153423,{"$f":"$K336*'Input and Output'!$C$30/SUM($K$2:$K$366)","v":2.0369637718539613}]
["2016-12-01",{"$f":"'Input and Output'!C370","v":5},5,{"$f":"IF($C337<6,Lin_parameters_wd!B$9,Lin_parameters_wknd!B$10)","v":1.771938814155029},{"$f":"IF($C337<6,Lin_parameters_wd!C$9,Lin_parameters_wknd!C$10)","v":-9.5984753200240996E-2},{"$f":"IF($C337<6,Lin_parameters_wd!D$9,Lin_parameters_wknd!D$10)","v":0.40699471377216029},{"$f":"IF($C337<6,Lin_parameters_wd!E$9,Lin_parameters_wknd!E$10)","v":-1.2756454396407539E-2},{"$f":"IF($C337<6,Lin_parameters_wd!F$9,Lin_parameters_wknd!F$10)","v":16.399999999999999},1.771938814155029,-9.5984753200240996E-2,1.292015048153824,{"$f":"$K337*'Input and Output'!$C$30/SUM($K$2:$K$366)","v":1.3875475782415692}]
["2016-12-02",{"$f":"'Input and Output'!C371","v":4.5999999999999996},6,{"$f":"IF($C338<6,Lin_parameters_wd!B$9,Lin_parameters_wknd!B$10)","v":1.31124751273035},{"$f":"IF($C338<6,Lin_parameters_wd!C$9,Lin_parameters_wknd!C$10)","v":-7.5310765362349638E-2},{"$f":"IF($C338<6,Lin_parameters_wd!D$9,Lin_parameters_wknd!D$10)","v":0.29524473618599389},{"$f":"IF($C338<6,Lin_parameters_wd!E$9,Lin_parameters_wknd!E$10)","v":-9.762199133681506E-3},{"$f":"IF($C338<6,Lin_parameters_wd!F$9,Lin_parameters_wknd!F$10)","v":15.5},1.31124751273035,-7.5310765362349638E-2,0.96481799206354169,{"$f":"$K338*'Input and Output'!$C$30/SUM($K$2:$K$366)","v":1.0361573344246957}]
["2016-12-03",{"$f":"'Input and Output'!C372","v":-3.1},7,{"$f":"IF($C339<6,Lin_parameters_wd!B$9,Lin_parameters_wknd!B$10)","v":1.31124751273035},{"$f":"IF($C339<6,Lin_parameters_wd!C$9,Lin_parameters_wknd!C$10)","v":-7.5310765362349638E-2},{"$f":"IF($C339<6,Lin_parameters_wd!D$9,Lin_parameters_wknd!D$10)","v":0.29524473618599389},{"$f":"IF($C339<6,Lin_parameters_wd!E$9,Lin_parameters_wknd!E$10)","v":-9.762199133681506E-3},{"$f":"IF($C339<6,Lin_parameters_wd!F$9,Lin_parameters_wknd!F$10)","v":15.5},1.31124751273035,-7.5310765362349638E-2,1.5447108853536338,{"$f":"$K339*'Input and Output'!$C$30/SUM($K$2:$K$366)","v":1.6589279289885193}]
["2016-12-04",{"$f":"'Input and Output'!C373","v":-4.5},1,{"$f":"IF($C340<6,Lin_parameters_wd!B$9,Lin_parameters_wknd!B$10)","v":1.771938814155029},{"$f":"IF($C340<6,Lin_parameters_wd!C$9,Lin_parameters_wknd!C$10)","v":-9.5984753200240996E-2},{"$f":"IF($C340<6,Lin_parameters_wd!D$9,Lin_parameters_wknd!D$10)","v":0.40699471377216029},{"$f":"IF($C340<6,Lin_parameters_wd!E$9,Lin_parameters_wknd!E$10)","v":-1.2756454396407539E-2},{"$f":"IF($C340<6,Lin_parameters_wd!F$9,Lin_parameters_wknd!F$10)","v":16.399999999999999},1.771938814155029,-9.5984753200240996E-2,2.2038702035561135,{"$f":"$K340*'Input and Output'!$C$30/SUM($K$2:$K$366)","v":2.3668259654348587}]
["2016-12-05",{"$f":"'Input and Output'!C374","v":-3.9},2,{"$f":"IF($C341<6,Lin_parameters_wd!B$9,Lin_parameters_wknd!B$10)","v":1.771938814155029},{"$f":"IF($C341<6,Lin_parameters_wd!C$9,Lin_parameters_wknd!C$10)","v":-9.5984753200240996E-2},{"$f":"IF($C341<6,Lin_parameters_wd!D$9,Lin_parameters_wknd!D$10)","v":0.40699471377216029},{"$f":"IF($C341<6,Lin_parameters_wd!E$9,Lin_parameters_wknd!E$10)","v":-1.2756454396407539E-2},{"$f":"IF($C341<6,Lin_parameters_wd!F$9,Lin_parameters_wknd!F$10)","v":16.399999999999999},1.771938814155029,-9.5984753200240996E-2,2.1462793516359691,{"$f":"$K341*'Input and Output'!$C$30/SUM($K$2:$K$366)","v":2.3049768041384402}]
["2016-12-06",{"$f":"'Input and Output'!C375","v":-3},3,{"$f":"IF($C342<6,Lin_parameters_wd!B$9,Lin_parameters_wknd!B$10)","v":1.771938814155029},{"$f":"IF($C342<6,Lin_parameters_wd!C$9,Lin_parameters_wknd!C$10)","v":-9.5984753200240996E-2},{"$f":"IF($C342<6,Lin_parameters_wd!D$9,Lin_parameters_wknd!D$10)","v":0.40699471377216029},{"$f":"IF($C342<6,Lin_parameters_wd!E$9,Lin_parameters_wknd!E$10)","v":-1.2756454396407539E-2},{"$f":"IF($C342<6,Lin_parameters_wd!F$9,Lin_parameters_wknd!F$10)","v":16.399999999999999},1.771938814155029,-9.5984753200240996E-2,2.0598930737557519,{"$f":"$K342*'Input and Output'!$C$30/SUM($K$2:$K$366)","v":2.2122030621938129}]
["2016-12-07",{"$f":"'Input and Output'!C376","v":-1.5},4,{"$f":"IF($C343<6,Lin_parameters_wd!B$9,Lin_parameters_wknd!B$10)","v":1.771938814155029},{"$f":"IF($C343<6,Lin_parameters_wd!C$9,Lin_parameters_wknd!C$10)","v":-9.5984753200240996E-2},{"$f":"IF($C343<6,Lin_parameters_wd!D$9,Lin_parameters_wknd!D$10)","v":0.40699471377216029},{"$f":"IF($C343<6,Lin_parameters_wd!E$9,Lin_parameters_wknd!E$10)","v":-1.2756454396407539E-2},{"$f":"IF($C343<6,Lin_parameters_wd!F$9,Lin_parameters_wknd!F$10)","v":16.399999999999999},1.771938814155029,-9.5984753200240996E-2,1.9159159439553903,{"$f":"$K343*'Input and Output'!$C$30/SUM($K$2:$K$366)","v":2.0575801589527671}]
["2016-12-08",{"$f":"'Input and Output'!C377","v":0.1},5,{"$f":"IF($C344<6,Lin_parameters_wd!B$9,Lin_parameters_wknd!B$10)","v":1.771938814155029},{"$f":"IF($C344<6,Lin_parameters_wd!C$9,Lin_parameters_wknd!C$10)","v":-9.5984753200240996E-2},{"$f":"IF($C344<6,Lin_parameters_wd!D$9,Lin_parameters_wknd!D$10)","v":0.40699471377216029},{"$f":"IF($C344<6,Lin_parameters_wd!E$9,Lin_parameters_wknd!E$10)","v":-1.2756454396407539E-2},{"$f":"IF($C344<6,Lin_parameters_wd!F$9,Lin_parameters_wknd!F$10)","v":16.399999999999999},1.771938814155029,-9.5984753200240996E-2,1.762340338835005,{"$f":"$K344*'Input and Output'!$C$30/SUM($K$2:$K$366)","v":1.8926490621623187}]
["2016-12-09",{"$f":"'Input and Output'!C378","v":3.1},6,{"$f":"IF($C345<6,Lin_parameters_wd!B$9,Lin_parameters_wknd!B$10)","v":1.31124751273035},{"$f":"IF($C345<6,Lin_parameters_wd!C$9,Lin_parameters_wknd!C$10)","v":-7.5310765362349638E-2},{"$f":"IF($C345<6,Lin_parameters_wd!D$9,Lin_parameters_wknd!D$10)","v":0.29524473618599389},{"$f":"IF($C345<6,Lin_parameters_wd!E$9,Lin_parameters_wknd!E$10)","v":-9.762199133681506E-3},{"$f":"IF($C345<6,Lin_parameters_wd!F$9,Lin_parameters_wknd!F$10)","v":15.5},1.31124751273035,-7.5310765362349638E-2,1.0777841401070662,{"$f":"$K345*'Input and Output'!$C$30/SUM($K$2:$K$366)","v":1.1574762814176485}]
["2016-12-10",{"$f":"'Input and Output'!C379","v":5.4},7,{"$f":"IF($C346<6,Lin_parameters_wd!B$9,Lin_parameters_wknd!B$10)","v":1.31124751273035},{"$f":"IF($C346<6,Lin_parameters_wd!C$9,Lin_parameters_wknd!C$10)","v":-7.5310765362349638E-2},{"$f":"IF($C346<6,Lin_parameters_wd!D$9,Lin_parameters_wknd!D$10)","v":0.29524473618599389},{"$f":"IF($C346<6,Lin_parameters_wd!E$9,Lin_parameters_wknd!E$10)","v":-9.762199133681506E-3},{"$f":"IF($C346<6,Lin_parameters_wd!F$9,Lin_parameters_wknd!F$10)","v":15.5},1.31124751273035,-7.5310765362349638E-2,0.90456937977366192,{"$f":"$K346*'Input and Output'!$C$30/SUM($K$2:$K$366)","v":0.97145389602845422}]
["2016-12-11",{"$f":"'Input and Output'!C380","v":6.9},1,{"$f":"IF($C347<6,Lin_parameters_wd!B$9,Lin_parameters_wknd!B$10)","v":1.771938814155029},{"$f":"IF($C347<6,Lin_parameters_wd!C$9,Lin_parameters_wknd!C$10)","v":-9.5984753200240996E-2},{"$f":"IF($C347<6,Lin_parameters_wd!D$9,Lin_parameters_wknd!D$10)","v":0.40699471377216029},{"$f":"IF($C347<6,Lin_parameters_wd!E$9,Lin_parameters_wknd!E$10)","v":-1.2756454396407539E-2},{"$f":"IF($C347<6,Lin_parameters_wd!F$9,Lin_parameters_wknd!F$10)","v":16.399999999999999},1.771938814155029,-9.5984753200240996E-2,1.1096440170733661,{"$f":"$K347*'Input and Output'!$C$30/SUM($K$2:$K$366)","v":1.1916919008029114}]
["2016-12-12",{"$f":"'Input and Output'!C381","v":7},2,{"$f":"IF($C348<6,Lin_parameters_wd!B$9,Lin_parameters_wknd!B$10)","v":1.771938814155029},{"$f":"IF($C348<6,Lin_parameters_wd!C$9,Lin_parameters_wknd!C$10)","v":-9.5984753200240996E-2},{"$f":"IF($C348<6,Lin_parameters_wd!D$9,Lin_parameters_wknd!D$10)","v":0.40699471377216029},{"$f":"IF($C348<6,Lin_parameters_wd!E$9,Lin_parameters_wknd!E$10)","v":-1.2756454396407539E-2},{"$f":"IF($C348<6,Lin_parameters_wd!F$9,Lin_parameters_wknd!F$10)","v":16.399999999999999},1.771938814155029,-9.5984753200240996E-2,1.1000455417533419,{"$f":"$K348*'Input and Output'!$C$30/SUM($K$2:$K$366)","v":1.1813837072535085}]
["2016-12-13",{"$f":"'Input and Output'!C382","v":4.4000000000000004},3,{"$f":"IF($C349<6,Lin_parameters_wd!B$9,Lin_parameters_wknd!B$10)","v":1.771938814155029},{"$f":"IF($C349<6,Lin_parameters_wd!C$9,Lin_parameters_wknd!C$10)","v":-9.5984753200240996E-2},{"$f":"IF($C349<6,Lin_parameters_wd!D$9,Lin_parameters_wknd!D$10)","v":0.40699471377216029},{"$f":"IF($C349<6,Lin_parameters_wd!E$9,Lin_parameters_wknd!E$10)","v":-1.2756454396407539E-2},{"$f":"IF($C349<6,Lin_parameters_wd!F$9,Lin_parameters_wknd!F$10)","v":16.399999999999999},1.771938814155029,-9.5984753200240996E-2,1.3496059000739686,{"$f":"$K349*'Input and Output'!$C$30/SUM($K$2:$K$366)","v":1.4493967395379879}]
["2016-12-14",{"$f":"'Input and Output'!C383","v":5},4,{"$f":"IF($C350<6,Lin_parameters_wd!B$9,Lin_parameters_wknd!B$10)","v":1.771938814155029},{"$f":"IF($C350<6,Lin_parameters_wd!C$9,Lin_parameters_wknd!C$10)","v":-9.5984753200240996E-2},{"$f":"IF($C350<6,Lin_parameters_wd!D$9,Lin_parameters_wknd!D$10)","v":0.40699471377216029},{"$f":"IF($C350<6,Lin_parameters_wd!E$9,Lin_parameters_wknd!E$10)","v":-1.2756454396407539E-2},{"$f":"IF($C350<6,Lin_parameters_wd!F$9,Lin_parameters_wknd!F$10)","v":16.399999999999999},1.771938814155029,-9.5984753200240996E-2,1.292015048153824,{"$f":"$K350*'Input and Output'!$C$30/SUM($K$2:$K$366)","v":1.3875475782415692}]
["2016-12-15",{"$f":"'Input and Output'!C384","v":5.4},5,{"$f":"IF($C351<6,Lin_parameters_wd!B$9,Lin_parameters_wknd!B$10)","v":1.771938814155029},{"$f":"IF($C351<6,Lin_parameters_wd!C$9,Lin_parameters_wknd!C$10)","v":-9.5984753200240996E-2},{"$f":"IF($C351<6,Lin_parameters_wd!D$9,Lin_parameters_wknd!D$10)","v":0.40699471377216029},{"$f":"IF($C351<6,Lin_parameters_wd!E$9,Lin_parameters_wknd!E$10)","v":-1.2756454396407539E-2},{"$f":"IF($C351<6,Lin_parameters_wd!F$9,Lin_parameters_wknd!F$10)","v":16.399999999999999},1.771938814155029,-9.5984753200240996E-2,1.2536211468737275,{"$f":"$K351*'Input and Output'!$C$30/SUM($K$2:$K$366)","v":1.3463148040439572}]
["2016-12-16",{"$f":"'Input and Output'!C385","v":2.5},6,{"$f":"IF($C352<6,Lin_parameters_wd!B$9,Lin_parameters_wknd!B$10)","v":1.31124751273035},{"$f":"IF($C352<6,Lin_parameters_wd!C$9,Lin_parameters_wknd!C$10)","v":-7.5310765362349638E-2},{"$f":"IF($C352<6,Lin_parameters_wd!D$9,Lin_parameters_wknd!D$10)","v":0.29524473618599389},{"$f":"IF($C352<6,Lin_parameters_wd!E$9,Lin_parameters_wknd!E$10)","v":-9.762199133681506E-3},{"$f":"IF($C352<6,Lin_parameters_wd!F$9,Lin_parameters_wknd!F$10)","v":15.5},1.31124751273035,-7.5310765362349638E-2,1.1229705993244758,{"$f":"$K352*'Input and Output'!$C$30/SUM($K$2:$K$366)","v":1.2060038602148293}]
["2016-12-17",{"$f":"'Input and Output'!C386","v":0.4},7,{"$f":"IF($C353<6,Lin_parameters_wd!B$9,Lin_parameters_wknd!B$10)","v":1.31124751273035},{"$f":"IF($C353<6,Lin_parameters_wd!C$9,Lin_parameters_wknd!C$10)","v":-7.5310765362349638E-2},{"$f":"IF($C353<6,Lin_parameters_wd!D$9,Lin_parameters_wknd!D$10)","v":0.29524473618599389},{"$f":"IF($C353<6,Lin_parameters_wd!E$9,Lin_parameters_wknd!E$10)","v":-9.762199133681506E-3},{"$f":"IF($C353<6,Lin_parameters_wd!F$9,Lin_parameters_wknd!F$10)","v":15.5},1.31124751273035,-7.5310765362349638E-2,1.2811232065854101,{"$f":"$K353*'Input and Output'!$C$30/SUM($K$2:$K$366)","v":1.3758503860049629}]
["2016-12-18",{"$f":"'Input and Output'!C387","v":3.2},1,{"$f":"IF($C354<6,Lin_parameters_wd!B$9,Lin_parameters_wknd!B$10)","v":1.771938814155029},{"$f":"IF($C354<6,Lin_parameters_wd!C$9,Lin_parameters_wknd!C$10)","v":-9.5984753200240996E-2},{"$f":"IF($C354<6,Lin_parameters_wd!D$9,Lin_parameters_wknd!D$10)","v":0.40699471377216029},{"$f":"IF($C354<6,Lin_parameters_wd!E$9,Lin_parameters_wknd!E$10)","v":-1.2756454396407539E-2},{"$f":"IF($C354<6,Lin_parameters_wd!F$9,Lin_parameters_wknd!F$10)","v":16.399999999999999},1.771938814155029,-9.5984753200240996E-2,1.4647876039142578,{"$f":"$K354*'Input and Output'!$C$30/SUM($K$2:$K$366)","v":1.5730950621308242}]
["2016-12-19",{"$f":"'Input and Output'!C388","v":3.1},2,{"$f":"IF($C355<6,Lin_parameters_wd!B$9,Lin_parameters_wknd!B$10)","v":1.771938814155029},{"$f":"IF($C355<6,Lin_parameters_wd!C$9,Lin_parameters_wknd!C$10)","v":-9.5984753200240996E-2},{"$f":"IF($C355<6,Lin_parameters_wd!D$9,Lin_parameters_wknd!D$10)","v":0.40699471377216029},{"$f":"IF($C355<6,Lin_parameters_wd!E$9,Lin_parameters_wknd!E$10)","v":-1.2756454396407539E-2},{"$f":"IF($C355<6,Lin_parameters_wd!F$9,Lin_parameters_wknd!F$10)","v":16.399999999999999},1.771938814155029,-9.5984753200240996E-2,1.4743860792342818,{"$f":"$K355*'Input and Output'!$C$30/SUM($K$2:$K$366)","v":1.5834032556802271}]
["2016-12-20",{"$f":"'Input and Output'!C389","v":-0.9},3,{"$f":"IF($C356<6,Lin_parameters_wd!B$9,Lin_parameters_wknd!B$10)","v":1.771938814155029},{"$f":"IF($C356<6,Lin_parameters_wd!C$9,Lin_parameters_wknd!C$10)","v":-9.5984753200240996E-2},{"$f":"IF($C356<6,Lin_parameters_wd!D$9,Lin_parameters_wknd!D$10)","v":0.40699471377216029},{"$f":"IF($C356<6,Lin_parameters_wd!E$9,Lin_parameters_wknd!E$10)","v":-1.2756454396407539E-2},{"$f":"IF($C356<6,Lin_parameters_wd!F$9,Lin_parameters_wknd!F$10)","v":16.399999999999999},1.771938814155029,-9.5984753200240996E-2,1.8583250920352459,{"$f":"$K356*'Input and Output'!$C$30/SUM($K$2:$K$366)","v":1.9957309976563491}]
["2016-12-21",{"$f":"'Input and Output'!C390","v":-0.6},4,{"$f":"IF($C357<6,Lin_parameters_wd!B$9,Lin_parameters_wknd!B$10)","v":1.771938814155029},{"$f":"IF($C357<6,Lin_parameters_wd!C$9,Lin_parameters_wknd!C$10)","v":-9.5984753200240996E-2},{"$f":"IF($C357<6,Lin_parameters_wd!D$9,Lin_parameters_wknd!D$10)","v":0.40699471377216029},{"$f":"IF($C357<6,Lin_parameters_wd!E$9,Lin_parameters_wknd!E$10)","v":-1.2756454396407539E-2},{"$f":"IF($C357<6,Lin_parameters_wd!F$9,Lin_parameters_wknd!F$10)","v":16.399999999999999},1.771938814155029,-9.5984753200240996E-2,1.8295296660751736,{"$f":"$K357*'Input and Output'!$C$30/SUM($K$2:$K$366)","v":1.9648064170081398}]
["2016-12-22",{"$f":"'Input and Output'!C391","v":0.5},5,{"$f":"IF($C358<6,Lin_parameters_wd!B$9,Lin_parameters_wknd!B$10)","v":1.771938814155029},{"$f":"IF($C358<6,Lin_parameters_wd!C$9,Lin_parameters_wknd!C$10)","v":-9.5984753200240996E-2},{"$f":"IF($C358<6,Lin_parameters_wd!D$9,Lin_parameters_wknd!D$10)","v":0.40699471377216029},{"$f":"IF($C358<6,Lin_parameters_wd!E$9,Lin_parameters_wknd!E$10)","v":-1.2756454396407539E-2},{"$f":"IF($C358<6,Lin_parameters_wd!F$9,Lin_parameters_wknd!F$10)","v":16.399999999999999},1.771938814155029,-9.5984753200240996E-2,1.7239464375549085,{"$f":"$K358*'Input and Output'!$C$30/SUM($K$2:$K$366)","v":1.8514162879647065}]
["2016-12-23",{"$f":"'Input and Output'!C392","v":2.2999999999999998},6,{"$f":"IF($C359<6,Lin_parameters_wd!B$9,Lin_parameters_wknd!B$10)","v":1.31124751273035},{"$f":"IF($C359<6,Lin_parameters_wd!C$9,Lin_parameters_wknd!C$10)","v":-7.5310765362349638E-2},{"$f":"IF($C359<6,Lin_parameters_wd!D$9,Lin_parameters_wknd!D$10)","v":0.29524473618599389},{"$f":"IF($C359<6,Lin_parameters_wd!E$9,Lin_parameters_wknd!E$10)","v":-9.762199133681506E-3},{"$f":"IF($C359<6,Lin_parameters_wd!F$9,Lin_parameters_wknd!F$10)","v":15.5},1.31124751273035,-7.5310765362349638E-2,1.1380327523969458,{"$f":"$K359*'Input and Output'!$C$30/SUM($K$2:$K$366)","v":1.2221797198138897}]
["2016-12-24",{"$f":"'Input and Output'!C393","v":5.3},7,{"$f":"IF($C360<6,Lin_parameters_wd!B$9,Lin_parameters_wknd!B$10)","v":1.31124751273035},{"$f":"IF($C360<6,Lin_parameters_wd!C$9,Lin_parameters_wknd!C$10)","v":-7.5310765362349638E-2},{"$f":"IF($C360<6,Lin_parameters_wd!D$9,Lin_parameters_wknd!D$10)","v":0.29524473618599389},{"$f":"IF($C360<6,Lin_parameters_wd!E$9,Lin_parameters_wknd!E$10)","v":-9.762199133681506E-3},{"$f":"IF($C360<6,Lin_parameters_wd!F$9,Lin_parameters_wknd!F$10)","v":15.5},1.31124751273035,-7.5310765362349638E-2,0.91210045630989689,{"$f":"$K360*'Input and Output'!$C$30/SUM($K$2:$K$366)","v":0.97954182582798432}]
["2016-12-25",{"$f":"'Input and Output'!C394","v":7.1},1,{"$f":"IF($C361<6,Lin_parameters_wd!B$9,Lin_parameters_wknd!B$10)","v":1.771938814155029},{"$f":"IF($C361<6,Lin_parameters_wd!C$9,Lin_parameters_wknd!C$10)","v":-9.5984753200240996E-2},{"$f":"IF($C361<6,Lin_parameters_wd!D$9,Lin_parameters_wknd!D$10)","v":0.40699471377216029},{"$f":"IF($C361<6,Lin_parameters_wd!E$9,Lin_parameters_wknd!E$10)","v":-1.2756454396407539E-2},{"$f":"IF($C361<6,Lin_parameters_wd!F$9,Lin_parameters_wknd!F$10)","v":16.399999999999999},1.771938814155029,-9.5984753200240996E-2,1.0904470664333179,{"$f":"$K361*'Input and Output'!$C$30/SUM($K$2:$K$366)","v":1.1710755137041056}]
["2016-12-26",{"$f":"'Input and Output'!C395","v":7},2,{"$f":"IF($C362<6,Lin_parameters_wd!B$9,Lin_parameters_wknd!B$10)","v":1.771938814155029},{"$f":"IF($C362<6,Lin_parameters_wd!C$9,Lin_parameters_wknd!C$10)","v":-9.5984753200240996E-2},{"$f":"IF($C362<6,Lin_parameters_wd!D$9,Lin_parameters_wknd!D$10)","v":0.40699471377216029},{"$f":"IF($C362<6,Lin_parameters_wd!E$9,Lin_parameters_wknd!E$10)","v":-1.2756454396407539E-2},{"$f":"IF($C362<6,Lin_parameters_wd!F$9,Lin_parameters_wknd!F$10)","v":16.399999999999999},1.771938814155029,-9.5984753200240996E-2,1.1000455417533419,{"$f":"$K362*'Input and Output'!$C$30/SUM($K$2:$K$366)","v":1.1813837072535085}]
["2016-12-27",{"$f":"'Input and Output'!C396","v":6},3,{"$f":"IF($C363<6,Lin_parameters_wd!B$9,Lin_parameters_wknd!B$10)","v":1.771938814155029},{"$f":"IF($C363<6,Lin_parameters_wd!C$9,Lin_parameters_wknd!C$10)","v":-9.5984753200240996E-2},{"$f":"IF($C363<6,Lin_parameters_wd!D$9,Lin_parameters_wknd!D$10)","v":0.40699471377216029},{"$f":"IF($C363<6,Lin_parameters_wd!E$9,Lin_parameters_wknd!E$10)","v":-1.2756454396407539E-2},{"$f":"IF($C363<6,Lin_parameters_wd!F$9,Lin_parameters_wknd!F$10)","v":16.399999999999999},1.771938814155029,-9.5984753200240996E-2,1.196030294953583,{"$f":"$K363*'Input and Output'!$C$30/SUM($K$2:$K$366)","v":1.2844656427475389}]
["2016-12-28",{"$f":"'Input and Output'!C397","v":5.3},4,{"$f":"IF($C364<6,Lin_parameters_wd!B$9,Lin_parameters_wknd!B$10)","v":1.771938814155029},{"$f":"IF($C364<6,Lin_parameters_wd!C$9,Lin_parameters_wknd!C$10)","v":-9.5984753200240996E-2},{"$f":"IF($C364<6,Lin_parameters_wd!D$9,Lin_parameters_wknd!D$10)","v":0.40699471377216029},{"$f":"IF($C364<6,Lin_parameters_wd!E$9,Lin_parameters_wknd!E$10)","v":-1.2756454396407539E-2},{"$f":"IF($C364<6,Lin_parameters_wd!F$9,Lin_parameters_wknd!F$10)","v":16.399999999999999},1.771938814155029,-9.5984753200240996E-2,1.2632196221937517,{"$f":"$K364*'Input and Output'!$C$30/SUM($K$2:$K$366)","v":1.3566229975933601}]
["2016-12-29",{"$f":"'Input and Output'!C398","v":1.8},5,{"$f":"IF($C365<6,Lin_parameters_wd!B$9,Lin_parameters_wknd!B$10)","v":1.771938814155029},{"$f":"IF($C365<6,Lin_parameters_wd!C$9,Lin_parameters_wknd!C$10)","v":-9.5984753200240996E-2},{"$f":"IF($C365<6,Lin_parameters_wd!D$9,Lin_parameters_wknd!D$10)","v":0.40699471377216029},{"$f":"IF($C365<6,Lin_parameters_wd!E$9,Lin_parameters_wknd!E$10)","v":-1.2756454396407539E-2},{"$f":"IF($C365<6,Lin_parameters_wd!F$9,Lin_parameters_wknd!F$10)","v":16.399999999999999},1.771938814155029,-9.5984753200240996E-2,1.5991662583945951,{"$f":"$K365*'Input and Output'!$C$30/SUM($K$2:$K$366)","v":1.7174097718224668}]
["2016-12-30",{"$f":"'Input and Output'!C399","v":-1},6,{"$f":"IF($C366<6,Lin_parameters_wd!B$9,Lin_parameters_wknd!B$10)","v":1.31124751273035},{"$f":"IF($C366<6,Lin_parameters_wd!C$9,Lin_parameters_wknd!C$10)","v":-7.5310765362349638E-2},{"$f":"IF($C366<6,Lin_parameters_wd!D$9,Lin_parameters_wknd!D$10)","v":0.29524473618599389},{"$f":"IF($C366<6,Lin_parameters_wd!E$9,Lin_parameters_wknd!E$10)","v":-9.762199133681506E-3},{"$f":"IF($C366<6,Lin_parameters_wd!F$9,Lin_parameters_wknd!F$10)","v":15.5},1.31124751273035,-7.5310765362349638E-2,1.3865582780926997,{"$f":"$K366*'Input and Output'!$C$30/SUM($K$2:$K$366)","v":1.4890814031983854}]
[{"$f":"A366+1","v":"2016-12-31"},{"$f":"'Input and Output'!C400","v":-3.4},7,{"$f":"IF($C367<6,Lin_parameters_wd!B$9,Lin_parameters_wknd!B$10)","v":1.31124751273035},{"$f":"IF($C367<6,Lin_parameters_wd!C$9,Lin_parameters_wknd!C$10)","v":-7.5310765362349638E-2},{"$f":"IF($C367<6,Lin_parameters_wd!D$9,Lin_parameters_wknd!D$10)","v":0.29524473618599389},{"$f":"IF($C367<6,Lin_parameters_wd!E$9,Lin_parameters_wknd!E$10)","v":-9.762199133681506E-3},{"$f":"IF($C367<6,Lin_parameters_wd!F$9,Lin_parameters_wknd!F$10)","v":15.5},1.31124751273035,-7.5310765362349638E-2,1.5673041149623388,{"$f":"$K367*'Input and Output'!$C$30/SUM($K$2:$K$366)","v":1.6831917183871099}]

{"sheet":"Lin_parameters_wd","index":2,"n_rows":9,"n_cols":6,"rows_kept":9,"cut":false,"hidden":false,"merged":[[0,0,0,5],[6,0,6,5]]}
["Linear regregression paramaters for working days:"]
[null,"b_h","m_h","b_w","m_w","t_hl"]
[0,1.085192073005006,-1.544218835154681E-2,1.0609861866589789,-7.0953309908476907E-3,2.9]
[1,1.4695351264848711,-5.875924024232846E-2,0.67790786498212752,-1.3263420615734021E-2,17.399999999999999]
[2,1.771938814155029,-9.5984753200240996E-2,0.40699471377216029,-1.2756454396407539E-2,16.399999999999999]
[3,2.5404025087253199,-0.17801624965770491,0.52104102880341097,-2.1476600051355411E-2,12.9]
["Linear regression paramaters for selected working day cluster:"]
[null,"b_h","m_h","b_w","m_w","t_hl"]
[{"$f":"VLOOKUP('Input and Output'!$C$28,Lin_parameters_wd!$A$2:$F$6,1,FALSE)","v":2},{"$f":"VLOOKUP('Input and Output'!$C$28,Lin_parameters_wd!$A$2:$F$6,2,FALSE)","v":1.771938814155029},{"$f":"VLOOKUP('Input and Output'!$C$28,Lin_parameters_wd!$A$2:$F$6,3,FALSE)","v":-9.5984753200240996E-2},{"$f":"VLOOKUP('Input and Output'!$C$28,Lin_parameters_wd!$A$2:$F$6,4,FALSE)","v":0.40699471377216029},{"$f":"VLOOKUP('Input and Output'!$C$28,Lin_parameters_wd!$A$2:$F$6,5,FALSE)","v":-1.2756454396407539E-2},{"$f":"VLOOKUP('Input and Output'!$C$28,Lin_parameters_wd!$A$2:$F$6,6,FALSE)","v":16.399999999999999}]

{"sheet":"Lin_parameters_wknd","index":3,"n_rows":10,"n_cols":6,"rows_kept":10,"cut":false,"hidden":false,"merged":[[0,0,0,5],[7,0,7,5]]}
["Linear regregression paramaters for weekends and holidays:"]
[null,"b_h","m_h","b_w","m_w","t_hl"]
[0,0.88136675487947747,-1.236743869637378E-2,0.66609297291086311,-3.4097042997074749E-4,17.899999999999999]
[1,0.40529111994771311,-1.3226323007097701E-2,0.19607255136472959,-6.2279477920712143E-4,16.600000000000001]
[2,1.4791569663107089,-6.6119920832722404E-2,0.65274423464211173,-1.60343007315953E-2,16.5]
[3,1.31124751273035,-7.5310765362349638E-2,0.29524473618599389,-9.762199133681506E-3,15.5]
[4,1.9424956480203619,-0.1200596025795522,0.44487676601187343,-1.748296682554611E-2,14.6]
["Linear regression paramaters for selected weekend and holiday cluster:"]
[null,"b_h","m_h","b_w","m_w","t_hl"]
[{"$f":"VLOOKUP('Input and Output'!$C$29,Lin_parameters_wknd!$A$2:$F$7,1,FALSE)","v":3},{"$f":"VLOOKUP('Input and Output'!$C$29,Lin_parameters_wknd!$A$2:$F$7,2,FALSE)","v":1.31124751273035},{"$f":"VLOOKUP('Input and Output'!$C$29,Lin_parameters_wknd!$A$2:$F$7,3,FALSE)","v":-7.5310765362349638E-2},{"$f":"VLOOKUP('Input and Output'!$C$29,Lin_parameters_wknd!$A$2:$F$7,4,FALSE)","v":0.29524473618599389},{"$f":"VLOOKUP('Input and Output'!$C$29,Lin_parameters_wknd!$A$2:$F$7,5,FALSE)","v":-9.762199133681506E-3},{"$f":"VLOOKUP('Input and Output'!$C$29,Lin_parameters_wknd!$A$2:$F$7,6,FALSE)","v":15.5}]